Felt | Verdi |
AlreadyApplied | True |
Aperture | 2.8 |
ApertureValue | 2.8 |
ApproximateFocusDistance | 0.39 |
BitsPerSample (1) | 8 8 8 |
BitsPerSample | 8 |
BlueHue | 0 |
BlueSaturation | 0 |
Brightness | 0 |
CameraProfile | Embedded |
ChromaticAberrationB | 0 |
ChromaticAberrationR | 0 |
CircleOfConfusion | 0.006 mm |
Clarity | 0 |
ColorComponents | 3 |
ColorMode | RGB |
ColorNoiseReduction | 0 |
ColorSpace | sRGB |
Contrast | 0 |
ConvertToGrayscale | False |
CreateDate (1) | 2013:04:06 10:25:43+02:00 |
CreateDate | 2013:04:06 10:25:43 |
CreatorTool | Adobe Photoshop Lightroom 3.3 |
CropAngle | -11.0318 |
CropBottom | 0.797517 |
CropConstrainToWarp | 0 |
CropHeight | 970 |
CropLeft | 0.249747 |
CropRight | 0.999925 |
CropTop | 0.168665 |
CropUnit | pixels |
CropWidth | 1034 |
CustomRendered | Normal |
DateCreated (1) | 2013:04:06 |
DateCreated | 2013:04:06 10:25:43 |
DateTimeOriginal | 2013:04:06 10:25:43 |
Defringe | 0 |
DigitalZoomRatio | 1 |
DOF | 0.10 m (0.35 - 0.45 m) |
ExifImageHeight | 999 |
ExifImageWidth | 1063 |
Exposure | 0.00 |
ExposureCompensation | +5/3 |
ExposureMode | Manual |
ExposureTime | 1/60 |
FillLight | 0 |
Firmware | 1.00 |
Flash | Auto, Fired, Red-eye reduction |
FlashCompensation | 0 |
FNumber | 2.8 |
FocalLength | 7.3 mm |
FocalLength35efl | 7.3 mm (35 mm equivalent: 35.0 mm) |
Format | image/jpeg |
FOV | 54.4 deg |
GrainAmount | 0 |
GreenHue | 0 |
GreenSaturation | 0 |
HasCrop | True |
HasSettings | True |
HighlightRecovery | 0 |
HueAdjustmentAqua | 0 |
HueAdjustmentBlue | 0 |
HueAdjustmentGreen | 0 |
HueAdjustmentMagenta | 0 |
HueAdjustmentOrange | 0 |
HueAdjustmentPurple | 0 |
HueAdjustmentRed | 0 |
HueAdjustmentYellow | 0 |
HyperfocalDistance | 3.04 m |
ICCProfileName | sRGB IEC61966-2.1 |
ImageHeight (1) | 970 |
ImageHeight | 999 |
ImageSize | 1063x999 |
ImageWidth (1) | 1034 |
ImageWidth | 1063 |
IncrementalTemperature | 0 |
IncrementalTint | 0 |
Lens | 7.3-29.2 mm |
LensInfo | 7.3-29.2mm f/? |
LensManualDistortionAmount | 0 |
LensModel | 7.3-29.2 mm |
LensProfileEnable | 0 |
LensProfileSetup | LensDefaults |
LuminanceAdjustmentAqua | 0 |
LuminanceAdjustmentBlue | 0 |
LuminanceAdjustmentGreen | 0 |
LuminanceAdjustmentMagenta | 0 |
LuminanceAdjustmentOrange | 0 |
LuminanceAdjustmentPurple | 0 |
LuminanceAdjustmentRed | 0 |
LuminanceAdjustmentYellow | 0 |
LuminanceSmoothing | 0 |
Make | Canon |
MaxApertureValue | 2.8 |
Megapixels | 1.1 |
MeteringMode | Multi-segment |
Model | Canon PowerShot A620 |
ModifyDate (1) | 2013:04:08 18:27:23+02:00 |
ModifyDate | 2013:04:08 18:27:23 |
Orientation | Horizontal (normal) |
ParametricDarks | -86 |
ParametricHighlights | 0 |
ParametricHighlightSplit | 75 |
ParametricLights | -52 |
ParametricMidtoneSplit | 50 |
ParametricShadows | 0 |
ParametricShadowSplit | 25 |
PerspectiveHorizontal | 0 |
PerspectiveRotate | 0.0 |
PerspectiveScale | 100 |
PerspectiveVertical | 0 |
PhotometricInterpretation | RGB |
PostCropVignetteAmount | -20 |
PostCropVignetteFeather | 50 |
PostCropVignetteHighlightContrast | 0 |
PostCropVignetteMidpoint | 50 |
PostCropVignetteRoundness | 0 |
PostCropVignetteStyle | 1 |
ProcessVersion | 5.7 |
ProfileDescription | sRGB IEC61966-2.1 |
Rating | 5 |
RedHue | 0 |
RedSaturation | 0 |
Saturation | 0 |
SaturationAdjustmentAqua | 0 |
SaturationAdjustmentBlue | +56 |
SaturationAdjustmentGreen | 0 |
SaturationAdjustmentMagenta | 0 |
SaturationAdjustmentOrange | +65 |
SaturationAdjustmentPurple | 0 |
SaturationAdjustmentRed | +90 |
SaturationAdjustmentYellow | +49 |
ScaleFactor35efl | 4.8 |
SceneCaptureType | Standard |
SensingMethod | One-chip color area |
SensitivityType | Unknown |
Shadows | 31 |
ShadowTint | 0 |
SharpenDetail | 25 |
SharpenEdgeMasking | 0 |
SharpenRadius | +1.0 |
Sharpness | 0 |
ShutterSpeed | 1/60 |
ShutterSpeedValue | 1/60 |
Software | Adobe Photoshop CS5 Macintosh |
SplitToningBalance | 0 |
SplitToningHighlightHue | 0 |
SplitToningHighlightSaturation | 0 |
SplitToningShadowHue | 0 |
SplitToningShadowSaturation | 0 |
SubjectDistance | 0.39 m |
ToneCurve | 0, 0, 255, 255 |
ToneCurveName | Linear |
URL_List | |
Version | 6.3 |
Vibrance | 0 |
VignetteAmount | 0 |
WhiteBalance (1) | As Shot |
WhiteBalance | Manual |