Felt | Verdi |
AlreadyApplied | True |
AutoLateralCA | 1 |
BitsPerSample | 8 |
Blacks2012 | +26 |
BlueHue | 0 |
BlueSaturation | 0 |
CameraProfile | Embedded |
Clarity2012 | +38 |
ColorComponents | 3 |
ColorMode | RGB |
ColorNoiseReduction | 47 |
ColorNoiseReductionDetail | 59 |
ColorSpace | sRGB |
Contrast2012 | +63 |
ConvertToGrayscale | True |
CreateDate | 2013:01:07 13:35:57+01:00 |
CreatorTool | Adobe Photoshop Lightroom 4.1 (Windows) |
ExifImageHeight | 850 |
ExifImageWidth | 1200 |
Exposure2012 | 0.00 |
Format | image/jpeg |
GrainAmount | 0 |
GrayMixerAqua | -14 |
GrayMixerBlue | +22 |
GrayMixerGreen | -30 |
GrayMixerMagenta | +6 |
GrayMixerOrange | -23 |
GrayMixerPurple | +24 |
GrayMixerRed | -13 |
GrayMixerYellow | -28 |
GreenHue | 0 |
GreenSaturation | 0 |
HasCrop | False |
HasSettings | True |
Highlights2012 | 0 |
ICCProfileName | sRGB IEC61966-2.1 |
ImageHeight | 850 |
ImageSize | 1200x850 |
ImageWidth | 1200 |
IncrementalTemperature | 0 |
IncrementalTint | 0 |
LensManualDistortionAmount | 0 |
LensProfileEnable | 0 |
LensProfileSetup | LensDefaults |
LuminanceNoiseReductionContrast | 46 |
LuminanceNoiseReductionDetail | 65 |
LuminanceSmoothing | 56 |
Make | Nikon |
Megapixels | 1.0 |
Model | Nikon COOLSCAN V ED |
ModifyDate (1) | 2013:01:07 20:21:25+01:00 |
ModifyDate | 2013:01:07 20:21:25 |
Orientation | Horizontal (normal) |
ParametricDarks | 0 |
ParametricHighlights | 0 |
ParametricHighlightSplit | 75 |
ParametricLights | 0 |
ParametricMidtoneSplit | 50 |
ParametricShadows | 0 |
ParametricShadowSplit | 25 |
PerspectiveHorizontal | 0 |
PerspectiveRotate | 0.0 |
PerspectiveScale | 100 |
PerspectiveVertical | 0 |
PostCropVignetteAmount | 0 |
ProcessVersion | 6.7 |
ProfileDescription | sRGB IEC61966-2.1 |
RedHue | 0 |
RedSaturation | 0 |
Shadows2012 | +5 |
ShadowTint | 0 |
SharpenDetail | 79 |
SharpenEdgeMasking | 69 |
SharpenRadius | +2.7 |
Sharpness | 102 |
Software | Adobe Photoshop Elements 9.0 Windows |
SplitToningBalance | 0 |
SplitToningHighlightHue | 0 |
SplitToningHighlightSaturation | 0 |
SplitToningShadowHue | 0 |
SplitToningShadowSaturation | 0 |
ToneCurveName2012 | Linear |
ToneCurvePV2012 | 0, 0, 255, 255 |
ToneCurvePV2012Blue | 0, 0, 255, 255 |
ToneCurvePV2012Green | 0, 0, 255, 255 |
ToneCurvePV2012Red | 0, 0, 255, 255 |
URL_List | |
Version | 7.1 |
VignetteAmount | 0 |
WhiteBalance | As Shot |
Whites2012 | +48 |