Felt | Verdi |
AlreadyApplied | True |
Aperture | 11.0 |
ApertureValue | 11.0 |
ApproximateFocusDistance | 4294967295 |
Artist | Kurt Gaasø |
AuthorsPosition | Photographer |
AutoLateralCA | 1 |
BitsPerSample | 8 |
Blacks2012 | 0 |
BlueHue | 0 |
BlueSaturation | 0 |
By-line | Kurt Gaasø |
By-lineTitle | Photographer |
CameraProfile | Adobe Standard |
CircleOfConfusion | 0.031 mm |
Clarity2012 | +23 |
ColorComponents | 1 |
ColorMode | RGB |
ColorNoiseReduction | 33 |
ColorNoiseReductionDetail | 50 |
ColorSpace | Uncalibrated |
ColorTemperature | 3165 |
Contrast2012 | +33 |
ConvertToGrayscale | True |
Copyright | Kurt Gaasø |
CopyrightFlag | True |
CopyrightNotice | Kurt Gaasø |
CreateDate (1) | 2012:04:26 07:21:01.83 |
CreateDate | 2012:04:26 07:21:01 |
Creator | Kurt Gaasø |
CreatorTool | Adobe Photoshop CS5.1 Macintosh |
CreatorWorkEmail | goga@online.no |
CreatorWorkURL | www.mediaspace.biz |
CropAngle | 0 |
CropBottom | 0.921911 |
CropConstrainToWarp | 0 |
CropHeight | 3329 |
CropLeft | 0 |
CropRight | 0.889226 |
CropTop | 0.032685 |
CropUnit | pixels |
CropWidth | 4994 |
CustomRendered | Normal |
DateCreated (1) | 2012:04:26 |
DateCreated | 2012:04:26 07:21:01.083 |
DateTimeOriginal | 2012:04:26 07:21:01 |
DOF | inf (3.83 m - inf) |
ExifImageHeight | 999 |
ExifImageWidth | 1498 |
Exposure2012 | +0.10 |
ExposureCompensation | 0 |
ExposureMode | Manual |
ExposureProgram | Manual |
ExposureTime | 15 |
Firmware | 2.0.4 |
Flash | Off, Did not fire |
FlashCompensation | 0 |
FNumber | 11.0 |
FocalLength | 36.0 mm |
FocalLength35efl | 36.0 mm (35 mm equivalent: 35.1 mm) |
Format | image/jpeg |
FOV | 54.3 deg |
GradientBasedCorrActive | true |
GradientBasedCorrAmount | 1.000000 |
GradientBasedCorrBrightness (1) | 0.000000 |
GradientBasedCorrBrightness (2) | 0.172580 |
GradientBasedCorrBrightness | 0.146147 |
GradientBasedCorrClarity2012 | 0.000000 |
GradientBasedCorrContrast2012 (1) | 0.433212 |
GradientBasedCorrContrast2012 | 0.000000 |
GradientBasedCorrDefringe | 0.000000 |
GradientBasedCorrExposure2012 (1) | 0.117657 |
GradientBasedCorrExposure2012 (2) | 0.242011 |
GradientBasedCorrExposure2012 | 0.183212 |
GradientBasedCorrHighlights2012 | 0.000000 |
GradientBasedCorrHue (1) | 211.675995 |
GradientBasedCorrHue (2) | 160.574005 |
GradientBasedCorrHue | 41.375000 |
GradientBasedCorrLuminanceNoise | 0.000000 |
GradientBasedCorrMaskFullX (1) | 0.499368 |
GradientBasedCorrMaskFullX (2) | 0.668221 |
GradientBasedCorrMaskFullX | 0.221703 |
GradientBasedCorrMaskFullY (1) | 0.860101 |
GradientBasedCorrMaskFullY (2) | 0.129345 |
GradientBasedCorrMaskFullY | 0.868781 |
GradientBasedCorrMaskValue | 1.000000 |
GradientBasedCorrMaskWhat | Mask/Gradient |
GradientBasedCorrMaskZeroX (1) | 0.481023 |
GradientBasedCorrMaskZeroX (2) | 0.515605 |
GradientBasedCorrMaskZeroX | 0.319060 |
GradientBasedCorrMaskZeroY (1) | 0.411540 |
GradientBasedCorrMaskZeroY (2) | 0.495380 |
GradientBasedCorrMaskZeroY | 0.587163 |
GradientBasedCorrMoire | 0.000000 |
GradientBasedCorrSaturation (1) | 0.027432 |
GradientBasedCorrSaturation (3) | 0.130522 |
GradientBasedCorrSaturation | 0.000000 |
GradientBasedCorrShadows2012 | 0.000000 |
GradientBasedCorrSharpness | 0.000000 |
GradientBasedCorrTemperature | 0.000000 |
GradientBasedCorrTint | 0.000000 |
GradientBasedCorrWhat | Correction |
GrainAmount | 0 |
GrayMixerAqua | -18 |
GrayMixerBlue | +10 |
GrayMixerGreen | -26 |
GrayMixerMagenta | +6 |
GrayMixerOrange | -17 |
GrayMixerPurple | +17 |
GrayMixerRed | -8 |
GrayMixerYellow | -22 |
GreenHue | 0 |
GreenSaturation | 0 |
HasCrop | True |
HasSettings | True |
Highlights2012 | -100 |
HyperfocalDistance | 3.83 m |
ICCProfileName | Adobe RGB (1998) |
ImageHeight | 999 |
ImageNumber | 0 |
ImageSize | 1498x999 |
ImageWidth | 1498 |
ISO | 400 |
Keywords | Las Vegas, cityscapes |
Lens | EF17-40mm f/4L USM |
LensID (1) | 231 |
LensID | Canon EF 17-40mm f/4L USM |
LensInfo | 17-40mm f/? |
LensManualDistortionAmount | 0 |
LensModel | EF17-40mm f/4L USM |
LensProfileChromaticAberrationScale | 100 |
LensProfileDistortionScale | 100 |
LensProfileEnable | 1 |
LensProfileFilename | Canon EOS-1Ds Mark III (Canon EF 17-40mm f4 L USM) - RAW.lcp |
LensProfileName | Adobe (Canon EF 17-40mm f/4 L USM) |
LensProfileSetup | LensDefaults |
LensProfileVignettingScale | 100 |
LightValue | 1.0 |
LuminanceNoiseReductionContrast | 0 |
LuminanceNoiseReductionDetail | 50 |
LuminanceSmoothing | 38 |
Make | Canon |
Marked | True |
MaxApertureValue | 4.0 |
Megapixels | 1.5 |
MeteringMode | Partial |
Model | Canon EOS 5D Mark II |
ModifyDate (1) | 2012:07:18 18:35:10+02:00 |
ModifyDate | 2012:07:18 18:35:10 |
Orientation | Horizontal (normal) |
ParametricDarks | 0 |
ParametricHighlights | +28 |
ParametricHighlightSplit | 75 |
ParametricLights | 0 |
ParametricMidtoneSplit | 50 |
ParametricShadows | -10 |
ParametricShadowSplit | 25 |
PerspectiveHorizontal | 0 |
PerspectiveRotate | 0.0 |
PerspectiveScale | 100 |
PerspectiveVertical | 0 |
PostCropVignetteAmount | 0 |
ProcessVersion | 6.7 |
ProfileDescription | Adobe RGB (1998) |
Rating | 3 |
RedHue | 0 |
RedSaturation | 0 |
Rights | Kurt Gaasø |
ScaleFactor35efl | 1.0 |
SceneCaptureType | Standard |
SerialNumber | 630311499 |
Shadows2012 | -29 |
ShadowTint | 0 |
SharpenDetail | 25 |
SharpenEdgeMasking | 78 |
SharpenRadius | +1.0 |
Sharpness | 51 |
ShutterSpeed | 15 |
ShutterSpeedValue | 15 |
Software | Adobe Photoshop CS5.1 Macintosh |
SplitToningBalance | 0 |
SplitToningHighlightHue | 0 |
SplitToningHighlightSaturation | 0 |
SplitToningShadowHue | 0 |
SplitToningShadowSaturation | 0 |
Subject | Las Vegas, cityscapes |
SubjectDistance | 4294967295 m |
Tint | +28 |
ToneCurveName2012 | Linear |
ToneCurvePV2012 | 0, 0, 255, 255 |
ToneCurvePV2012Blue | 0, 0, 255, 255 |
ToneCurvePV2012Green | 0, 0, 255, 255 |
ToneCurvePV2012Red | 0, 0, 255, 255 |
URL | www.mediaspace.biz |
URL_List | |
Version | 7.1 |
VignetteAmount | 0 |
WebStatement | www.mediaspace.biz |
WhiteBalance (1) | Custom |
WhiteBalance | Auto |
Whites2012 | -23 |