Felt | Verdi |
AlreadyApplied | True |
Aperture | 5.6 |
ApertureValue | 5.6 |
BitsPerSample | 8 |
BlueHue | +11 |
BlueSaturation | -70 |
Brightness | +57 |
CameraProfile | Adobe Standard |
ChromaticAberrationB | 0 |
ChromaticAberrationR | 0 |
CircleOfConfusion | 0.019 mm |
Clarity | 0 |
ColorComponents | 3 |
ColorNoiseReduction | 25 |
ColorTemperature | 12500 |
Contrast | +39 |
ConvertToGrayscale | False |
CreateDate (1) | 2012:05:06 18:51:31.50+02:00 |
CreateDate | 2012:05:06 18:51:31 |
CreatorTool | Adobe Photoshop Lightroom |
CropAngle | -11.8354 |
CropBottom | 0.81515 |
CropHeight | 1793 |
CropLeft | 0.194387 |
CropRight | 0.859858 |
CropTop | 0.44595 |
CropUnit | pixels |
CropWidth | 2855 |
CustomRendered | Normal |
DateTimeDigitized | 2012:05:06 18:51:31.50+02:00 |
DateTimeOriginal (1) | 2012:05:06 18:51:31.50+02:00 |
DateTimeOriginal | 2012:05:06 18:51:31 |
Defringe | 0 |
DOF | 0.18 m (1.37 - 1.55 m) |
ExifImageHeight | 2855 |
ExifImageWidth | 1793 |
Exposure | +0.75 |
ExposureCompensation | 0 |
ExposureMode | Auto |
ExposureProgram | Program AE |
ExposureTime | 1/200 |
FillLight | 0 |
Firmware | 1.0.9 |
Flash | On, Fired |
FlashCompensation | 0 |
FlashFired | True |
FlashFunction | False |
FlashMode | On |
FlashRedEyeMode | False |
FlashReturn | No return detection |
FNumber | 5.6 |
FocalLength | 49.0 mm |
FocalLength35efl | 49.0 mm (35 mm equivalent: 77.8 mm) |
FOV | 26.1 deg |
GradientBasedCorrActive | true |
GradientBasedCorrAmount | 1.000000 |
GradientBasedCorrBrightness | 0.000000 |
GradientBasedCorrClarity | 0.000000 |
GradientBasedCorrContrast | 0.000000 |
GradientBasedCorrExposure (1) | 0.325000 |
GradientBasedCorrExposure | 0.525000 |
GradientBasedCorrHue | 0.000000 |
GradientBasedCorrMaskFullX (1) | 0.316547 |
GradientBasedCorrMaskFullX | 0.195968 |
GradientBasedCorrMaskFullY (1) | 0.413949 |
GradientBasedCorrMaskFullY | 0.053934 |
GradientBasedCorrMaskValue | 1.000000 |
GradientBasedCorrMaskWhat | Mask/Gradient |
GradientBasedCorrMaskZeroX (1) | 0.493835 |
GradientBasedCorrMaskZeroX | 0.206873 |
GradientBasedCorrMaskZeroY (1) | 0.806643 |
GradientBasedCorrMaskZeroY | 0.068303 |
GradientBasedCorrSaturation | 0.000000 |
GradientBasedCorrSharpness | 0.000000 |
GradientBasedCorrWhat | Correction |
GreenHue | +11 |
GreenSaturation | +25 |
HasCrop | True |
HasSettings | True |
HighlightRecovery | 0 |
HueAdjustmentAqua | 0 |
HueAdjustmentBlue | 0 |
HueAdjustmentGreen | 0 |
HueAdjustmentMagenta | 0 |
HueAdjustmentOrange | 0 |
HueAdjustmentPurple | 0 |
HueAdjustmentRed | 0 |
HueAdjustmentYellow | 0 |
HyperfocalDistance | 22.66 m |
ImageHeight | 2855 |
ImageNumber | 0 |
ImageSize | 1793x2855 |
ImageWidth | 1793 |
ISO | 400 |
Lens | EF-S18-55mm f/3.5-5.6 IS |
LensID (1) | 48 |
LensID | Canon EF-S 18-55mm f/3.5-5.6 IS |
LensInfo | 18-55mm f/? |
LightValue | 10.6 |
LuminanceAdjustmentAqua | 0 |
LuminanceAdjustmentBlue | 0 |
LuminanceAdjustmentGreen | 0 |
LuminanceAdjustmentMagenta | 0 |
LuminanceAdjustmentOrange | 0 |
LuminanceAdjustmentPurple | 0 |
LuminanceAdjustmentRed | 0 |
LuminanceAdjustmentYellow | 0 |
LuminanceSmoothing | 0 |
Make | Canon |
MaxApertureValue | 5.4 |
Megapixels | 5.1 |
MeteringMode | Multi-segment |
Model | Canon EOS 500D |
ModifyDate (1) | 2012:05:06 20:16:29+02:00 |
ModifyDate | 2012:05:06 20:16:29 |
PaintCorrectionActive | true |
PaintCorrectionAmount | 1.000000 |
PaintCorrectionBrightness | 0.000000 |
PaintCorrectionClarity | 0.000000 |
PaintCorrectionContrast | 0.000000 |
PaintCorrectionExposure | 0.100000 |
PaintCorrectionHue | 0.000000 |
PaintCorrectionMaskCenterWeight | 0.000000 |
PaintCorrectionMaskFlow | 1.000000 |
PaintCorrectionMaskRadius | 0.003623 |
PaintCorrectionMaskValue | 1.000000 |
PaintCorrectionMaskWhat | Mask/Paint |
PaintCorrectionSaturation | 0.000000 |
PaintCorrectionSharpness | 0.000000 |
PaintCorrectionWhat | Correction |
ParametricDarks | +24 |
ParametricHighlights | +52 |
ParametricHighlightSplit | 75 |
ParametricLights | -5 |
ParametricMidtoneSplit | 50 |
ParametricShadows | 0 |
ParametricShadowSplit | 25 |
PostCropVignetteAmount | 0 |
ProfileDescription | sRGB IEC61966-2.1 |
RedHue | +96 |
RedSaturation | +3 |
Saturation | -71 |
SaturationAdjustmentAqua | 0 |
SaturationAdjustmentBlue | 0 |
SaturationAdjustmentGreen | 0 |
SaturationAdjustmentMagenta | 0 |
SaturationAdjustmentOrange | 0 |
SaturationAdjustmentPurple | 0 |
SaturationAdjustmentRed | 0 |
SaturationAdjustmentYellow | 0 |
ScaleFactor35efl | 1.6 |
SceneCaptureType | Standard |
SerialNumber | 1180414806 |
Shadows | 11 |
ShadowTint | +8 |
SharpenDetail | 25 |
SharpenEdgeMasking | 0 |
SharpenRadius | +1.0 |
Sharpness | 25 |
ShutterSpeed | 1/200 |
ShutterSpeedValue | 1/200 |
SplitToningBalance | 0 |
SplitToningHighlightHue | 0 |
SplitToningHighlightSaturation | 0 |
SplitToningShadowHue | 0 |
SplitToningShadowSaturation | 0 |
SubjectDistance | 1.45 m |
Tint | +35 |
ToneCurve | 0, 0, 255, 255 |
ToneCurveName | Linear |
Version | 5.6 |
Vibrance | 0 |
VignetteAmount | -61 |
VignetteMidpoint | 34 |
WhiteBalance (2) | Custom |
WhiteBalance | Auto |