Felt | Verdi |
AlreadyApplied | True |
Aperture | 7.1 |
ApertureValue | 7.1 |
ApproximateFocusDistance | 1.48 |
BitsPerSample | 8 |
BlueHue | 0 |
BlueSaturation | 0 |
Brightness | +56 |
CameraProfile | Adobe Standard |
ChromaticAberrationB | 0 |
ChromaticAberrationR | 0 |
CircleOfConfusion | 0.031 mm |
Clarity | +82 |
ColorComponents | 3 |
ColorMode | RGB |
ColorNoiseReduction | 36 |
ColorNoiseReductionDetail | 50 |
ColorSpace | Uncalibrated |
ColorTemperature | 6450 |
Contrast | +25 |
ConvertToGrayscale | False |
Copyright | Ole_Remi_Kristiansen2011 |
CopyrightNotice | Ole_Remi_Kristiansen2011 |
CreateDate (1) | 2012:05:12 22:15:23.67 |
CreateDate | 2012:05:12 22:15:23 |
CreatorTool | Adobe Photoshop CS5 Macintosh |
CropAngle | 8.65912 |
CropBottom | 0.994544 |
CropConstrainToWarp | 1 |
CropLeft | 0.475324 |
CropRight | 0.812729 |
CropTop | 0.002667 |
CustomRendered | Normal |
DateCreated (1) | 2012:05:12 |
DateCreated | 2012:05:12 22:15:23.067 |
DateTimeOriginal | 2012:05:12 22:15:23 |
Defringe | 0 |
DOF | 2.35 m (0.95 - 3.31 m) |
ExifImageHeight | 3386 |
ExifImageWidth | 2433 |
Exposure | 0.00 |
ExposureCompensation | 0 |
ExposureMode | Auto |
ExposureProgram | Aperture-priority AE |
ExposureTime | 1/15 |
FillLight | 18 |
Firmware | 2.0.8 |
Flash | Off, Did not fire |
FlashCompensation | 0 |
FNumber | 7.1 |
FocalLength | 24.0 mm |
FocalLength35efl | 24.0 mm (35 mm equivalent: 23.4 mm) |
Format | image/jpeg |
FOV | 75.1 deg |
GradientBasedCorrActive | true |
GradientBasedCorrAmount | 1.000000 |
GradientBasedCorrBrightness | 0.000000 |
GradientBasedCorrClarity | -0.040000 |
GradientBasedCorrContrast | 0.000000 |
GradientBasedCorrExposure (1) | -0.262500 |
GradientBasedCorrExposure (2) | 0.062500 |
GradientBasedCorrExposure (3) | -0.612500 |
GradientBasedCorrExposure | -0.437500 |
GradientBasedCorrHue | 18.000000 |
GradientBasedCorrMaskFullX (1) | -0.001832 |
GradientBasedCorrMaskFullX (2) | 0.969577 |
GradientBasedCorrMaskFullX (3) | 0.797431 |
GradientBasedCorrMaskFullX | 0.970013 |
GradientBasedCorrMaskFullY (1) | 0.755149 |
GradientBasedCorrMaskFullY (2) | 0.181639 |
GradientBasedCorrMaskFullY (3) | 1.006026 |
GradientBasedCorrMaskFullY | 0.264187 |
GradientBasedCorrMaskValue | 1.000000 |
GradientBasedCorrMaskWhat | Mask/Gradient |
GradientBasedCorrMaskZeroX (1) | 0.781748 |
GradientBasedCorrMaskZeroX (2) | 0.835093 |
GradientBasedCorrMaskZeroX (3) | 0.624875 |
GradientBasedCorrMaskZeroX | 0.788969 |
GradientBasedCorrMaskZeroY (1) | 0.123784 |
GradientBasedCorrMaskZeroY (2) | 0.195759 |
GradientBasedCorrMaskZeroY (3) | 0.740299 |
GradientBasedCorrMaskZeroY | 0.237806 |
GradientBasedCorrSaturation (7) | 0.050000 |
GradientBasedCorrSaturation | 0.000000 |
GradientBasedCorrSharpness | 0.000000 |
GradientBasedCorrWhat | Correction |
GrainAmount | 0 |
GreenHue | 0 |
GreenSaturation | 0 |
HasCrop | True |
HasSettings | True |
HighlightRecovery | 0 |
HueAdjustmentAqua | 0 |
HueAdjustmentBlue | 0 |
HueAdjustmentGreen | 0 |
HueAdjustmentMagenta | 0 |
HueAdjustmentOrange | 0 |
HueAdjustmentPurple | 0 |
HueAdjustmentRed | 0 |
HueAdjustmentYellow | 0 |
HyperfocalDistance | 2.64 m |
ICCProfileName | ProPhoto RGB |
ImageHeight | 3386 |
ImageNumber | 0 |
ImageSize | 2433x3386 |
ImageWidth | 2433 |
ISO | 1600 |
Lens | EF24-105mm f/4L IS USM |
LensID (1) | 237 |
LensID | Canon EF 24-105mm f/4L IS USM |
LensInfo | 24-105mm f/? |
LensManualDistortionAmount | 0 |
LensModel | EF24-105mm f/4L IS USM |
LensProfileEnable | 0 |
LensProfileSetup | LensDefaults |
LightValue | 5.6 |
LuminanceAdjustmentAqua | 0 |
LuminanceAdjustmentBlue | +12 |
LuminanceAdjustmentGreen | 0 |
LuminanceAdjustmentMagenta | 0 |
LuminanceAdjustmentOrange | 0 |
LuminanceAdjustmentPurple | 0 |
LuminanceAdjustmentRed | 0 |
LuminanceAdjustmentYellow | 0 |
LuminanceNoiseReductionContrast | 17 |
LuminanceNoiseReductionDetail | 50 |
LuminanceSmoothing | 43 |
Make | Canon |
MaxApertureValue | 4.0 |
Megapixels | 8.2 |
MeteringMode | Multi-segment |
Model | Canon EOS 5D Mark II |
ModifyDate (1) | 2012:05:13 19:48:14+02:00 |
ModifyDate | 2012:05:13 19:48:14 |
Orientation | Horizontal (normal) |
PaintCorrectionActive | true |
PaintCorrectionAmount | 1.000000 |
PaintCorrectionBrightness | 0.000000 |
PaintCorrectionClarity (1) | 0.440000 |
PaintCorrectionClarity | -0.040000 |
PaintCorrectionContrast | 0.000000 |
PaintCorrectionExposure (1) | 0.037500 |
PaintCorrectionExposure | 0.000000 |
PaintCorrectionHue | 18.000000 |
PaintCorrectionMaskCenterWeight | 0.046388 |
PaintCorrectionMaskFlow | 0.862745 |
PaintCorrectionMaskRadius (16) | 0.037028 |
PaintCorrectionMaskRadius (2) | 0.083697 |
PaintCorrectionMaskRadius (3) | 0.044806 |
PaintCorrectionMaskRadius | 0.401475 |
PaintCorrectionMaskValue | 0.700000 |
PaintCorrectionMaskWhat | Mask/Paint |
PaintCorrectionSaturation (1) | -0.100000 |
PaintCorrectionSaturation (3) | 0.050000 |
PaintCorrectionSaturation | 0.000000 |
PaintCorrectionSharpness | 0.000000 |
PaintCorrectionWhat | Correction |
ParametricDarks | +8 |
ParametricHighlights | 0 |
ParametricHighlightSplit | 75 |
ParametricLights | +6 |
ParametricMidtoneSplit | 50 |
ParametricShadows | -13 |
ParametricShadowSplit | 25 |
PerspectiveHorizontal | 0 |
PerspectiveRotate | 0.0 |
PerspectiveScale | 100 |
PerspectiveVertical | 0 |
PostCropVignetteAmount | 0 |
ProcessVersion | 5.7 |
ProfileDescription | ProPhoto RGB |
Rating | 0 |
RawFileName | _MG_1189.CR2 |
RedHue | 0 |
RedSaturation | 0 |
Rights | Ole_Remi_Kristiansen2011 |
Saturation | 0 |
SaturationAdjustmentAqua | 0 |
SaturationAdjustmentBlue | +17 |
SaturationAdjustmentGreen | 0 |
SaturationAdjustmentMagenta | 0 |
SaturationAdjustmentOrange | 0 |
SaturationAdjustmentPurple | 0 |
SaturationAdjustmentRed | -68 |
SaturationAdjustmentYellow | 0 |
ScaleFactor35efl | 1.0 |
SceneCaptureType | Standard |
SerialNumber | 1531020570 |
Shadows | 5 |
ShadowTint | 0 |
SharpenDetail | 25 |
SharpenEdgeMasking | 55 |
SharpenRadius | +1.0 |
Sharpness | 53 |
ShutterSpeed | 1/15 |
ShutterSpeedValue | 1/15 |
Software | Adobe Photoshop CS5 Macintosh |
SplitToningBalance | 0 |
SplitToningHighlightHue | 0 |
SplitToningHighlightSaturation | 0 |
SplitToningShadowHue | 0 |
SplitToningShadowSaturation | 0 |
SubjectDistance | 1.48 m |
Tint | -1 |
ToneCurve | 0, 0, 32, 22, 64, 56, 128, 128, 192, 196, 255, 255 |
ToneCurveName | Medium Contrast |
URL_List | |
Version | 6.4 |
Vibrance | +24 |
VignetteAmount | 0 |
WhiteBalance (1) | Custom |
WhiteBalance | Manual |