Felt | Verdi |
AlreadyApplied | True |
Aperture | 16.0 |
ApertureValue | 16.0 |
Artist | Edvard Dyb |
BitsPerSample | 8 |
BlueHue | 0 |
BlueSaturation | 0 |
Brightness | +33 |
By-line | Edvard Dyb |
CameraProfile | Adobe Standard |
ChromaticAberrationB | 0 |
ChromaticAberrationR | 0 |
CircleOfConfusion | 0.019 mm |
Clarity | +53 |
ColorComponents | 3 |
ColorMode | RGB |
ColorNoiseReduction | 45 |
ColorNoiseReductionDetail | 50 |
ColorSpace | Uncalibrated |
ColorTemperature | 5700 |
Contrast | +31 |
ConvertToGrayscale | False |
CreateDate (1) | 2012:03:15 15:09:43.12+01:00 |
CreateDate | 2012:03:15 15:09:43 |
Creator | Edvard Dyb |
CropAngle | 0 |
CropBottom | 0.916808 |
CropConstrainToWarp | 1 |
CropLeft | 0.096782 |
CropRight | 0.930398 |
CropTop | 0.083192 |
CustomRendered | Normal |
DateCreated (1) | 2012:03:15 |
DateCreated | 2012:03:15 15:09:43.012 |
DateTimeOriginal | 2012:03:15 15:09:43 |
Defringe | 0 |
DOF | inf (2.56 m - inf) |
ExifImageHeight | 1024 |
ExifImageWidth | 682 |
Exposure | +0.50 |
ExposureCompensation | -1 |
ExposureMode | Auto bracket |
ExposureProgram | Aperture-priority AE |
ExposureTime | 1/50 |
FillLight | 0 |
Firmware | 1.0.9 |
Flash | Off, Did not fire |
FlashCompensation | 0 |
FNumber | 16.0 |
FocalLength | 28.0 mm |
FocalLength35efl | 28.0 mm (35 mm equivalent: 44.0 mm) |
Format | image/jpeg |
FOV | 44.5 deg |
GradientBasedCorrActive | true |
GradientBasedCorrAmount | 1.000000 |
GradientBasedCorrBrightness | 0.000000 |
GradientBasedCorrClarity (1) | -0.150000 |
GradientBasedCorrClarity | 0.500000 |
GradientBasedCorrContrast (1) | -0.150000 |
GradientBasedCorrContrast | 0.500000 |
GradientBasedCorrExposure (1) | 0.100000 |
GradientBasedCorrExposure (2) | -0.200000 |
GradientBasedCorrExposure | -0.312500 |
GradientBasedCorrHue (2) | 149.000000 |
GradientBasedCorrHue (3) | 271.000000 |
GradientBasedCorrHue | 0.000000 |
GradientBasedCorrMaskFullX (1) | 0.723669 |
GradientBasedCorrMaskFullX (2) | 1.007576 |
GradientBasedCorrMaskFullX (3) | 0.028127 |
GradientBasedCorrMaskFullX | 0.994294 |
GradientBasedCorrMaskFullY (1) | 0.529711 |
GradientBasedCorrMaskFullY (2) | 0.881409 |
GradientBasedCorrMaskFullY (3) | 0.546363 |
GradientBasedCorrMaskFullY | 0.539400 |
GradientBasedCorrMaskValue | 1.000000 |
GradientBasedCorrMaskWhat | Mask/Gradient |
GradientBasedCorrMaskZeroX (1) | 0.772367 |
GradientBasedCorrMaskZeroX (2) | 0.763480 |
GradientBasedCorrMaskZeroX (3) | 0.544673 |
GradientBasedCorrMaskZeroX | 0.692582 |
GradientBasedCorrMaskZeroY (1) | 0.529711 |
GradientBasedCorrMaskZeroY (2) | 0.856678 |
GradientBasedCorrMaskZeroY (3) | 0.546641 |
GradientBasedCorrMaskZeroY | 0.539603 |
GradientBasedCorrSaturation (1) | -0.120000 |
GradientBasedCorrSaturation (3) | 0.240000 |
GradientBasedCorrSaturation (6) | 0.180000 |
GradientBasedCorrSaturation | 0.000000 |
GradientBasedCorrSharpness | 0.000000 |
GradientBasedCorrWhat | Correction |
GrainAmount | 0 |
GreenHue | 0 |
GreenSaturation | 0 |
HasCrop | True |
HasSettings | True |
HighlightRecovery | 0 |
HueAdjustmentAqua | 0 |
HueAdjustmentBlue | 0 |
HueAdjustmentGreen | 0 |
HueAdjustmentMagenta | 0 |
HueAdjustmentOrange | 0 |
HueAdjustmentPurple | 0 |
HueAdjustmentRed | 0 |
HueAdjustmentYellow | 0 |
HyperfocalDistance | 2.56 m |
ICCProfileName | Adobe RGB (1998) |
ImageHeight | 1024 |
ImageNumber | 0 |
ImageSize | 682x1024 |
ImageWidth | 682 |
ISO | 100 |
Lens | EF16-35mm f/2.8L II USM |
LensID (1) | 246 |
LensID | Canon EF 16-35mm f/2.8L II USM |
LensInfo | 16-35mm f/? |
LensManualDistortionAmount | 0 |
LensProfileChromaticAberrationScale | 100 |
LensProfileDistortionScale | 100 |
LensProfileEnable | 1 |
LensProfileFilename | Canon EOS 5D Mark II (Canon EF 16-35mm f2.8 L II USM) - RAW.lcp |
LensProfileName | Adobe (Canon EF 16-35mm f/2.8 L II USM) |
LensProfileSetup | LensDefaults |
LensProfileVignettingScale | 100 |
LightValue | 13.6 |
LuminanceAdjustmentAqua | 0 |
LuminanceAdjustmentBlue | 0 |
LuminanceAdjustmentGreen | 0 |
LuminanceAdjustmentMagenta | 0 |
LuminanceAdjustmentOrange | 0 |
LuminanceAdjustmentPurple | 0 |
LuminanceAdjustmentRed | 0 |
LuminanceAdjustmentYellow | 0 |
LuminanceNoiseReductionContrast | 0 |
LuminanceNoiseReductionDetail | 50 |
LuminanceSmoothing | 33 |
Make | Canon |
MaxApertureValue | 2.8 |
Megapixels | 0.698 |
MeteringMode | Multi-segment |
Model | Canon EOS 7D |
ModifyDate (1) | 2012:03:16 14:11:16+01:00 |
ModifyDate | 2012:03:16 14:11:16 |
Orientation | Horizontal (normal) |
OwnerName | Edvard Dyb |
ParametricDarks | 0 |
ParametricHighlights | 0 |
ParametricHighlightSplit | 75 |
ParametricLights | 0 |
ParametricMidtoneSplit | 50 |
ParametricShadows | 0 |
ParametricShadowSplit | 25 |
PerspectiveHorizontal | 0 |
PerspectiveRotate | 0.0 |
PerspectiveScale | 100 |
PerspectiveVertical | 0 |
PostCropVignetteAmount | 0 |
ProcessVersion | 5.7 |
ProfileDescription | Adobe RGB (1998) |
Rating | 0 |
RawFileName | IMG_9469.CR2 |
RedHue | 0 |
RedSaturation | 0 |
Saturation | +51 |
SaturationAdjustmentAqua | 0 |
SaturationAdjustmentBlue | 0 |
SaturationAdjustmentGreen | 0 |
SaturationAdjustmentMagenta | 0 |
SaturationAdjustmentOrange | 0 |
SaturationAdjustmentPurple | 0 |
SaturationAdjustmentRed | 0 |
SaturationAdjustmentYellow | 0 |
ScaleFactor35efl | 1.6 |
SceneCaptureType | Standard |
SerialNumber | 380301073 |
Shadows | 3 |
ShadowTint | 0 |
SharpenDetail | 25 |
SharpenEdgeMasking | 0 |
SharpenRadius | +1.0 |
Sharpness | 47 |
ShutterSpeed | 1/50 |
ShutterSpeedValue | 1/50 |
SidecarForExtension | CR2 |
Software | Adobe Photoshop CS5 Macintosh |
SplitToningBalance | 0 |
SplitToningHighlightHue | 0 |
SplitToningHighlightSaturation | 0 |
SplitToningShadowHue | 0 |
SplitToningShadowSaturation | 0 |
SubjectDistance | 4294967295 m |
Tint | +23 |
ToneCurve | 0, 0, 32, 22, 64, 56, 128, 128, 192, 196, 255, 255 |
ToneCurveName | Medium Contrast |
URL_List | |
Version | 6.1 |
Vibrance | +3 |
VignetteAmount | 0 |
WhiteBalance (1) | Custom |
WhiteBalance | Auto |