Felt | Verdi |
AddOriginalDecisionData | Off |
AEBBracketValue | 0 |
AFAreaHeights | 153 153 153 105 199 105 153 153 153 |
AFAreaMode | Single-point AF |
AFAreaWidths | 115 115 115 162 200 162 115 115 115 |
AFAreaXPositions | -1127 -674 -674 0 0 0 674 674 1127 |
AFAreaYPositions | 0 321 -321 603 0 -603 321 -321 0 |
AFAssistBeam | Emits |
AFDuringLiveView | Disable |
AFImageHeight | 2848 |
AFImageWidth | 4272 |
AFPointsInFocus | 8 |
AFPointsSelected | 8 |
AlreadyApplied | False |
Aperture | 7.1 |
ApertureValue (1) | 7.1 |
ApertureValue | 7.0 |
AutoExposureBracketing | Off |
AutoISO | 100 |
AutoLightingOptimizer | Enable |
AverageBlackLevel | 1024 1024 1024 1024 |
BaseISO | 100 |
BitsPerSample | 8 |
BlackMaskBottomBorder | 0 |
BlackMaskLeftBorder | 0 |
BlackMaskRightBorder | 0 |
BlackMaskTopBorder | 0 |
BlueBalance | 1.429688 |
BlueHue | 0 |
BlueSaturation | 0 |
BracketMode | Off |
BracketShotNumber | 0 |
BracketValue | 0 |
Brightness | +14 |
BulbDuration | 0 |
CameraOrientation | Horizontal (normal) |
CameraProfile | Embedded |
CameraTemperature | 16 C |
CameraType | EOS High-end |
CanonExposureMode | Manual |
CanonFirmwareVersion | Firmware Version 1.0.9 |
CanonFlashMode | Off |
CanonImageHeight | 2056 |
CanonImageSize | Medium |
CanonImageType | Canon EOS 450D |
CanonImageWidth | 3088 |
CanonModelID | EOS Digital Rebel XSi / 450D / Kiss X2 |
ChromaticAberrationB | 0 |
ChromaticAberrationR | 0 |
CircleOfConfusion | 0.019 mm |
Clarity | -3 |
ColorComponents | 3 |
ColorDataVersion | 5 (450D/1000D) |
ColorNoiseReduction | 0 |
ColorSpace | sRGB |
ColorTempAsShot | 5234 |
ColorTempAuto | 5234 |
ColorTempCloudy | 6000 |
ColorTempDaylight | 5200 |
ColorTemperature | 5200 |
ColorTempFlash | 6322 |
ColorTempFluorescent | 3776 |
ColorTempKelvin | 5211 |
ColorTempMeasured | 5234 |
ColorTempShade | 7000 |
ColorTempTungsten | 3200 |
ColorTone | Normal |
ColorToneFaithful | 0 |
ColorToneLandscape | 0 |
ColorToneNeutral | 0 |
ColorTonePortrait | 0 |
ColorToneStandard | 0 |
ColorToneUserDef1 | 0 |
ColorToneUserDef2 | 0 |
ColorToneUserDef3 | 0 |
ContinuousDrive | Single |
Contrast (1) | -50 |
Contrast | Normal |
ContrastFaithful | 0 |
ContrastLandscape | 0 |
ContrastMonochrome | 0 |
ContrastNeutral | 0 |
ContrastPortrait | 0 |
ContrastStandard | 0 |
ContrastUserDef1 | 0 |
ContrastUserDef2 | 0 |
ContrastUserDef3 | 0 |
ControlMode | Camera Local Control |
ConvertToGrayscale | False |
CreateDate (1) | 2012:02:19 13:33:44.03+01:00 |
CreateDate | 2012:02:19 13:33:44 |
CropBottomMargin | 11 |
CropLeftMargin | 14 |
CropRightMargin | 12 |
CropTopMargin | 10 |
CustomPictureStyleFileName | |
CustomRendered | Normal |
DateTimeDigitized | 2012:02:19 13:33:44.03+01:00 |
DateTimeOriginal (1) | 2012:02:19 13:33:44.03+01:00 |
DateTimeOriginal | 2012:02:19 13:33:44 |
Defringe | 0 |
DigitalGain | 0 |
DigitalZoom | None |
DOF | 0.015 m (0.438 - 0.453 m) |
DriveMode | Single-frame Shooting |
EasyMode | Manual |
ExifImageHeight | 2056 |
ExifImageWidth | 3088 |
Exposure | 0.00 |
ExposureCompensation | 0 |
ExposureLevelIncrements | 1/3 Stop |
ExposureMode | Manual |
ExposureProgram | Manual |
ExposureTime (1) | 1/813 |
ExposureTime (2) | 1/790 |
ExposureTime | 1/800 |
FileIndex | 3630 |
FileNumber | 100-3630 |
FillLight | 0 |
FilterEffectMonochrome | None |
FilterEffectUserDef1 | None |
FilterEffectUserDef2 | None |
FilterEffectUserDef3 | None |
Firmware | 1.0.9 |
FirmwareVersion | 1.0.9 |
Flash | Off, Did not fire |
FlashActivity | 0 |
FlashBits | (none) |
FlashCompensation | 0 |
FlashExposureComp | 0 |
FlashFired | False |
FlashFunction | False |
FlashGuideNumber | 0 |
FlashMeteringMode | Off |
FlashMode | Off |
FlashRedEyeMode | False |
FlashReturn | No return detection |
FlashSyncSpeedAv | Auto |
FNumber (2) | 7 |
FNumber | 7.1 |
FocalLength (1) | 55 mm |
FocalLength | 55.0 mm |
FocalLength35efl | 55.0 mm (35 mm equivalent: 88.8 mm) |
FocalUnits | 1/mm |
FocusDistanceLower | 0.41 m |
FocusDistanceUpper | 0.48 m |
FocusMode | AI Focus AF |
FocusRange | Not Known |
FOV | 22.9 deg |
GreenHue | 0 |
GreenSaturation | 0 |
HasCrop | False |
HasSettings | True |
HighISONoiseReduction | Off |
HighlightRecovery | 0 |
HighlightTonePriority | Disable |
HueAdjustmentAqua | 0 |
HueAdjustmentBlue | 0 |
HueAdjustmentGreen | 0 |
HueAdjustmentMagenta | 0 |
HueAdjustmentOrange | 0 |
HueAdjustmentPurple | 0 |
HueAdjustmentRed | 0 |
HueAdjustmentYellow | 0 |
HyperfocalDistance | 22.91 m |
ImageHeight | 2056 |
ImageNumber | 0 |
ImageSize | 3088x2056 |
ImageWidth | 3088 |
IncrementalTemperature | 0 |
IncrementalTint | 0 |
InternalSerialNumber | K1553952 |
ISO | 100 |
LCDDisplayAtPowerOn | Display |
Lens (1) | EF-S18-55mm f/3.5-5.6 IS |
Lens | 18.0 - 55.0 mm |
Lens35efl | 18.0 - 55.0 mm (35 mm equivalent: 29.1 - 88.8 mm) |
LensID | Canon EF-S 18-55mm f/3.5-5.6 IS |
LensInfo | 18-55mm f/? |
LensModel | EF-S18-55mm f/3.5-5.6 IS |
LensType | Canon EF-S 18-55mm f/3.5-5.6 IS |
LightValue | 15.3 |
LinearityUpperMargin | 10000 |
LiveViewShooting | Off |
LongExposureNoiseReduction | Off |
LongExposureNoiseReduction2 | Off |
LuminanceAdjustmentAqua | 0 |
LuminanceAdjustmentBlue | 0 |
LuminanceAdjustmentGreen | 0 |
LuminanceAdjustmentMagenta | 0 |
LuminanceAdjustmentOrange | 0 |
LuminanceAdjustmentPurple | 0 |
LuminanceAdjustmentRed | 0 |
LuminanceAdjustmentYellow | 0 |
LuminanceSmoothing | 0 |
MacroMode | Normal |
Make | Canon |
ManualFlashOutput | n/a |
MaxAperture | 5.7 |
MaxApertureValue | 5.7 |
MaxFocalLength | 55 mm |
MeasuredEV | 14.50 |
MeasuredEV2 | 15.625 |
MeasuredRGGB | 678 1024 1024 500 |
Megapixels | 6.3 |
MeteringMode (1) | Multi-segment |
MeteringMode | Evaluative |
MinAperture | 36 |
MinFocalLength | 18 mm |
MirrorLockup | Disable |
Model | Canon EOS 450D |
ModifyDate (1) | 2012:02:19 13:33:44.03+01:00 |
ModifyDate | 2012:02:19 13:33:44 |
NDFilter | n/a |
NumAFPoints | 9 |
OpticalZoomCode | n/a |
Orientation | Horizontal (normal) |
OriginalDecisionDataOffset | 0 |
OwnerName | |
ParametricDarks | 0 |
ParametricHighlights | 0 |
ParametricHighlightSplit | 75 |
ParametricLights | 0 |
ParametricMidtoneSplit | 50 |
ParametricShadows | 0 |
ParametricShadowSplit | 25 |
PerChannelBlackLevel | 1024 1024 1023 1024 |
PictureStyle | Standard |
PictureStylePC | None; None; None |
PictureStyleUserDef | Standard; Standard; Standard |
PostCropVignetteAmount | 0 |
Quality | Fine |
Rating | 0 |
RawFileName | Hennung 19. 017.jpg |
RawJpgSize | Large |
RawMeasuredRGGB | 244152 377594 373440 182886 |
RecordMode | JPEG |
RedBalance | 2.230469 |
RedHue | 0 |
RedSaturation | 0 |
Saturation (1) | +3 |
Saturation | Normal |
SaturationAdjustmentAqua | 0 |
SaturationAdjustmentBlue | 0 |
SaturationAdjustmentGreen | 0 |
SaturationAdjustmentMagenta | 0 |
SaturationAdjustmentOrange | 0 |
SaturationAdjustmentPurple | 0 |
SaturationAdjustmentRed | 0 |
SaturationAdjustmentYellow | 0 |
SaturationFaithful | 0 |
SaturationLandscape | 0 |
SaturationNeutral | 0 |
SaturationPortrait | 0 |
SaturationStandard | 0 |
SaturationUserDef1 | 0 |
SaturationUserDef2 | 0 |
SaturationUserDef3 | 0 |
ScaleFactor35efl | 1.6 |
SceneCaptureType | Standard |
SelfTimer | Off |
SensorBlueLevel | 0 |
SensorBottomBorder | 2870 |
SensorHeight | 2876 |
SensorLeftBorder | 32 |
SensorRedLevel | 0 |
SensorRightBorder | 4303 |
SensorTopBorder | 23 |
SensorWidth | 4312 |
SequenceNumber | 0 |
SerialNumber | 1080336769 |
SerialNumberFormat | Format 2 |
SetButtonWhenShooting | Normal (disabled) |
Shadows | 49 |
ShadowTint | 0 |
SharpenDetail | 25 |
SharpenEdgeMasking | 0 |
SharpenRadius | +1.0 |
Sharpness (1) | 0 |
Sharpness | 3 |
SharpnessFaithful | 0 |
SharpnessFrequency | n/a |
SharpnessLandscape | 4 |
SharpnessMonochrome | 3 |
SharpnessNeutral | 0 |
SharpnessPortrait | 2 |
SharpnessStandard | 3 |
SharpnessUserDef1 | 3 |
SharpnessUserDef2 | 3 |
SharpnessUserDef3 | 3 |
ShootingMode | Manual |
ShutterButtonAFOnButton | Metering + AF start |
ShutterSpeed | 1/800 |
ShutterSpeedValue (1) | 1/800 |
ShutterSpeedValue | 1/790 |
SlowShutter | None |
SpecularWhiteLevel | 14000 |
SplitToningBalance | 0 |
SplitToningHighlightHue | 0 |
SplitToningHighlightSaturation | 0 |
SplitToningShadowHue | 0 |
SplitToningShadowSaturation | 0 |
TargetAperture | 7.1 |
TargetExposureTime | 1/813 |
ToneCurve (1) | Standard |
ToneCurve | 0, 0, 255, 255 |
ToneCurveName | Linear |
ToningEffectMonochrome | None |
ToningEffectUserDef1 | None |
ToningEffectUserDef2 | None |
ToningEffectUserDef3 | None |
UserComment | |
UserDef1PictureStyle | Standard |
UserDef2PictureStyle | Standard |
UserDef3PictureStyle | Standard |
ValidAFPoints | 9 |
Version | 4.6 |
Vibrance | -2 |
VignetteAmount | 0 |
VRDOffset | 0 |
WB_RGGBLevels | 2284 1024 1024 1464 |
WB_RGGBLevelsAsShot | 2284 1024 1024 1464 |
WB_RGGBLevelsAuto | 2284 1024 1024 1464 |
WB_RGGBLevelsCloudy | 2456 1024 1024 1339 |
WB_RGGBLevelsDaylight | 2270 1024 1024 1467 |
WB_RGGBLevelsFlash | 2527 1024 1024 1311 |
WB_RGGBLevelsFluorescent | 1960 1024 1024 2001 |
WB_RGGBLevelsKelvin | 2270 1024 1024 1467 |
WB_RGGBLevelsMeasured | 2282 1025 1022 1463 |
WB_RGGBLevelsShade | 2648 1024 1024 1234 |
WB_RGGBLevelsTungsten | 1669 1081 1081 2300 |
WBBracketMode | Off |
WBBracketValueAB | 0 |
WBBracketValueGM | 0 |
WBShiftAB | 0 |
WBShiftGM | 0 |
WhiteBalance (4) | Custom |
WhiteBalance | Auto |
WhiteBalanceBlue | 0 |
WhiteBalanceRed | 0 |
ZoomSourceWidth | 0 |
ZoomTargetWidth | 0 |