Felt | Verdi |
AlreadyApplied | True |
Aperture | 2.8 |
ApertureValue | 2.8 |
Artist | Edvard Dyb |
BitsPerSample (1) | 8 8 8 |
BitsPerSample | 8 |
BlueHue | 0 |
BlueSaturation | 0 |
Brightness | +50 |
By-line | Edvard Dyb |
CameraProfile | Adobe Standard |
ChromaticAberrationB | 0 |
ChromaticAberrationR | 0 |
CircleOfConfusion | 0.019 mm |
Clarity | +43 |
ColorComponents | 3 |
ColorMode | RGB |
ColorNoiseReduction | 25 |
ColorNoiseReductionDetail | 50 |
ColorSpace | Uncalibrated |
ColorTemperature | 2950 |
Contrast | -1 |
ConvertToGrayscale | False |
CreateDate (1) | 2011:10:25 01:26:10.39+02:00 |
CreateDate | 2011:10:25 01:26:10 |
Creator | Edvard Dyb |
CreatorTool | Adobe Photoshop CS5 Macintosh |
CropAngle | 0.153883 |
CropBottom | 0.781404 |
CropConstrainToWarp | 1 |
CropLeft | 0.002898 |
CropRight | 0.997493 |
CropTop | 0 |
CustomRendered | Normal |
DateCreated (1) | 2011:10:25 |
DateCreated | 2011:10:25 01:26:10.039 |
DateTimeOriginal | 2011:10:25 01:26:10 |
Defringe | 0 |
DOF | inf (1.87 m - inf) |
ExifImageHeight | 666 |
ExifImageWidth | 1280 |
Exposure | 0.00 |
ExposureCompensation | 0 |
ExposureMode | Auto |
ExposureProgram | Bulb |
ExposureTime | 20 |
FillLight | 39 |
Firmware | 1.0.9 |
Flash | Off, Did not fire |
FlashCompensation | 0 |
FNumber | 2.8 |
FocalLength | 10.0 mm |
FocalLength35efl | 10.0 mm (35 mm equivalent: 15.7 mm) |
Format | image/jpeg |
FOV | 97.8 deg |
GradientBasedCorrActive | true |
GradientBasedCorrAmount | 1.000000 |
GradientBasedCorrBrightness (1) | -0.085000 |
GradientBasedCorrBrightness | 0.000000 |
GradientBasedCorrClarity | 0.940000 |
GradientBasedCorrContrast (1) | 0.700000 |
GradientBasedCorrContrast | 0.000000 |
GradientBasedCorrExposure (1) | -0.225000 |
GradientBasedCorrExposure | 0.000000 |
GradientBasedCorrHue | 220.000000 |
GradientBasedCorrMaskFullX (1) | 0.582529 |
GradientBasedCorrMaskFullX | 0.605971 |
GradientBasedCorrMaskFullY (1) | 0.377948 |
GradientBasedCorrMaskFullY | 0.719816 |
GradientBasedCorrMaskValue | 1.000000 |
GradientBasedCorrMaskWhat | Mask/Gradient |
GradientBasedCorrMaskZeroX (1) | 0.582242 |
GradientBasedCorrMaskZeroX | 0.606353 |
GradientBasedCorrMaskZeroY (1) | 0.538134 |
GradientBasedCorrMaskZeroY | 0.506585 |
GradientBasedCorrSaturation (1) | 0.310000 |
GradientBasedCorrSaturation (3) | 0.530000 |
GradientBasedCorrSaturation | 0.000000 |
GradientBasedCorrSharpness (1) | 0.730000 |
GradientBasedCorrSharpness | -0.720000 |
GradientBasedCorrWhat | Correction |
GrainAmount | 0 |
GreenHue | 0 |
GreenSaturation | 0 |
HasCrop | True |
HasSettings | True |
HighlightRecovery | 0 |
HueAdjustmentAqua | 0 |
HueAdjustmentBlue | 0 |
HueAdjustmentGreen | 0 |
HueAdjustmentMagenta | 0 |
HueAdjustmentOrange | 0 |
HueAdjustmentPurple | 0 |
HueAdjustmentRed | 0 |
HueAdjustmentYellow | 0 |
HyperfocalDistance | 1.87 m |
ICCProfileName | Adobe RGB (1998) |
ImageHeight (1) | 1041 |
ImageHeight | 666 |
ImageNumber | 0 |
ImageSize | 1280x666 |
ImageWidth (1) | 2000 |
ImageWidth | 1280 |
ISO | 400 |
Lens | 10mm |
LensID (1) | 173 |
LensID | Sigma 10mm f/2.8 EX DC Fisheye |
LensInfo | 10mm f/? |
LensManualDistortionAmount | 0 |
LensProfileEnable | 0 |
LensProfileSetup | LensDefaults |
LightValue | -3.4 |
LuminanceAdjustmentAqua | 0 |
LuminanceAdjustmentBlue | 0 |
LuminanceAdjustmentGreen | 0 |
LuminanceAdjustmentMagenta | 0 |
LuminanceAdjustmentOrange | 0 |
LuminanceAdjustmentPurple | 0 |
LuminanceAdjustmentRed | 0 |
LuminanceAdjustmentYellow | 0 |
LuminanceSmoothing | 0 |
Make | Canon |
MaxApertureValue | 2.8 |
Megapixels | 0.852 |
MeteringMode | Multi-segment |
Model | Canon EOS 7D |
ModifyDate (1) | 2011:10:27 16:37:13+02:00 |
ModifyDate | 2011:10:27 16:37:13 |
Orientation | Horizontal (normal) |
OwnerName | Edvard Dyb |
ParametricDarks | 0 |
ParametricHighlights | 0 |
ParametricHighlightSplit | 75 |
ParametricLights | 0 |
ParametricMidtoneSplit | 50 |
ParametricShadows | 0 |
ParametricShadowSplit | 25 |
PerspectiveHorizontal | 0 |
PerspectiveRotate | 0.0 |
PerspectiveScale | 100 |
PerspectiveVertical | 0 |
PhotometricInterpretation | RGB |
PostCropVignetteAmount | 0 |
ProcessVersion | 5.7 |
ProfileDescription | Adobe RGB (1998) |
Rating | 0 |
RawFileName | _MG_8231.CR2 |
RedHue | 0 |
RedSaturation | 0 |
Saturation | +69 |
SaturationAdjustmentAqua | 0 |
SaturationAdjustmentBlue | 0 |
SaturationAdjustmentGreen | 0 |
SaturationAdjustmentMagenta | 0 |
SaturationAdjustmentOrange | 0 |
SaturationAdjustmentPurple | 0 |
SaturationAdjustmentRed | 0 |
SaturationAdjustmentYellow | 0 |
ScaleFactor35efl | 1.6 |
SceneCaptureType | Standard |
SerialNumber | 380301073 |
Shadows | 13 |
ShadowTint | 0 |
SharpenDetail | 25 |
SharpenEdgeMasking | 0 |
SharpenRadius | +1.0 |
Sharpness | 25 |
ShutterSpeed | 20 |
ShutterSpeedValue | 20 |
SidecarForExtension | CR2 |
Software | Adobe Photoshop CS5 Macintosh |
SplitToningBalance | 0 |
SplitToningHighlightHue | 0 |
SplitToningHighlightSaturation | 0 |
SplitToningShadowHue | 0 |
SplitToningShadowSaturation | 0 |
SubjectDistance | 4294967295 m |
Tint | +28 |
ToneCurve | 0, 0, 32, 22, 64, 56, 128, 128, 192, 196, 255, 255 |
ToneCurveName | Medium Contrast |
URL_List | |
Version | 6.1 |
Vibrance | -39 |
VignetteAmount | 0 |
WhiteBalance (1) | Custom |
WhiteBalance | Auto |