Felt | Verdi |
AlreadyApplied | True |
Aperture | 2.8 |
ApertureValue | 2.8 |
ApproximateFocusDistance | 1.5 |
Artist | ROY DANIEL |
BitsPerSample | 8 |
BlueHue | -40 |
BlueSaturation | -7 |
Brightness | +100 |
By-line | ROY DANIEL |
CameraProfile | ACR 3.4 |
CFAPattern | [Red,Green][Green,Blue] |
ChromaticAberrationB | 0 |
ChromaticAberrationR | 0 |
CircleOfConfusion | 0.030 mm |
Clarity | +25 |
ColorComponents | 3 |
ColorNoiseReduction | 25 |
ColorNoiseReductionDetail | 50 |
ColorTemperature | 2000 |
Contrast (1) | +50 |
Contrast | Normal |
ConvertToGrayscale | False |
CreateDate (1) | 2011:10:15 01:47:02.88 |
CreateDate | 2011:10:15 01:47:02 |
Creator | ROY DANIEL |
CreatorTool | Adobe Photoshop Lightroom 3.4.1 |
CropAngle | 0 |
CropBottom | 0.937677 |
CropConstrainToWarp | 0 |
CropHeight | 2656 |
CropLeft | 0.028329 |
CropRight | 0.966006 |
CropTop | 0 |
CropUnit | pixels |
CropWidth | 3991 |
CustomRendered | Normal |
DateCreated (1) | 2011:10:15 |
DateCreated | 2011:10:15 01:47:02.88 |
DateTimeOriginal | 2011:10:15 01:47:02 |
Defringe | 0 |
DigitalZoomRatio | 1 |
DOF | 0.83 m (1.19 - 2.02 m) |
Exposure | +0.14 |
ExposureCompensation | 0 |
ExposureMode | Manual |
ExposureProgram | Manual |
ExposureTime | 1/80 |
FillLight | 61 |
Flash | No Flash |
FNumber | 2.8 |
FocalLength | 22.0 mm |
FocalLength35efl | 22.0 mm (35 mm equivalent: 22.0 mm) |
FocalLengthIn35mmFormat | 22 mm |
FOV | 78.6 deg |
GainControl | Low gain up |
GrainAmount | 0 |
GreenHue | -100 |
GreenSaturation | 0 |
HasCrop | True |
HasSettings | True |
HighlightRecovery | 22 |
HueAdjustmentAqua | 0 |
HueAdjustmentBlue | 0 |
HueAdjustmentGreen | 0 |
HueAdjustmentMagenta | 0 |
HueAdjustmentOrange | 0 |
HueAdjustmentPurple | 0 |
HueAdjustmentRed | 0 |
HueAdjustmentYellow | 0 |
HyperfocalDistance | 5.75 m |
ImageHeight | 2656 |
ImageNumber | 79032 |
ImageSize | 3991x2656 |
ImageWidth | 3991 |
ISO | 800 |
Lens | 17.0-35.0 mm f/2.8 |
LensID (1) | 99 |
LensID | AF-S Nikkor 17-35mm f/2.8D IF-ED |
LensInfo | 17-35mm f/2.8 |
LensManualDistortionAmount | 0 |
LensModel | 17.0-35.0 mm f/2.8 |
LensProfileEnable | 0 |
LensProfileSetup | LensDefaults |
LightSource | Flash |
LightValue | 6.3 |
LuminanceAdjustmentAqua | 0 |
LuminanceAdjustmentBlue | 0 |
LuminanceAdjustmentGreen | 0 |
LuminanceAdjustmentMagenta | 0 |
LuminanceAdjustmentOrange | 0 |
LuminanceAdjustmentPurple | 0 |
LuminanceAdjustmentRed | 0 |
LuminanceAdjustmentYellow | 0 |
LuminanceNoiseReductionContrast | 5 |
LuminanceNoiseReductionDetail | 50 |
LuminanceSmoothing | 21 |
Make | NIKON CORPORATION |
MaxApertureValue | 2.8 |
Megapixels | 10.6 |
MeteringMode | Center-weighted average |
Model | NIKON D700 |
ModifyDate (1) | 2011:10:23 00:58:53+02:00 |
ModifyDate | 2011:10:23 00:58:53 |
ParametricDarks | +36 |
ParametricHighlights | 0 |
ParametricHighlightSplit | 75 |
ParametricLights | -40 |
ParametricMidtoneSplit | 50 |
ParametricShadows | 0 |
ParametricShadowSplit | 25 |
PerspectiveHorizontal | 0 |
PerspectiveRotate | 0.0 |
PerspectiveScale | 100 |
PerspectiveVertical | 0 |
PostCropVignetteAmount | 0 |
ProcessVersion | 5.7 |
ProfileDescription | sRGB IEC61966-2.1 |
RedHue | +100 |
RedSaturation | +29 |
Saturation (1) | -90 |
Saturation | Normal |
SaturationAdjustmentAqua | -100 |
SaturationAdjustmentBlue | -100 |
SaturationAdjustmentGreen | -100 |
SaturationAdjustmentMagenta | -100 |
SaturationAdjustmentOrange | -100 |
SaturationAdjustmentPurple | -100 |
SaturationAdjustmentRed | -100 |
SaturationAdjustmentYellow | -100 |
ScaleFactor35efl | 1.0 |
SceneCaptureType | Standard |
SceneType | Directly photographed |
SensingMethod | One-chip color area |
SerialNumber | 2116271 |
Shadows | 10 |
ShadowTint | +100 |
SharpenDetail | 25 |
SharpenEdgeMasking | 7 |
SharpenRadius | +1.0 |
Sharpness (1) | 40 |
Sharpness | Normal |
ShutterSpeed | 1/80 |
ShutterSpeedValue | 1/80 |
Software | Adobe Photoshop Lightroom 3.4.1 |
SplitToningBalance | 0 |
SplitToningHighlightHue | 47 |
SplitToningHighlightSaturation | 10 |
SplitToningShadowHue | 231 |
SplitToningShadowSaturation | 10 |
SubjectDistance | 1.5 m |
SubjectDistanceRange | Unknown |
Tint | -50 |
ToneCurve | 0, 0, 32, 22, 64, 56, 128, 128, 192, 196, 255, 255 |
ToneCurveName | Medium Contrast |
Version | 6.4.1 |
Vibrance | +50 |
VignetteAmount | 0 |
WhiteBalance (1) | Custom |
WhiteBalance | Manual |