Felt | Verdi |
AlreadyApplied | True |
Aperture | 4.0 |
ApertureValue | 4.0 |
Artist | Edvard Dyb |
BitsPerSample (1) | 8 8 8 |
BitsPerSample | 8 |
BlueHue | 0 |
BlueSaturation | 0 |
Brightness | +50 |
By-line | Edvard Dyb |
CameraProfile | Adobe Standard |
ChromaticAberrationB | 0 |
ChromaticAberrationR | 0 |
CircleOfConfusion | 0.019 mm |
Clarity | +54 |
ColorComponents | 3 |
ColorMode | RGB |
ColorNoiseReduction | 48 |
ColorNoiseReductionDetail | 50 |
ColorSpace | Uncalibrated |
ColorTemperature | 3150 |
Contrast | +25 |
ConvertToGrayscale | False |
CreateDate (1) | 2011:10:18 22:17:40.14+02:00 |
CreateDate | 2011:10:18 22:17:40 |
Creator | Edvard Dyb |
CreatorTool | Adobe Photoshop CS5 Macintosh |
CropAngle | 0.126854 |
CropBottom | 0.926606 |
CropConstrainToWarp | 1 |
CropLeft | 0.000954 |
CropRight | 0.999046 |
CropTop | 0.277245 |
CustomRendered | Normal |
DateCreated (1) | 2011:10:18 |
DateCreated | 2011:10:18 22:17:40.014 |
DateTimeOriginal | 2011:10:18 22:17:40 |
Defringe | 0 |
DOF | inf (1.31 m - inf) |
ExifImageHeight | 552 |
ExifImageWidth | 1280 |
Exposure | 0.00 |
ExposureCompensation | 0 |
ExposureMode | Auto |
ExposureProgram | Bulb |
ExposureTime | 291 |
FillLight | 51 |
Firmware | 1.0.9 |
Flash | Off, Did not fire |
FlashCompensation | 0 |
FNumber | 4.0 |
FocalLength | 10.0 mm |
FocalLength35efl | 10.0 mm (35 mm equivalent: 15.7 mm) |
Format | image/jpeg |
FOV | 97.8 deg |
GradientBasedCorrActive | true |
GradientBasedCorrAmount | 1.000000 |
GradientBasedCorrBrightness | 0.000000 |
GradientBasedCorrClarity (1) | 0.810000 |
GradientBasedCorrClarity | 0.000000 |
GradientBasedCorrContrast (1) | 0.310000 |
GradientBasedCorrContrast | 0.000000 |
GradientBasedCorrExposure (1) | -0.225000 |
GradientBasedCorrExposure | 0.000000 |
GradientBasedCorrHue (1) | 28.000000 |
GradientBasedCorrHue | 281.000000 |
GradientBasedCorrMaskFullX (1) | 0.547925 |
GradientBasedCorrMaskFullX | 0.597333 |
GradientBasedCorrMaskFullY (1) | 0.644394 |
GradientBasedCorrMaskFullY | 0.748575 |
GradientBasedCorrMaskValue | 1.000000 |
GradientBasedCorrMaskWhat | Mask/Gradient |
GradientBasedCorrMaskZeroX (1) | 0.547925 |
GradientBasedCorrMaskZeroX | 0.597418 |
GradientBasedCorrMaskZeroY (1) | 0.726436 |
GradientBasedCorrMaskZeroY | 0.691149 |
GradientBasedCorrSaturation (1) | 0.400000 |
GradientBasedCorrSaturation (2) | 0.440000 |
GradientBasedCorrSaturation (3) | 0.000000 |
GradientBasedCorrSaturation | 0.270000 |
GradientBasedCorrSharpness | 0.810000 |
GradientBasedCorrWhat | Correction |
GrainAmount | 0 |
GreenHue | 0 |
GreenSaturation | 0 |
HasCrop | True |
HasSettings | True |
HighlightRecovery | 19 |
HueAdjustmentAqua | 0 |
HueAdjustmentBlue | 0 |
HueAdjustmentGreen | 0 |
HueAdjustmentMagenta | 0 |
HueAdjustmentOrange | 0 |
HueAdjustmentPurple | 0 |
HueAdjustmentRed | 0 |
HueAdjustmentYellow | 0 |
HyperfocalDistance | 1.31 m |
ICCProfileName | Adobe RGB (1998) |
ImageHeight (1) | 2233 |
ImageHeight | 552 |
ImageNumber | 0 |
ImageSize | 1280x552 |
ImageWidth (1) | 5179 |
ImageWidth | 1280 |
ISO | 100 |
Lens | 10-20mm |
LensID (1) | 152 |
LensID | Sigma 10-20mm f/4-5.6 |
LensInfo | 10-20mm f/? |
LensManualDistortionAmount | 0 |
LensProfileEnable | 0 |
LensProfileSetup | LensDefaults |
LightValue | -4.2 |
LuminanceAdjustmentAqua | 0 |
LuminanceAdjustmentBlue | 0 |
LuminanceAdjustmentGreen | 0 |
LuminanceAdjustmentMagenta | 0 |
LuminanceAdjustmentOrange | 0 |
LuminanceAdjustmentPurple | 0 |
LuminanceAdjustmentRed | 0 |
LuminanceAdjustmentYellow | 0 |
LuminanceNoiseReductionContrast | 0 |
LuminanceNoiseReductionDetail | 50 |
LuminanceSmoothing | 40 |
Make | Canon |
MaxApertureValue | 4.0 |
Megapixels | 0.707 |
MeteringMode | Multi-segment |
Model | Canon EOS 7D |
ModifyDate (1) | 2011:10:19 01:13:08+02:00 |
ModifyDate | 2011:10:19 01:13:08 |
Orientation | Horizontal (normal) |
OwnerName | Edvard Dyb |
PaintCorrectionActive | true |
PaintCorrectionAmount | 1.000000 |
PaintCorrectionBrightness | 0.000000 |
PaintCorrectionClarity | 0.810000 |
PaintCorrectionContrast | 0.310000 |
PaintCorrectionExposure | 0.525000 |
PaintCorrectionHue | 273.000000 |
PaintCorrectionMaskCenterWeight | 0.006825 |
PaintCorrectionMaskFlow | 0.907216 |
PaintCorrectionMaskRadius | 0.137603 |
PaintCorrectionMaskValue | 0.510000 |
PaintCorrectionMaskWhat | Mask/Paint |
PaintCorrectionSaturation (1) | 0.700000 |
PaintCorrectionSaturation | 0.000000 |
PaintCorrectionSharpness | 0.810000 |
PaintCorrectionWhat | Correction |
ParametricDarks | 0 |
ParametricHighlights | 0 |
ParametricHighlightSplit | 75 |
ParametricLights | 0 |
ParametricMidtoneSplit | 50 |
ParametricShadows | 0 |
ParametricShadowSplit | 25 |
PerspectiveHorizontal | 0 |
PerspectiveRotate | 0.0 |
PerspectiveScale | 100 |
PerspectiveVertical | 0 |
PhotometricInterpretation | RGB |
PostCropVignetteAmount | 0 |
ProcessVersion | 5.7 |
ProfileDescription | Adobe RGB (1998) |
Rating | 0 |
RawFileName | _MG_8172.CR2 |
RedHue | 0 |
RedSaturation | 0 |
Saturation | 0 |
SaturationAdjustmentAqua | 0 |
SaturationAdjustmentBlue | 0 |
SaturationAdjustmentGreen | 0 |
SaturationAdjustmentMagenta | 0 |
SaturationAdjustmentOrange | 0 |
SaturationAdjustmentPurple | 0 |
SaturationAdjustmentRed | 0 |
SaturationAdjustmentYellow | 0 |
ScaleFactor35efl | 1.6 |
SceneCaptureType | Standard |
SerialNumber | 380301073 |
Shadows | 7 |
ShadowTint | 0 |
SharpenDetail | 25 |
SharpenEdgeMasking | 0 |
SharpenRadius | +1.0 |
Sharpness | 9 |
ShutterSpeed | 291 |
ShutterSpeedValue | 291 |
SidecarForExtension | CR2 |
Software | Adobe Photoshop CS5 Macintosh |
SplitToningBalance | 0 |
SplitToningHighlightHue | 0 |
SplitToningHighlightSaturation | 0 |
SplitToningShadowHue | 0 |
SplitToningShadowSaturation | 0 |
SubjectDistance | 4294967295 m |
Tint | +36 |
ToneCurve | 0, 0, 32, 22, 64, 56, 128, 128, 192, 196, 255, 255 |
ToneCurveName | Medium Contrast |
URL_List | |
Version | 6.1 |
Vibrance | +49 |
VignetteAmount | 0 |
WhiteBalance (1) | Custom |
WhiteBalance | Auto |