Felt | Verdi |
AlreadyApplied | True |
Aperture | 11.0 |
ApertureValue | 11.0 |
Artist | Torben Iversen |
BitsPerSample (1) | 16 16 16 |
BitsPerSample | 8 |
BlueHue | 0 |
BlueSaturation | 0 |
Brightness | +39 |
By-line | Torben Iversen |
CameraProfile | Adobe Standard |
ChromaticAberrationB | 0 |
ChromaticAberrationR | 0 |
CircleOfConfusion | 0.019 mm |
Clarity | +20 |
ColorComponents | 3 |
ColorMode | RGB |
ColorNoiseReduction | 40 |
ColorNoiseReductionDetail | 50 |
ColorSpace | Uncalibrated |
ColorTemperature | 3300 |
Contrast | +51 |
ConvertToGrayscale | False |
Copyright | www.ti-aviation.com |
CopyrightNotice | www.ti-aviation.com |
CreateDate (1) | 2011:07:14 23:24:44.00+02:00 |
CreateDate | 2011:07:14 23:24:44 |
Creator | Torben Iversen |
CreatorTool | Adobe Photoshop Lightroom |
CropAngle | 0.8 |
CropBottom | 0.919091 |
CropConstrainToWarp | 0 |
CropHeight | 2952 |
CropLeft | 0.008919 |
CropRight | 0.950054 |
CropTop | 0.045035 |
CropUnit | pixels |
CropWidth | 4920 |
CustomRendered | Normal |
DateCreated (1) | 2011:07:14 |
DateCreated | 2011:07:14 23:24:44 |
DateTimeOriginal | 2011:07:14 23:24:44 |
Defringe | 0 |
DOF | inf (5.17 m - inf) |
ExifImageHeight | 2880 |
ExifImageWidth | 4800 |
Exposure | -0.20 |
ExposureCompensation | 0 |
ExposureMode | Manual |
ExposureProgram | Manual |
ExposureTime | 15 |
FillLight | 10 |
Firmware | 1.2.1 |
Flash | Off, Did not fire |
FlashCompensation | 0 |
FNumber | 11.0 |
FocalLength | 33.0 mm |
FocalLength35efl | 33.0 mm (35 mm equivalent: 51.8 mm) |
Format | image/jpeg |
FOV | 38.3 deg |
GrainAmount | 0 |
GreenHue | 0 |
GreenSaturation | 0 |
HasCrop | True |
HasSettings | True |
HighlightRecovery | 100 |
HueAdjustmentAqua | +10 |
HueAdjustmentBlue | +10 |
HueAdjustmentGreen | +10 |
HueAdjustmentMagenta | +10 |
HueAdjustmentOrange | +10 |
HueAdjustmentPurple | +10 |
HueAdjustmentRed | +10 |
HueAdjustmentYellow | +5 |
HyperfocalDistance | 5.17 m |
ICCProfileName | Adobe RGB (1998) |
ImageHeight (1) | 2952 |
ImageHeight | 2880 |
ImageNumber | 0 |
ImageSize | 4800x2880 |
ImageWidth (1) | 4920 |
ImageWidth | 4800 |
ISO | 100 |
Lens | EF-S18-135mm f/3.5-5.6 IS |
LensID (1) | 51 |
LensID | Canon EF-S 18-135mm f/3.5-5.6 IS |
LensInfo | 18-135mm f/? |
LensManualDistortionAmount | 0 |
LensProfileEnable | 0 |
LensProfileSetup | LensDefaults |
LightValue | 3.0 |
LuminanceAdjustmentAqua | +10 |
LuminanceAdjustmentBlue | +10 |
LuminanceAdjustmentGreen | +10 |
LuminanceAdjustmentMagenta | +10 |
LuminanceAdjustmentOrange | +10 |
LuminanceAdjustmentPurple | +10 |
LuminanceAdjustmentRed | +10 |
LuminanceAdjustmentYellow | +5 |
LuminanceNoiseReductionContrast | 35 |
LuminanceNoiseReductionDetail | 50 |
LuminanceSmoothing | 50 |
Make | Canon |
MaxApertureValue | 4.4 |
Megapixels | 13.8 |
MeteringMode | Multi-segment |
Model | Canon EOS 7D |
ModifyDate (1) | 2011:07:27 22:11:26+02:00 |
ModifyDate | 2011:07:27 22:11:26 |
Orientation | Horizontal (normal) |
ParametricDarks | +8 |
ParametricHighlights | 0 |
ParametricHighlightSplit | 75 |
ParametricLights | +18 |
ParametricMidtoneSplit | 50 |
ParametricShadows | 0 |
ParametricShadowSplit | 25 |
PerspectiveHorizontal | 0 |
PerspectiveRotate | 0.0 |
PerspectiveScale | 100 |
PerspectiveVertical | 0 |
PhotometricInterpretation | RGB |
PlanarConfiguration | Chunky |
PostCropVignetteAmount | 0 |
ProcessVersion | 5.7 |
ProfileDescription | Adobe RGB (1998) |
RedHue | 0 |
RedSaturation | 0 |
Rights | www.ti-aviation.com |
Saturation | +10 |
SaturationAdjustmentAqua | +15 |
SaturationAdjustmentBlue | +15 |
SaturationAdjustmentGreen | +10 |
SaturationAdjustmentMagenta | +10 |
SaturationAdjustmentOrange | +10 |
SaturationAdjustmentPurple | +20 |
SaturationAdjustmentRed | +15 |
SaturationAdjustmentYellow | +10 |
ScaleFactor35efl | 1.6 |
SceneCaptureType | Standard |
SerialNumber | 1180701035 |
Shadows | 0 |
ShadowTint | 0 |
SharpenDetail | 45 |
SharpenEdgeMasking | 10 |
SharpenRadius | +1.0 |
Sharpness | 45 |
ShutterSpeed | 15 |
ShutterSpeedValue | 15 |
Software | Adobe Photoshop CS5 Windows |
SplitToningBalance | 0 |
SplitToningHighlightHue | 0 |
SplitToningHighlightSaturation | 0 |
SplitToningShadowHue | 0 |
SplitToningShadowSaturation | 0 |
SubjectDistance | 4294967295 m |
Tint | 0 |
ToneCurve | 0, 0, 32, 16, 64, 50, 128, 128, 192, 202, 255, 255 |
ToneCurveName | Strong Contrast |
URL_List | |
Version | 6.1 |
Vibrance | 0 |
VignetteAmount | 0 |
WhiteBalance (1) | Custom |
WhiteBalance | Auto |