Felt | Verdi |
AlreadyApplied | True |
Aperture | 4.5 |
ApertureValue | 4.5 |
ApproximateFocusDistance | 0.42 |
BitsPerSample | 8 |
BlueHue | +3 |
BlueSaturation | +96 |
Brightness | +23 |
CameraProfile | Adobe Standard |
CFAPattern | [Blue,Green][Green,Red] |
ChromaticAberrationB | 0 |
ChromaticAberrationR | 0 |
CircleOfConfusion | 0.020 mm |
Clarity | -45 |
ColorComponents | 3 |
ColorMode | RGB |
ColorNoiseReduction | 64 |
ColorNoiseReductionDetail | 77 |
ColorSpace | Uncalibrated |
ColorTemperature | 7050 |
Contrast (1) | +3 |
Contrast | Normal |
ConvertToGrayscale | False |
CreateDate (1) | 2011:01:29 14:52:13.30+01:00 |
CreateDate | 2011:01:29 14:52:13 |
CreatorTool | Ver.1.00 |
CustomRendered | Normal |
DateCreated (1) | 2011:01:29 |
DateCreated | 2011:01:29 14:52:13.03 |
DateTimeOriginal | 2011:01:29 14:52:13 |
Defringe | 0 |
DigitalZoomRatio | 1 |
DOF | 0.03 m (0.41 - 0.43 m) |
ExifImageHeight | 2000 |
ExifImageWidth | 3008 |
Exposure | +1.00 |
ExposureCompensation | 0 |
ExposureMode | Auto |
ExposureProgram | Aperture-priority AE |
ExposureTime | 1/100 |
FillLight | 10 |
Flash | No Flash |
FNumber | 4.5 |
FocalLength | 32.0 mm |
FocalLength35efl | 32.0 mm (35 mm equivalent: 48.0 mm) |
FocalLengthIn35mmFormat | 48 mm |
Format | image/jpeg |
FOV | 41.1 deg |
GainControl | None |
GradientBasedCorrActive | true |
GradientBasedCorrAmount | 1.000000 |
GradientBasedCorrBrightness | 0.230000 |
GradientBasedCorrClarity | -0.780000 |
GradientBasedCorrContrast | 0.310000 |
GradientBasedCorrExposure | 0.012500 |
GradientBasedCorrHue | 230.000000 |
GradientBasedCorrMaskFullX | 1.005102 |
GradientBasedCorrMaskFullY | 0.410749 |
GradientBasedCorrMaskValue | 1.000000 |
GradientBasedCorrMaskWhat | Mask/Gradient |
GradientBasedCorrMaskZeroX | 0.385204 |
GradientBasedCorrMaskZeroY | 0.706334 |
GradientBasedCorrSaturation (1) | 0.430000 |
GradientBasedCorrSaturation | 0.000000 |
GradientBasedCorrSharpness | -0.420000 |
GradientBasedCorrWhat | Correction |
GrainAmount | 0 |
GreenHue | +26 |
GreenSaturation | -18 |
HasCrop | False |
HasSettings | True |
HighlightRecovery | 100 |
HueAdjustmentAqua | 0 |
HueAdjustmentBlue | 0 |
HueAdjustmentGreen | 0 |
HueAdjustmentMagenta | 0 |
HueAdjustmentOrange | 0 |
HueAdjustmentPurple | 0 |
HueAdjustmentRed | 0 |
HueAdjustmentYellow | 0 |
HyperfocalDistance | 11.36 m |
ICCProfileName | Adobe RGB (1998) |
ImageHeight | 2000 |
ImageNumber | 34406 |
ImageSize | 3008x2000 |
ImageWidth | 3008 |
ISO | 200 |
Lens | 16.0-85.0 mm f/3.5-5.6 |
LensID (1) | 153 |
LensID | AF-S DX VR Zoom-Nikkor 16-85mm f/3.5-5.6G ED |
LensInfo | 16-85mm f/3.5-5.6 |
LensManualDistortionAmount | 0 |
LensModel | 16.0-85.0 mm f/3.5-5.6 |
LensProfileEnable | 0 |
LensProfileSetup | LensDefaults |
LightSource | Cloudy |
LightValue | 10.0 |
LuminanceAdjustmentAqua | 0 |
LuminanceAdjustmentBlue | 0 |
LuminanceAdjustmentGreen | 0 |
LuminanceAdjustmentMagenta | 0 |
LuminanceAdjustmentOrange | 0 |
LuminanceAdjustmentPurple | 0 |
LuminanceAdjustmentRed | 0 |
LuminanceAdjustmentYellow | 0 |
LuminanceNoiseReductionContrast | 0 |
LuminanceNoiseReductionDetail | 62 |
LuminanceSmoothing | 97 |
Make | NIKON CORPORATION |
MaxApertureValue | 4.4 |
Megapixels | 6.0 |
MeteringMode | Multi-segment |
Model | NIKON D50 |
ModifyDate (1) | 2011:03:29 13:59:50+02:00 |
ModifyDate | 2011:03:29 13:59:50 |
Orientation | Horizontal (normal) |
PaintCorrectionActive | true |
PaintCorrectionAmount | 1.000000 |
PaintCorrectionBrightness | 0.115000 |
PaintCorrectionClarity | 0.790000 |
PaintCorrectionContrast | 0.230000 |
PaintCorrectionExposure | 0.250000 |
PaintCorrectionHue | 230.000000 |
PaintCorrectionMaskCenterWeight | 0.597666 |
PaintCorrectionMaskFlow | 0.790123 |
PaintCorrectionMaskRadius | 0.014038 |
PaintCorrectionMaskValue | 1.000000 |
PaintCorrectionMaskWhat | Mask/Paint |
PaintCorrectionSaturation (1) | -0.150000 |
PaintCorrectionSaturation | 0.000000 |
PaintCorrectionSharpness | 0.900000 |
PaintCorrectionWhat | Correction |
ParametricDarks | +31 |
ParametricHighlights | +29 |
ParametricHighlightSplit | 75 |
ParametricLights | +33 |
ParametricMidtoneSplit | 50 |
ParametricShadows | -23 |
ParametricShadowSplit | 25 |
PerspectiveHorizontal | 0 |
PerspectiveRotate | 0.0 |
PerspectiveScale | 100 |
PerspectiveVertical | 0 |
PostCropVignetteAmount | 0 |
ProcessVersion | 5.7 |
ProfileDescription | Adobe RGB (1998) |
Rating | 0 |
RawFileName | DSC_0119.NEF |
RedHue | +19 |
RedSaturation | -18 |
Saturation (1) | -27 |
Saturation | Normal |
SaturationAdjustmentAqua | +100 |
SaturationAdjustmentBlue | +79 |
SaturationAdjustmentGreen | -99 |
SaturationAdjustmentMagenta | -56 |
SaturationAdjustmentOrange | -70 |
SaturationAdjustmentPurple | -78 |
SaturationAdjustmentRed | +54 |
SaturationAdjustmentYellow | -100 |
ScaleFactor35efl | 1.5 |
SceneCaptureType | Standard |
SceneType | Directly photographed |
SensingMethod | One-chip color area |
SensitivityType | Unknown |
Shadows | 10 |
ShadowTint | -12 |
SharpenDetail | 44 |
SharpenEdgeMasking | 98 |
SharpenRadius | +1.3 |
Sharpness (1) | 25 |
Sharpness | Hard |
ShutterSpeed | 1/100 |
ShutterSpeedValue | 1/100 |
Software | Adobe Photoshop CS5 Windows |
SplitToningBalance | 0 |
SplitToningHighlightHue | 0 |
SplitToningHighlightSaturation | 0 |
SplitToningShadowHue | 0 |
SplitToningShadowSaturation | 0 |
SubjectDistance | 0.42 m |
SubjectDistanceRange | Unknown |
Tint | +3 |
ToneCurve | 0, 0, 32, 22, 64, 56, 128, 128, 192, 196, 255, 255 |
ToneCurveName | Medium Contrast |
URL_List | |
Version | 6.3 |
Vibrance | +22 |
VignetteAmount | 0 |
WhiteBalance (1) | Custom |
WhiteBalance | Manual |