Felt | Verdi |
AlreadyApplied | True |
Aperture | 3.5 |
ApertureValue | 3.5 |
ApproximateFocusDistance | 8.34 |
Artist | chrisgilberg |
BitsPerSample | 8 |
BlueHue | 0 |
BlueSaturation | 0 |
Brightness | 0 |
By-line | chrisgilberg |
CameraProfile | Embedded |
ChromaticAberrationB | 0 |
ChromaticAberrationR | 0 |
CircleOfConfusion | 0.019 mm |
Clarity | +10 |
ColorComponents | 3 |
ColorNoiseReduction | 0 |
Contrast | +19 |
ConvertToGrayscale | False |
CreateDate (1) | 2010:06:16 16:48:54.51+02:00 |
CreateDate | 2010:06:16 16:48:54 |
Creator | chrisgilberg |
CreatorTool | Adobe Photoshop Lightroom 3.3 |
CustomRendered | Normal |
DateTimeDigitized | 2010:06:16 16:48:54.51+02:00 |
DateTimeOriginal (1) | 2010:06:16 16:48:54.51+02:00 |
DateTimeOriginal | 2010:06:16 16:48:54 |
Defringe | 0 |
DOF | 1.91 m (7.49 - 9.40 m) |
ExifImageHeight | 5184 |
ExifImageWidth | 3456 |
Exposure | 0.00 |
ExposureCompensation | 0 |
ExposureMode | Manual |
ExposureProgram | Manual |
ExposureTime | 1/160 |
FillLight | 3 |
Firmware | 1.0.6 |
Flash | Off, Did not fire |
FlashCompensation | 0 |
FlashFired | False |
FlashFunction | False |
FlashMode | Off |
FlashRedEyeMode | False |
FlashReturn | No return detection |
FNumber | 3.5 |
FocalLength | 70.0 mm |
FocalLength35efl | 70.0 mm (35 mm equivalent: 110.1 mm) |
FOV | 18.6 deg |
GradientBasedCorrActive | true |
GradientBasedCorrAmount | 1.000000 |
GradientBasedCorrBrightness | -0.122000 |
GradientBasedCorrClarity | 0.000000 |
GradientBasedCorrContrast | 0.805000 |
GradientBasedCorrExposure | 0.293000 |
GradientBasedCorrHue | 240.000000 |
GradientBasedCorrMaskFullX | 0.265493 |
GradientBasedCorrMaskFullY | -0.157036 |
GradientBasedCorrMaskValue | 1.000000 |
GradientBasedCorrMaskWhat | Mask/Gradient |
GradientBasedCorrMaskZeroX | 0.593861 |
GradientBasedCorrMaskZeroY | 0.987338 |
GradientBasedCorrSaturation (1) | 0.024000 |
GradientBasedCorrSaturation | 0.000000 |
GradientBasedCorrSharpness | 1.000000 |
GradientBasedCorrWhat | Correction |
GrainAmount | 0 |
GreenHue | 0 |
GreenSaturation | 0 |
HasCrop | False |
HasSettings | True |
HighlightRecovery | 0 |
HueAdjustmentAqua | 0 |
HueAdjustmentBlue | 0 |
HueAdjustmentGreen | 0 |
HueAdjustmentMagenta | 0 |
HueAdjustmentOrange | 0 |
HueAdjustmentPurple | 0 |
HueAdjustmentRed | 0 |
HueAdjustmentYellow | 0 |
HyperfocalDistance | 73.28 m |
ImageHeight | 5184 |
ImageNumber | 0 |
ImageSize | 3456x5184 |
ImageWidth | 3456 |
IncrementalTemperature | 0 |
IncrementalTint | 0 |
ISO | 100 |
Lens | 70-200mm |
LensID (1) | 131 |
LensID | Sigma 70-200mm f/2.8 APO EX HSM |
LensInfo | 70-200mm f/? |
LensManualDistortionAmount | 0 |
LensModel | 70-200mm |
LensProfileEnable | 0 |
LensProfileSetup | LensDefaults |
LightValue | 10.9 |
LuminanceAdjustmentAqua | 0 |
LuminanceAdjustmentBlue | 0 |
LuminanceAdjustmentGreen | 0 |
LuminanceAdjustmentMagenta | 0 |
LuminanceAdjustmentOrange | 0 |
LuminanceAdjustmentPurple | 0 |
LuminanceAdjustmentRed | 0 |
LuminanceAdjustmentYellow | 0 |
LuminanceNoiseReductionContrast | 34 |
LuminanceNoiseReductionDetail | 50 |
LuminanceSmoothing | 10 |
Make | Canon |
MaxApertureValue | 2.8 |
Megapixels | 17.9 |
MeteringMode | Center-weighted average |
Model | Canon EOS 550D |
ModifyDate (1) | 2011:03:06 22:27:48+01:00 |
ModifyDate | 2011:03:06 22:27:48 |
PaintCorrectionActive | true |
PaintCorrectionAmount | 1.000000 |
PaintCorrectionBrightness (2) | 0.756000 |
PaintCorrectionBrightness (3) | -0.415000 |
PaintCorrectionBrightness (4) | 0.341000 |
PaintCorrectionBrightness (5) | 1.000000 |
PaintCorrectionBrightness | 0.293000 |
PaintCorrectionClarity (3) | 0.951000 |
PaintCorrectionClarity | 0.000000 |
PaintCorrectionContrast | 0.805000 |
PaintCorrectionExposure (1) | -0.317000 |
PaintCorrectionExposure (2) | 0.390000 |
PaintCorrectionExposure (5) | 1.000000 |
PaintCorrectionExposure | 0.293000 |
PaintCorrectionHue | 240.000000 |
PaintCorrectionMaskCenterWeight (10) | 0.030865 |
PaintCorrectionMaskCenterWeight (3) | 0.162140 |
PaintCorrectionMaskCenterWeight (53) | 0.337240 |
PaintCorrectionMaskCenterWeight | 0.108060 |
PaintCorrectionMaskFlow | 1.000000 |
PaintCorrectionMaskRadius (10) | 0.022255 |
PaintCorrectionMaskRadius (16) | 0.050186 |
PaintCorrectionMaskRadius (18) | 0.031392 |
PaintCorrectionMaskRadius (2) | 0.143064 |
PaintCorrectionMaskRadius (25) | 0.154600 |
PaintCorrectionMaskRadius (27) | 0.121449 |
PaintCorrectionMaskRadius (28) | 0.089863 |
PaintCorrectionMaskRadius (30) | 0.059844 |
PaintCorrectionMaskRadius (32) | 0.110746 |
PaintCorrectionMaskRadius (37) | 0.250661 |
PaintCorrectionMaskRadius (38) | 0.189318 |
PaintCorrectionMaskRadius (41) | 0.040702 |
PaintCorrectionMaskRadius (46) | 0.069677 |
PaintCorrectionMaskRadius (53) | 0.036521 |
PaintCorrectionMaskRadius (54) | 0.026305 |
PaintCorrectionMaskRadius (55) | 0.040923 |
PaintCorrectionMaskRadius | 0.033189 |
PaintCorrectionMaskValue | 0.262000 |
PaintCorrectionMaskWhat | Mask/Paint |
PaintCorrectionSaturation (3) | 0.024000 |
PaintCorrectionSaturation (5) | 0.317000 |
PaintCorrectionSaturation | 0.000000 |
PaintCorrectionSharpness | 1.000000 |
PaintCorrectionWhat | Correction |
ParametricDarks | 0 |
ParametricHighlights | 0 |
ParametricHighlightSplit | 75 |
ParametricLights | 0 |
ParametricMidtoneSplit | 50 |
ParametricShadows | 0 |
ParametricShadowSplit | 25 |
PerspectiveHorizontal | 0 |
PerspectiveRotate | 0.0 |
PerspectiveScale | 100 |
PerspectiveVertical | 0 |
PostCropVignetteAmount | 0 |
ProcessVersion | 5.7 |
ProfileDescription | sRGB IEC61966-2.1 |
RedHue | 0 |
RedSaturation | 0 |
Saturation | 0 |
SaturationAdjustmentAqua | 0 |
SaturationAdjustmentBlue | 0 |
SaturationAdjustmentGreen | +66 |
SaturationAdjustmentMagenta | 0 |
SaturationAdjustmentOrange | +41 |
SaturationAdjustmentPurple | +93 |
SaturationAdjustmentRed | +73 |
SaturationAdjustmentYellow | +89 |
ScaleFactor35efl | 1.6 |
SceneCaptureType | Standard |
SensitivityType | Unknown |
SerialNumber | 431203795 |
Shadows | 2 |
ShadowTint | 0 |
SharpenDetail | 0 |
SharpenEdgeMasking | 0 |
SharpenRadius | +1.0 |
Sharpness | 3 |
ShutterSpeed | 1/160 |
ShutterSpeedValue | 1/160 |
SplitToningBalance | 0 |
SplitToningHighlightHue | 0 |
SplitToningHighlightSaturation | 0 |
SplitToningShadowHue | 0 |
SplitToningShadowSaturation | 0 |
SubjectDistance | 8.34 m |
ToneCurve | 0, 0, 255, 255 |
ToneCurveName | Linear |
Version | 6.3 |
Vibrance | 0 |
VignetteAmount | 0 |
WhiteBalance (2) | As Shot |
WhiteBalance | Auto |