Felt | Verdi |
AlreadyApplied | True |
Aperture | 6.3 |
ApertureValue | 6.3 |
BitsPerSample | 8 |
BlueHue | 0 |
BlueSaturation | 0 |
Brightness | +50 |
By-line | Lars Erik Nes |
CameraProfile | Adobe Standard |
CaptionWriter | Lars Erik Nes |
CFAPattern | [Red,Green][Green,Blue] |
ChromaticAberrationB | 0 |
ChromaticAberrationR | 0 |
CircleOfConfusion | 0.020 mm |
Clarity | 0 |
ColorComponents | 3 |
ColorNoiseReduction | 25 |
ColorNoiseReductionDetail | 50 |
ColorTemperature | 3350 |
Contrast (2) | +30 |
Contrast | Normal |
ConvertToGrayscale | False |
Copyright | Lars Erik Nes |
CopyrightFlag | True |
CopyrightNotice | Lars Erik Nes |
CreateDate (1) | 2010:07:19 21:33:24.00+02:00 |
CreateDate | 2010:07:19 21:33:24 |
Creator | Lars Erik Nes |
CreatorAddress | Kartheia 63a |
CreatorCity | Kristiansand |
CreatorCountry | Norway |
CreatorPostalCode | 4626 |
CreatorTool | Adobe Photoshop Lightroom |
CreatorWorkEmail | lars.erik.nes@gmail.com |
CreatorWorkTelephone | 004795522424 |
CreatorWorkURL | http://www.fotosalg.net |
CropAngle | 0 |
CropBottom | 0.875467 |
CropConstrainToWarp | 0 |
CropHeight | 804 |
CropLeft | 0.114144 |
CropRight | 0.854425 |
CropTop | 0 |
CropUnit | pixels |
CropWidth | 1024 |
CustomRendered | Normal |
DateTimeDigitized | 2010:07:19 21:33:24.00+02:00 |
DateTimeOriginal (1) | 2010:07:19 21:33:24.00+02:00 |
DateTimeOriginal | 2010:07:19 21:33:24 |
Defringe | 0 |
DigitalZoomRatio | 1 |
DOF | inf (0.74 m - inf) |
ExifImageHeight | 1024 |
ExifImageWidth | 804 |
Exposure | +0.65 |
ExposureCompensation | 0 |
ExposureMode | Auto |
ExposureProgram | Aperture-priority AE |
ExposureTime | 1/8 |
FillLight | 0 |
Flash | No Flash |
FlashFired | False |
FlashFunction | False |
FlashMode | Unknown |
FlashRedEyeMode | False |
FlashReturn | No return detection |
FNumber | 6.3 |
FocalLength | 10.0 mm |
FocalLength35efl | 10.0 mm (35 mm equivalent: 15.0 mm) |
FocalLengthIn35mmFormat | 15 mm |
FOV | 100.4 deg |
GainControl | None |
GrainAmount | 0 |
GreenHue | 0 |
GreenSaturation | 0 |
HasCrop | True |
HasSettings | True |
HighlightRecovery | 0 |
HueAdjustmentAqua | 0 |
HueAdjustmentBlue | 0 |
HueAdjustmentGreen | 0 |
HueAdjustmentMagenta | 0 |
HueAdjustmentOrange | 0 |
HueAdjustmentPurple | 0 |
HueAdjustmentRed | 0 |
HueAdjustmentYellow | 0 |
HyperfocalDistance | 0.79 m |
ImageHeight | 1024 |
ImageNumber | 14578 |
ImageSize | 804x1024 |
ImageWidth | 804 |
ISO | 250 |
Lens | 10.0-20.0 mm f/4.0-5.6 |
LensID (1) | 72 |
LensID | Sigma 10-20mm F4-5.6 EX DC HSM |
LensInfo | 10-20mm f/4-5.6 |
LensManualDistortionAmount | 0 |
LensProfileEnable | 0 |
LensProfileSetup | LensDefaults |
LightSource | Unknown |
LightValue | 7.0 |
LuminanceAdjustmentAqua | 0 |
LuminanceAdjustmentBlue | 0 |
LuminanceAdjustmentGreen | 0 |
LuminanceAdjustmentMagenta | 0 |
LuminanceAdjustmentOrange | 0 |
LuminanceAdjustmentPurple | 0 |
LuminanceAdjustmentRed | 0 |
LuminanceAdjustmentYellow | 0 |
LuminanceSmoothing | 0 |
Make | NIKON CORPORATION |
Marked | True |
MaxApertureValue | 4.0 |
Megapixels | 0.823 |
MeteringMode | Center-weighted average |
Model | NIKON D300 |
ModifyDate (1) | 2010:07:19 23:23:33+02:00 |
ModifyDate | 2010:07:19 23:23:33 |
ParametricDarks | 0 |
ParametricHighlights | 0 |
ParametricHighlightSplit | 75 |
ParametricLights | 0 |
ParametricMidtoneSplit | 50 |
ParametricShadows | 0 |
ParametricShadowSplit | 25 |
PerspectiveHorizontal | 0 |
PerspectiveRotate | 0.0 |
PerspectiveScale | 100 |
PerspectiveVertical | 0 |
PostCropVignetteAmount | 0 |
ProcessVersion | 5.7 |
ProfileDescription | sRGB IEC61966-2.1 |
RedHue | 0 |
RedSaturation | 0 |
Rights | Lars Erik Nes |
Saturation (2) | +10 |
Saturation | Normal |
SaturationAdjustmentAqua | 0 |
SaturationAdjustmentBlue | 0 |
SaturationAdjustmentGreen | 0 |
SaturationAdjustmentMagenta | 0 |
SaturationAdjustmentOrange | 0 |
SaturationAdjustmentPurple | 0 |
SaturationAdjustmentRed | 0 |
SaturationAdjustmentYellow | 0 |
ScaleFactor35efl | 1.5 |
SceneCaptureType | Standard |
SceneType | Directly photographed |
SensingMethod | One-chip color area |
SerialNumber | 4007308 |
Shadows | 5 |
ShadowTint | 0 |
SharpenDetail | 39 |
SharpenEdgeMasking | 20 |
SharpenRadius | +1.0 |
Sharpness (2) | 70 |
Sharpness | Normal |
ShutterSpeed | 1/8 |
ShutterSpeedValue | 1/8 |
Software | Ver.1.10 |
SplitToningBalance | 0 |
SplitToningHighlightHue | 0 |
SplitToningHighlightSaturation | 0 |
SplitToningShadowHue | 0 |
SplitToningShadowSaturation | 0 |
SubjectDistance | 10.6 m |
SubjectDistanceRange | Unknown |
Tint | +8 |
ToneCurve | 0, 0, 32, 22, 64, 56, 128, 128, 192, 196, 255, 255 |
ToneCurveName | Medium Contrast |
URL | http://www.fotosalg.net |
Version | 6.1 |
Vibrance | +10 |
VignetteAmount | 0 |
WebStatement | http://www.fotosalg.net |
WhiteBalance (2) | As Shot |
WhiteBalance | Auto |
Writer-Editor | Lars Erik Nes |