Felt | Verdi |
AlreadyApplied | True |
Aperture | 13.0 |
ApertureValue | 13.0 |
Artist | Kurt Gaasø |
BitsPerSample | 8 |
BlueHue | 0 |
BlueSaturation | 0 |
Brightness | +50 |
By-line | Kurt Gaas¿ |
CameraProfile | Adobe Standard |
ChromaticAberrationB | 0 |
ChromaticAberrationR | 0 |
CircleOfConfusion | 0.031 mm |
Clarity | +56 |
ColorComponents | 3 |
ColorMode | RGB |
ColorNoiseReduction | 25 |
ColorSpace | sRGB |
ColorTemperature | 4188 |
Contrast | +25 |
ConvertToGrayscale | False |
Copyright | Kurt Gaasø |
CopyrightFlag | True |
CopyrightNotice | Kurt Gaas¿ |
CreateDate (1) | 2010:05:01 16:57:53.67+02:00 |
CreateDate | 2010:05:01 16:57:53 |
Creator | Kurt Gaasø |
CreatorAddress | Lille Bislett 2 |
CreatorCity | Oslo |
CreatorCountry | Norway |
CreatorPostalCode | 0170 |
CreatorTool | Adobe Photoshop Lightroom |
CreatorWorkEmail | goga@online.no |
CropAngle | 2.09071 |
CropBottom | 1 |
CropHeight | 3552 |
CropLeft | 0.037495 |
CropRight | 0.962505 |
CropTop | 0 |
CropUnit | pixels |
CropWidth | 5328 |
CustomRendered | Normal |
DateTimeDigitized | 2010:05:01 16:57:53.67+02:00 |
DateTimeOriginal (1) | 2010:05:01 16:57:53.67+02:00 |
DateTimeOriginal | 2010:05:01 16:57:53 |
Defringe | 0 |
ExifImageHeight | 1280 |
ExifImageWidth | 853 |
Exposure | -0.25 |
ExposureCompensation | 0 |
ExposureMode | Manual |
ExposureProgram | Manual |
ExposureTime | 0.4 |
FillLight | 14 |
Firmware | 2.0.4 |
Flash | Off, Did not fire |
FlashCompensation | 0 |
FlashFired | False |
FlashFunction | False |
FlashMode | Off |
FlashRedEyeMode | False |
FlashReturn | No return detection |
FNumber | 13.0 |
FocalLength | 28.0 mm |
FocalLength35efl | 28.0 mm (35 mm equivalent: 27.3 mm) |
Format | image/jpeg |
FOV | 66.7 deg |
GradientBasedCorrActive | true |
GradientBasedCorrAmount | 1.000000 |
GradientBasedCorrBrightness (1) | 0.000000 |
GradientBasedCorrBrightness | 0.057471 |
GradientBasedCorrClarity (1) | 0.000000 |
GradientBasedCorrClarity | 0.931034 |
GradientBasedCorrContrast (1) | 0.000000 |
GradientBasedCorrContrast | 0.218391 |
GradientBasedCorrExposure (1) | -0.356322 |
GradientBasedCorrExposure | 0.172414 |
GradientBasedCorrHue | 0.000000 |
GradientBasedCorrMaskFullX (1) | 0.021690 |
GradientBasedCorrMaskFullX | 0.970348 |
GradientBasedCorrMaskFullY (1) | 0.763545 |
GradientBasedCorrMaskFullY | 0.431988 |
GradientBasedCorrMaskValue | 1.000000 |
GradientBasedCorrMaskWhat | Mask/Gradient |
GradientBasedCorrMaskZeroX (1) | 0.446291 |
GradientBasedCorrMaskZeroX | 0.359937 |
GradientBasedCorrMaskZeroY (1) | 0.634452 |
GradientBasedCorrMaskZeroY | 0.599174 |
GradientBasedCorrSaturation | 0.000000 |
GradientBasedCorrSharpness (1) | 0.011494 |
GradientBasedCorrSharpness | 0.333333 |
GradientBasedCorrWhat | Correction |
GreenHue | 0 |
GreenSaturation | 0 |
HasCrop | True |
HasSettings | True |
HighlightRecovery | 17 |
HueAdjustmentAqua | 0 |
HueAdjustmentBlue | 0 |
HueAdjustmentGreen | 0 |
HueAdjustmentMagenta | 0 |
HueAdjustmentOrange | 0 |
HueAdjustmentPurple | 0 |
HueAdjustmentRed | 0 |
HueAdjustmentYellow | 0 |
HyperfocalDistance | 1.96 m |
ICCProfileName | sRGB IEC61966-2.1 |
ImageHeight (1) | 5328 |
ImageHeight | 1280 |
ImageNumber | 0 |
ImageSize | 853x1280 |
ImageWidth (1) | 3552 |
ImageWidth | 853 |
ISO | 100 |
Keywords | Ons¿y, natur |
Lens | EF24-70mm f/2.8L USM |
LensInfo | 24-70mm f/? |
LightValue | 8.7 |
LuminanceAdjustmentAqua | 0 |
LuminanceAdjustmentBlue | 0 |
LuminanceAdjustmentGreen | 0 |
LuminanceAdjustmentMagenta | 0 |
LuminanceAdjustmentOrange | 0 |
LuminanceAdjustmentPurple | 0 |
LuminanceAdjustmentRed | 0 |
LuminanceAdjustmentYellow | 0 |
LuminanceSmoothing | 0 |
Make | Canon |
Marked | True |
MaxApertureValue | 2.8 |
Megapixels | 1.1 |
MeteringMode | Partial |
Model | Canon EOS 5D Mark II |
ModifyDate (1) | 2010:05:08 13:27:31+02:00 |
ModifyDate | 2010:05:08 13:27:31 |
Orientation | Horizontal (normal) |
ParametricDarks | 0 |
ParametricHighlights | 0 |
ParametricHighlightSplit | 75 |
ParametricLights | 0 |
ParametricMidtoneSplit | 50 |
ParametricShadows | 0 |
ParametricShadowSplit | 25 |
PostCropVignetteAmount | 0 |
ProfileDescription | sRGB IEC61966-2.1 |
Rating | 3 |
RedHue | 0 |
RedSaturation | 0 |
Rights | Kurt Gaasø |
Saturation | 0 |
SaturationAdjustmentAqua | 0 |
SaturationAdjustmentBlue | 0 |
SaturationAdjustmentGreen | 0 |
SaturationAdjustmentMagenta | 0 |
SaturationAdjustmentOrange | 0 |
SaturationAdjustmentPurple | 0 |
SaturationAdjustmentRed | 0 |
SaturationAdjustmentYellow | 0 |
ScaleFactor35efl | 1.0 |
SceneCaptureType | Standard |
SerialNumber | 630311499 |
Shadows | 5 |
ShadowTint | 0 |
SharpenDetail | 25 |
SharpenEdgeMasking | 0 |
SharpenRadius | +1.0 |
Sharpness | 91 |
ShutterSpeed | 0.4 |
ShutterSpeedValue | 0.4 |
Software | Adobe Photoshop CS4 Macintosh |
SplitToningBalance | 0 |
SplitToningHighlightHue | 0 |
SplitToningHighlightSaturation | 0 |
SplitToningShadowHue | 0 |
SplitToningShadowSaturation | 0 |
Subject | Onsøy, natur |
Tint | -72 |
ToneCurve | 0, 0, 32, 22, 64, 56, 128, 128, 192, 196, 255, 255 |
ToneCurveName | Medium Contrast |
URL_List | |
UsageTerms | Kurt Gaasø |
Version | 5.2 |
Vibrance | +38 |
VignetteAmount | 0 |
WhiteBalance (2) | Custom |
WhiteBalance | Auto |