Felt | Verdi |
AlreadyApplied | True |
Aperture | 9.0 |
ApertureValue | 9.0 |
BitsPerSample | 8 |
BlueHue | 0 |
BlueSaturation | 0 |
Brightness | +50 |
CameraProfile | Adobe Standard |
CFAPattern | [Green,Red][Blue,Green] |
ChromaticAberrationB | 0 |
ChromaticAberrationR | 0 |
CircleOfConfusion | 0.020 mm |
Clarity | +50 |
ColorComponents | 3 |
ColorNoiseReduction | 38 |
ColorTemperature | 7850 |
Contrast (2) | +57 |
Contrast | Low |
ConvertToGrayscale | False |
Copyright | Espen Seierstad |
CopyrightFlag | True |
CopyrightNotice | Espen Seierstad |
CreateDate (1) | 2007:05:26 23:06:20.41+02:00 |
CreateDate | 2007:05:26 23:06:20 |
CreatorTool | Adobe Photoshop Lightroom |
CropAngle | 0 |
CropBottom | 0.969499 |
CropHeight | 600 |
CropLeft | 0.052478 |
CropRight | 0.973887 |
CropTop | 0.04809 |
CropUnit | pixels |
CropWidth | 896 |
CustomRendered | Normal |
DateTimeDigitized | 2007:05:26 23:06:20.41+02:00 |
DateTimeOriginal (1) | 2007:05:26 23:06:20.41+02:00 |
DateTimeOriginal | 2007:05:26 23:06:20 |
Defringe | 0 |
DigitalZoomRatio | 1 |
DOF | inf (1.80 m - inf) |
ExifImageHeight | 600 |
ExifImageWidth | 896 |
Exposure | 0.00 |
ExposureCompensation | -1/3 |
ExposureMode | Auto |
ExposureProgram | Program AE |
ExposureTime | 1.3 |
FillLight | 0 |
Flash | No Flash |
FlashFired | False |
FlashFunction | False |
FlashMode | Unknown |
FlashRedEyeMode | False |
FlashReturn | No return detection |
FNumber | 9.0 |
FocalLength | 18.0 mm |
FocalLength35efl | 18.0 mm (35 mm equivalent: 27.0 mm) |
FocalLengthIn35mmFormat | 27 mm |
FOV | 67.4 deg |
GainControl | None |
GradientBasedCorrActive | true |
GradientBasedCorrAmount | 1.000000 |
GradientBasedCorrBrightness | 0.000000 |
GradientBasedCorrClarity | 0.000000 |
GradientBasedCorrContrast (1) | 0.350000 |
GradientBasedCorrContrast | -1.000000 |
GradientBasedCorrExposure (1) | -0.375000 |
GradientBasedCorrExposure | 0.000000 |
GradientBasedCorrHue | 116.000000 |
GradientBasedCorrMaskFullX (1) | 0.519898 |
GradientBasedCorrMaskFullX | 0.901497 |
GradientBasedCorrMaskFullY (1) | 0.034038 |
GradientBasedCorrMaskFullY | 0.977511 |
GradientBasedCorrMaskValue | 1.000000 |
GradientBasedCorrMaskWhat | Mask/Gradient |
GradientBasedCorrMaskZeroX (1) | 0.521241 |
GradientBasedCorrMaskZeroX | 0.794252 |
GradientBasedCorrMaskZeroY (1) | 0.796860 |
GradientBasedCorrMaskZeroY | 0.403300 |
GradientBasedCorrSaturation (1) | -0.225000 |
GradientBasedCorrSaturation | 0.000000 |
GradientBasedCorrSharpness | 0.000000 |
GradientBasedCorrWhat | Correction |
GreenHue | 0 |
GreenSaturation | 0 |
HasCrop | True |
HasSettings | True |
HighlightRecovery | 0 |
HueAdjustmentAqua | 0 |
HueAdjustmentBlue | 0 |
HueAdjustmentGreen | 0 |
HueAdjustmentMagenta | 0 |
HueAdjustmentOrange | +5 |
HueAdjustmentPurple | 0 |
HueAdjustmentRed | 0 |
HueAdjustmentYellow | 0 |
HyperfocalDistance | 1.80 m |
ImageHeight | 600 |
ImageNumber | 3202 |
ImageSize | 896x600 |
ImageWidth | 896 |
ISO | 100 |
Label | Red |
Lens | 18.0-200.0 mm f/3.5-5.6 |
LensInfo | 18-200mm f/3.5-5.6 |
LightSource | Unknown |
LightValue | 6.0 |
LuminanceAdjustmentAqua | 0 |
LuminanceAdjustmentBlue | -7 |
LuminanceAdjustmentGreen | 0 |
LuminanceAdjustmentMagenta | 0 |
LuminanceAdjustmentOrange | +10 |
LuminanceAdjustmentPurple | 0 |
LuminanceAdjustmentRed | 0 |
LuminanceAdjustmentYellow | -2 |
LuminanceSmoothing | 58 |
Make | NIKON CORPORATION |
Marked | True |
MaxApertureValue | 3.5 |
Megapixels | 0.538 |
MeteringMode | Multi-segment |
Model | NIKON D200 |
ModifyDate (1) | 2010:04:12 17:26:19+02:00 |
ModifyDate | 2010:04:12 17:26:19 |
ParametricDarks | 0 |
ParametricHighlights | 0 |
ParametricHighlightSplit | 75 |
ParametricLights | 0 |
ParametricMidtoneSplit | 50 |
ParametricShadows | 0 |
ParametricShadowSplit | 25 |
PostCropVignetteAmount | 0 |
ProfileDescription | sRGB IEC61966-2.1 |
Rating | 4 |
RedHue | 0 |
RedSaturation | 0 |
Rights | Espen Seierstad |
Saturation (2) | 0 |
Saturation | Normal |
SaturationAdjustmentAqua | 0 |
SaturationAdjustmentBlue | 0 |
SaturationAdjustmentGreen | 0 |
SaturationAdjustmentMagenta | 0 |
SaturationAdjustmentOrange | +14 |
SaturationAdjustmentPurple | 0 |
SaturationAdjustmentRed | 0 |
SaturationAdjustmentYellow | 0 |
ScaleFactor35efl | 1.5 |
SceneCaptureType | Standard |
SceneType | Directly photographed |
SensingMethod | One-chip color area |
Shadows | 5 |
ShadowTint | 0 |
SharpenDetail | 73 |
SharpenEdgeMasking | 11 |
SharpenRadius | +0.8 |
Sharpness (2) | 59 |
Sharpness | Hard |
ShutterSpeed | 1.3 |
ShutterSpeedValue | 1.3 |
Software | Ver.2.00 |
SplitToningBalance | 0 |
SplitToningHighlightHue | 0 |
SplitToningHighlightSaturation | 0 |
SplitToningShadowHue | 0 |
SplitToningShadowSaturation | 0 |
SubjectDistance | 4294967295 m |
SubjectDistanceRange | Unknown |
Tint | +7 |
ToneCurve | 0, 0, 32, 22, 64, 56, 128, 128, 192, 196, 255, 255 |
ToneCurveName | Medium Contrast |
UserComment | Espen Seierstad |
Version | 5.6 |
Vibrance | +25 |
VignetteAmount | 0 |
WhiteBalance (2) | As Shot |
WhiteBalance | Auto |