Felt | Verdi |
AlreadyApplied | True |
Aperture | 5.6 |
ApertureValue | 5.6 |
Artist | MAGNE@THIDEMANSEN |
BitsPerSample | 8 |
BlueHue | 0 |
BlueSaturation | 0 |
Brightness | +50 |
By-line | MAGNE@THIDEMANSEN |
CameraProfile | Adobe Standard |
Caption-Abstract | Rally Sweden |
CFAPattern | [Red,Green][Green,Blue] |
ChromaticAberrationB | 0 |
ChromaticAberrationR | 0 |
CircleOfConfusion | 0.020 mm |
City | Torsby |
Clarity | 0 |
ColorComponents | 3 |
ColorNoiseReduction | 25 |
ColorTemperature | 6750 |
Contrast (2) | +25 |
Contrast | Normal |
ConvertToGrayscale | False |
Country | Swerige |
Country-PrimaryLocationCode | SWE |
Country-PrimaryLocationName | Swerige |
CountryCode | SWE |
CreateDate (1) | 2010:02:12 09:57:34.78+01:00 |
CreateDate | 2010:02:12 09:57:34 |
Creator | MAGNE@THIDEMANSEN |
CreatorTool | Adobe Photoshop Lightroom |
CropAngle | 0 |
CropBottom | 0.937811 |
CropHeight | 645 |
CropLeft | 0.052849 |
CropRight | 1 |
CropTop | 0.017413 |
CropUnit | pixels |
CropWidth | 1000 |
CustomRendered | Normal |
DateCreated | 2010:02:12 |
DateTimeDigitized | 2010:02:12 09:57:34.78+01:00 |
DateTimeOriginal (1) | 2010:02:12 09:57:34.78+01:00 |
DateTimeOriginal | 2010:02:12 09:57:34 |
Defringe | 0 |
Description | Rally Sweden |
DigitalZoomRatio | 1 |
ExifImageHeight | 645 |
ExifImageWidth | 1000 |
Exposure | +0.38 |
ExposureCompensation | +1/3 |
ExposureMode | Auto |
ExposureProgram | Aperture-priority AE |
ExposureTime | 1/250 |
FillLight | 0 |
Flash | No Flash |
FlashFired | False |
FlashFunction | False |
FlashMode | Unknown |
FlashRedEyeMode | False |
FlashReturn | No return detection |
FNumber | 5.6 |
FocalLength | 70.0 mm |
FocalLength35efl | 70.0 mm (35 mm equivalent: 105.0 mm) |
FocalLengthIn35mmFormat | 105 mm |
FOV | 19.5 deg |
GainControl | None |
GreenHue | 0 |
GreenSaturation | 0 |
HasCrop | True |
HasSettings | True |
Headline | Rally |
HighlightRecovery | 0 |
HueAdjustmentAqua | 0 |
HueAdjustmentBlue | 0 |
HueAdjustmentGreen | 0 |
HueAdjustmentMagenta | 0 |
HueAdjustmentOrange | 0 |
HueAdjustmentPurple | 0 |
HueAdjustmentRed | 0 |
HueAdjustmentYellow | 0 |
HyperfocalDistance | 43.68 m |
ImageDescription | Rally Sweden |
ImageHeight | 645 |
ImageNumber | 2106 |
ImageSize | 1000x645 |
ImageWidth | 1000 |
IntellectualGenre | SPO |
ISO | 320 |
Keywords | WRC, bilsport, motorsport, rally, sverige, sweden, swedish rally |
Lens | 70.0-300.0 mm f/4.5-5.6 |
LensInfo | 70-300mm f/4.5-5.6 |
LightSource | Unknown |
LightValue | 11.3 |
LuminanceAdjustmentAqua | 0 |
LuminanceAdjustmentBlue | 0 |
LuminanceAdjustmentGreen | 0 |
LuminanceAdjustmentMagenta | 0 |
LuminanceAdjustmentOrange | 0 |
LuminanceAdjustmentPurple | 0 |
LuminanceAdjustmentRed | 0 |
LuminanceAdjustmentYellow | 0 |
LuminanceSmoothing | 74 |
Make | NIKON CORPORATION |
MaxApertureValue | 4.4 |
Megapixels | 0.645 |
MeteringMode | Multi-segment |
Model | NIKON D300 |
ModifyDate (1) | 2010:02:26 21:59:03+01:00 |
ModifyDate | 2010:02:26 21:59:03 |
PaintCorrectionActive | true |
PaintCorrectionAmount | 1.000000 |
PaintCorrectionBrightness | 0.025000 |
PaintCorrectionClarity | 0.000000 |
PaintCorrectionContrast | 0.000000 |
PaintCorrectionExposure | 0.075000 |
PaintCorrectionHue | 2.000000 |
PaintCorrectionMaskCenterWeight | 0.437858 |
PaintCorrectionMaskFlow | 0.827000 |
PaintCorrectionMaskRadius | 0.023392 |
PaintCorrectionMaskValue | 0.513000 |
PaintCorrectionMaskWhat | Mask/Paint |
PaintCorrectionSaturation (1) | 0.000000 |
PaintCorrectionSaturation | 0.020000 |
PaintCorrectionSharpness | 0.875000 |
PaintCorrectionWhat | Correction |
ParametricDarks | 0 |
ParametricHighlights | 0 |
ParametricHighlightSplit | 75 |
ParametricLights | 0 |
ParametricMidtoneSplit | 50 |
ParametricShadows | 0 |
ParametricShadowSplit | 25 |
PostCropVignetteAmount | 0 |
ProfileDescription | sRGB IEC61966-2.1 |
RedHue | 0 |
RedSaturation | 0 |
Saturation (2) | 0 |
Saturation | Normal |
SaturationAdjustmentAqua | 0 |
SaturationAdjustmentBlue | 0 |
SaturationAdjustmentGreen | 0 |
SaturationAdjustmentMagenta | 0 |
SaturationAdjustmentOrange | 0 |
SaturationAdjustmentPurple | 0 |
SaturationAdjustmentRed | -10 |
SaturationAdjustmentYellow | 0 |
ScaleFactor35efl | 1.5 |
Scene | Rally |
SceneCaptureType | Standard |
SceneType | Directly photographed |
SensingMethod | One-chip color area |
SerialNumber | 4165605 |
Shadows | 5 |
ShadowTint | 0 |
SharpenDetail | 43 |
SharpenEdgeMasking | 0 |
SharpenRadius | +1.0 |
Sharpness (2) | 73 |
Sharpness | Normal |
ShutterSpeed | 1/250 |
ShutterSpeedValue | 1/250 |
Software | Ver.1.10 |
SplitToningBalance | 0 |
SplitToningHighlightHue | 0 |
SplitToningHighlightSaturation | 0 |
SplitToningShadowHue | 0 |
SplitToningShadowSaturation | 0 |
Subject | WRC, bilsport, motorsport, rally, sverige, sweden, swedish rally |
SubjectDistanceRange | Unknown |
Tint | +4 |
ToneCurve | 0, 0, 32, 22, 64, 56, 128, 128, 192, 196, 255, 255 |
ToneCurveName | Medium Contrast |
Version | 5.5 |
Vibrance | 0 |
VignetteAmount | 0 |
WhiteBalance (2) | Custom |
WhiteBalance | Auto |