Felt | Verdi |
AlreadyApplied | True |
Aperture | 8.0 |
ApertureValue | 8.0 |
BitsPerSample (1) | 8, 8, 8 |
BitsPerSample (2) | 8 8 8 |
BitsPerSample | 8 |
BlueHue | 0 |
BlueSaturation | 0 |
Brightness | +50 |
CameraProfile | ACR 2.4 |
ChromaticAberrationB | 0 |
ChromaticAberrationR | 0 |
ColorComponents | 1 |
ColorMode | RGB |
ColorSpace (1) | Unknown (-1) |
ColorSpace | Uncalibrated |
ColorTemperature | 5500 |
Contrast | +100 |
ConvertToGrayscale | True |
CopyrightFlag | False |
CreateDate (1) | 2007:06:19 10:18:21+02:00 |
CreateDate | 2007:06:09 18:38:20 |
CreatorTool | Adobe Photoshop CS3 Windows |
DateTimeDigitized | 2007:06:09 18:38:20+02:00 |
DateTimeOriginal (1) | 2007:06:09 18:38:20+02:00 |
DateTimeOriginal | 2007:06:09 18:38:20 |
ExifImageHeight | 768 |
ExifImageWidth | 1024 |
Exposure | 0.00 |
ExposureCompensation | 0 |
ExposureProgram | Program AE |
ExposureTime | 1/250 |
FillLight | 0 |
Firmware | 1.00 |
Flash | Fired |
FlashFired | True |
FNumber | 8.0 |
FocalLength | 20.7 mm |
FocalLength35efl | 20.7 mm |
Format | image/jpeg |
GrayMixerAqua | -17 |
GrayMixerBlue | +12 |
GrayMixerGreen | -28 |
GrayMixerMagenta | +4 |
GrayMixerOrange | -20 |
GrayMixerPurple | +17 |
GrayMixerRed | -11 |
GrayMixerYellow | -24 |
GreenHue | 0 |
GreenSaturation | 0 |
HasCrop | False |
HasSettings | True |
HighlightRecovery | 13 |
ICCProfileName | Adobe RGB (1998) |
ImageHeight (1) | 2304 |
ImageHeight | 768 |
ImageSize | 1024x768 |
ImageWidth (1) | 3072 |
ImageWidth | 1024 |
ISO | 50 |
Lens | 5.8-20.7 mm |
LensInfo | 5.8125-20.6875mm f/? |
LightValue | 15.0 |
LuminanceSmoothing | 0 |
Make | Canon |
MaxApertureValue | 5.5 |
Megapixels | 0.786 |
MeteringMode | Multi-segment |
Model | Canon PowerShot S70 |
ModifyDate (1) | 2007:06:19 10:18:21+02:00 |
ModifyDate | 2007:06:19 10:18:21 |
Orientation | Horizontal (normal) |
ParametricDarks | -42 |
ParametricHighlights | 0 |
ParametricHighlightSplit | 75 |
ParametricLights | +100 |
ParametricMidtoneSplit | 50 |
ParametricShadows | 0 |
ParametricShadowSplit | 25 |
PhotometricInterpretation | RGB |
PlanarConfiguration | Chunky |
ProfileDescription | Adobe RGB (1998) |
RedHue | 0 |
RedSaturation | 0 |
SamplesPerPixel | 3 |
Shadows | 49 |
ShadowTint | 0 |
Sharpness | 25 |
ShutterSpeed | 1/250 |
ShutterSpeedValue | 1/250 |
Software | Adobe Photoshop CS3 Windows |
SplitToningBalance | 0 |
SplitToningHighlightHue | 0 |
SplitToningHighlightSaturation | 0 |
SplitToningShadowHue | 0 |
SplitToningShadowSaturation | 0 |
Tint | 0 |
ToneCurve | 0, 0, 32, 16, 64, 50, 128, 128, 192, 202, 255, 255 |
ToneCurveName | Strong Contrast |
URL_List | |
Version | 1.0 |
VignetteAmount | -72 |
VignetteMidpoint | 0 |
WhiteBalance | As Shot |