Felt | Verdi |
AlreadyApplied | True |
Aperture | 5.6 |
ApertureValue | 5.6 |
Artist | Helge Sterk |
BitsPerSample (1) | 16, 16, 16 |
BitsPerSample (2) | 16 16 16 |
BitsPerSample | 8 |
BlueHue | +18 |
BlueSaturation | +53 |
Brightness | +44 |
By-line | Helge Sterk |
CameraProfile | ACR 3.1 |
ChromaticAberrationB | 0 |
ChromaticAberrationR | 0 |
CircleOfConfusion | 0.019 mm |
ColorComponents | 3 |
ColorMode | RGB |
ColorNoiseReduction | 25 |
ColorSpace (1) | Unknown (-1) |
ColorSpace | Uncalibrated |
ColorTemperature | 6588 |
Contrast | +25 |
ConvertToGrayscale | False |
CopyrightFlag | False |
CreateDate (1) | 2007:04:19 23:19:40+02:00 |
CreateDate | 2007:04:19 09:33:43 |
Creator | Helge Sterk |
CreatorTool | Adobe Photoshop CS2 Windows |
CropAngle | 0 |
CropBottom | 0.89819 |
CropHeight | 1548 |
CropLeft | 0.063348 |
CropRight | 0.907994 |
CropTop | 0.226244 |
CropUnit | pixels |
CropWidth | 2919 |
CustomRendered | Normal |
DateTimeDigitized | 2007:04:19 09:33:43+02:00 |
DateTimeOriginal (1) | 2007:04:19 09:33:43+02:00 |
DateTimeOriginal | 2007:04:19 09:33:43 |
ExifImageHeight | 426 |
ExifImageWidth | 803 |
Exposure | -0.80 |
ExposureCompensation | 0 |
ExposureMode | Manual |
ExposureProgram | Manual |
ExposureTime | 1/160 |
FillLight | 0 |
Firmware | 1.0.1 |
Flash | Off, Did not fire |
FlashCompensation | 0 |
FlashFired | False |
FlashFunction | False |
FlashMode | Off |
FlashRedEyeMode | False |
FlashReturn | No return detection |
FNumber | 5.6 |
FocalLength | 400.0 mm |
FocalLength35efl | 400.0 mm (35 mm equivalent: 648.9 mm) |
Format | image/jpeg |
FOV | 3.2 deg |
GreenHue | +11 |
GreenSaturation | +15 |
HasCrop | True |
HasSettings | True |
HighlightRecovery | 0 |
HueAdjustmentAqua | 0 |
HueAdjustmentBlue | +18 |
HueAdjustmentGreen | 0 |
HueAdjustmentMagenta | 0 |
HueAdjustmentOrange | 0 |
HueAdjustmentPurple | 0 |
HueAdjustmentRed | 0 |
HueAdjustmentYellow | 0 |
HyperfocalDistance | 1542.59 m |
ICCProfileName | ProPhoto RGB |
ImageHeight (2) | 1548 |
ImageHeight | 426 |
ImageNumber | 64 |
ImageSize | 803x426 |
ImageWidth (1) | 2919 |
ImageWidth | 803 |
ISO | 400 |
Keywords | oter |
Lens | 100.0-400.0 mm |
LensInfo | 100-400mm f/? |
LightValue | 10.3 |
LuminanceAdjustmentAqua | 0 |
LuminanceAdjustmentBlue | +4 |
LuminanceAdjustmentGreen | 0 |
LuminanceAdjustmentMagenta | 0 |
LuminanceAdjustmentOrange | 0 |
LuminanceAdjustmentPurple | 0 |
LuminanceAdjustmentRed | 0 |
LuminanceAdjustmentYellow | 0 |
LuminanceSmoothing | 0 |
Make | Canon |
MaxApertureValue | 5.6 |
Megapixels | 0.342 |
MeteringMode | Multi-segment |
Model | Canon EOS 350D DIGITAL |
ModifyDate (1) | 2007:04:19 23:19:40+02:00 |
ModifyDate | 2007:04:19 23:19:40 |
Orientation | Horizontal (normal) |
OwnerName | Helge Sterk |
ParametricDarks | 0 |
ParametricHighlights | 0 |
ParametricHighlightSplit | 75 |
ParametricLights | 0 |
ParametricMidtoneSplit | 50 |
ParametricShadows | 0 |
ParametricShadowSplit | 25 |
PhotometricInterpretation | RGB |
PlanarConfiguration | Chunky |
PrivateRTKInfo | cHJpdmF0ZVJUS0luZm8gPSB7Cgl7CgkJZmxhdCA9IHsKCQkJIm90ZXIiLAoJCX0sCgkJcGF0aCA9IHsKCQkJIm90ZXIiLAoJCX0sCgkJcHJpbWFyeSA9ICJvdGVyIiwKCQl1dWlkID0gIkRBMjBDMEM3LTIwRDEtNEJFNi05MjBBLUYzQUEyMTExRUU4QyIsCgl9LAp9Cg== |
ProfileDescription | ProPhoto RGB |
RedHue | +18 |
RedSaturation | +11 |
SamplesPerPixel | 3 |
Saturation | 0 |
SaturationAdjustmentAqua | 0 |
SaturationAdjustmentBlue | +13 |
SaturationAdjustmentGreen | 0 |
SaturationAdjustmentMagenta | 0 |
SaturationAdjustmentOrange | 0 |
SaturationAdjustmentPurple | 0 |
SaturationAdjustmentRed | 0 |
SaturationAdjustmentYellow | 0 |
ScaleFactor35efl | 1.6 |
SceneCaptureType | Standard |
SerialNumber | 330104000 |
Shadows | 15 |
ShadowTint | +13 |
Sharpness | 25 |
ShutterSpeed | 1/160 |
ShutterSpeedValue | 1/160 |
Software | Adobe Photoshop CS2 Windows |
SplitToningBalance | 0 |
SplitToningHighlightHue | 0 |
SplitToningHighlightSaturation | 0 |
SplitToningShadowHue | 0 |
SplitToningShadowSaturation | 0 |
Subject | oter |
Tint | +8 |
ToneCurve | 0, 0, 32, 22, 64, 56, 128, 128, 192, 196, 255, 255 |
ToneCurveName | Medium Contrast |
URL_List | |
Version | 1.0 |
Vibrance | 0 |
VignetteAmount | 0 |
WhiteBalance (2) | Custom |
WhiteBalance | Auto |