Felt | Verdi |
AlreadyApplied | True |
Aperture | 4.0 |
ApertureValue | 4.0 |
AutoLateralCA | 1 |
BitsPerSample | 8 |
Blacks2012 | -8 |
BlueHue | 0 |
BlueSaturation | 0 |
BrightnessValue | 0.4390625 |
CameraProfile | Adobe Standard |
CircleOfConfusion | 0.030 mm |
Clarity2012 | +12 |
ColorComponents | 3 |
ColorGradeBlending | 60 |
ColorGradeGlobalHue | 0 |
ColorGradeGlobalLum | 0 |
ColorGradeGlobalSat | 0 |
ColorGradeHighlightLum | +17 |
ColorGradeMidtoneHue | 225 |
ColorGradeMidtoneLum | +20 |
ColorGradeMidtoneSat | 12 |
ColorGradeShadowLum | 0 |
ColorNoiseReduction | 0 |
ColorSpace | sRGB |
ColorTemperature | 3978 |
ColorTransform | YCbCr |
CompatibleVersion | 251920384 |
Contrast | Normal |
Contrast2012 | +33 |
CreateDate (1) | 2024:01:18 21:37:27+02:00 |
CreateDate | 2024:01:18 21:37:27 |
CreatorTool | Adobe Photoshop Lightroom Classic 13.0.1 (Macintosh) |
CropAngle | 0 |
CropBottom | 0.7314 |
CropConstrainToWarp | 0 |
CropLeft | 0.228892 |
CropRight | 0.829457 |
CropTop | 0.22603 |
CurveRefineSaturation | 100 |
CustomRendered | Normal |
DateCreated (1) | 2024:01:18 |
DateCreated | 2024:01:18 21:37:27+02:00 |
DateTimeOriginal | 2024:01:18 21:37:27 |
DefringeGreenAmount | 0 |
DefringeGreenHueHi | 60 |
DefringeGreenHueLo | 40 |
DefringePurpleAmount | 0 |
DefringePurpleHueHi | 70 |
DefringePurpleHueLo | 30 |
Dehaze | +17 |
DigitalZoomRatio | 1 |
DistortionCorrectionAlreadyApplied | True |
EnhanceDenoiseAlreadyApplied | True |
EnhanceDenoiseLumaAmount | 80 |
EnhanceDenoiseVersion | 251658240 |
EnhanceDetailsAlreadyApplied | True |
EnhanceDetailsVersion | 218300416 |
Exposure2012 | +1.50 |
ExposureCompensation | 0 |
ExposureMode | Manual |
ExposureProgram | Manual |
ExposureTime | 1/160 |
Flash | Off, Did not fire |
FNumber | 4.0 |
FocalLength | 26.0 mm |
FocalLength35efl | 26.0 mm (35 mm equivalent: 26.0 mm) |
FocalLengthIn35mmFormat | 26 mm |
Format | image/jpeg |
FOV | 69.4 deg |
GrainAmount | 0 |
GreenHue | 0 |
GreenSaturation | 0 |
HasCrop | True |
HasSettings | True |
HDREditMode | 0 |
Highlights2012 | -99 |
HueAdjustmentAqua | -4 |
HueAdjustmentBlue | -20 |
HueAdjustmentGreen | -55 |
HueAdjustmentMagenta | -23 |
HueAdjustmentOrange | +4 |
HueAdjustmentPurple | -62 |
HueAdjustmentRed | +8 |
HueAdjustmentYellow | -8 |
HyperfocalDistance | 5.62 m |
ImageHeight | 2681 |
ImageSize | 4776x2681 |
ImageWidth | 4776 |
ISO | 2000 |
LateralChromaticAberrationCorrectionAlreadyApplied | True |
Lens | FE 24-70mm F4 ZA OSS |
LensDistortInfo | 33481/32768 -88231170/1073741824 37649328/1073741824 4658625/1073741824 |
LensInfo | 24-70mm f/4 |
LensManualDistortionAmount | 0 |
LensModel | FE 24-70mm F4 ZA OSS |
LensProfileDistortionScale | 100 |
LensProfileEnable | 1 |
LensProfileFilename | SONY (Sony FE 24-70mm F4 ZA OSS) - RAW.lcp |
LensProfileIsEmbedded | False |
LensProfileName | Adobe (Sony FE 24-70mm F4 ZA OSS) |
LensProfileSetup | LensDefaults |
LensProfileVignettingScale | 100 |
LightSource | Unknown |
LightValue | 7.0 |
LookAmount | 1 |
LookGroup | Profiles |
LookName | Adobe Color |
LookParametersCameraProfile | Adobe Standard |
LookParametersConvertToGrayscale | False |
LookParametersLookTable | E1095149FDB39D7A057BAB208837E2E1 |
LookParametersProcessVersion | 15.4 |
LookParametersToneCurvePV2012 | 0, 0, 22, 16, 40, 35, 127, 127, 224, 230, 240, 246, 255, 255 |
LookParametersToneCurvePV2012Blue | 0, 0, 255, 255 |
LookParametersToneCurvePV2012Green | 0, 0, 255, 255 |
LookParametersToneCurvePV2012Red | 0, 0, 255, 255 |
LookParametersVersion | 16.0 |
LookSupportsAmount | false |
LookSupportsMonochrome | false |
LookSupportsOutputReferred | false |
LuminanceAdjustmentAqua | +8 |
LuminanceAdjustmentBlue | +23 |
LuminanceAdjustmentGreen | +23 |
LuminanceAdjustmentMagenta | +8 |
LuminanceAdjustmentOrange | +8 |
LuminanceAdjustmentPurple | +16 |
LuminanceAdjustmentRed | +16 |
LuminanceAdjustmentYellow | +23 |
LuminanceSmoothing | 0 |
Make | SONY |
MaxApertureValue | 4.0 |
Megapixels | 12.8 |
MeteringMode | Multi-segment |
Model | ILCE-7RM3 |
ModifyDate (1) | 2024:01:20 17:07:34+01:00 |
ModifyDate | 2024:01:20 17:07:34 |
OverrideLookVignette | False |
ParametricDarks | 0 |
ParametricHighlights | 0 |
ParametricHighlightSplit | 75 |
ParametricLights | 0 |
ParametricMidtoneSplit | 50 |
ParametricShadows | 0 |
ParametricShadowSplit | 25 |
PerspectiveAspect | 0 |
PerspectiveHorizontal | 0 |
PerspectiveRotate | 0.0 |
PerspectiveScale | 100 |
PerspectiveUpright | 0 |
PerspectiveVertical | 0 |
PerspectiveX | 0.00 |
PerspectiveY | 0.00 |
PostCropVignetteAmount | -16 |
PostCropVignetteFeather | 50 |
PostCropVignetteHighlightContrast | 0 |
PostCropVignetteMidpoint | 50 |
PostCropVignetteRoundness | 0 |
PostCropVignetteStyle | 1 |
PreservedFileName | DSC07468.ARW |
ProcessVersion | 15.4 |
ProfileDescription | sRGB IEC61966-2.1 |
RawFileName | DSC07468-Forbedret-NR.dng |
RecommendedExposureIndex | 2000 |
RedHue | 0 |
RedSaturation | 0 |
Saturation (1) | +16 |
Saturation | Normal |
SaturationAdjustmentAqua | -16 |
SaturationAdjustmentBlue | -4 |
SaturationAdjustmentGreen | -39 |
SaturationAdjustmentMagenta | -8 |
SaturationAdjustmentOrange | +16 |
SaturationAdjustmentPurple | +8 |
SaturationAdjustmentRed | +4 |
SaturationAdjustmentYellow | -8 |
ScaleFactor35efl | 1.0 |
SceneCaptureType | Standard |
SceneType | Directly photographed |
SensitivityType | Recommended Exposure Index |
Shadows2012 | +72 |
ShadowTint | 0 |
SharpenDetail | 25 |
SharpenEdgeMasking | 0 |
SharpenRadius | +1.0 |
Sharpness (1) | 40 |
Sharpness | Normal |
ShutterSpeed | 1/160 |
ShutterSpeedValue | 1/160 |
Software | Adobe Photoshop Lightroom Classic 13.0.1 (Macintosh) |
SplitToningBalance | +25 |
SplitToningHighlightHue | 250 |
SplitToningHighlightSaturation | 18 |
SplitToningShadowHue | 72 |
SplitToningShadowSaturation | 4 |
Texture | +16 |
Tint | +14 |
ToneCurveName2012 | Custom |
ToneCurvePV2012 | 0, 0, 67, 66, 188, 180, 255, 255 |
ToneCurvePV2012Blue | 0, 0, 67, 64, 144, 152, 203, 204, 255, 255 |
ToneCurvePV2012Green | 0, 0, 255, 255 |
ToneCurvePV2012Red | 0, 0, 67, 64, 154, 151, 209, 200, 255, 255 |
Version | 16.0 |
Vibrance | +31 |
VignetteAmount | 0 |
VignetteCorrectionAlreadyApplied | True |
WhiteBalance (1) | Custom |
WhiteBalance | Auto |
Whites2012 | +23 |