Felt | Verdi |
AlreadyApplied | True |
Aperture | 10.0 |
ApertureValue | 10.0 |
ApproximateFocusDistance | 4294967295 |
Artist | Geir Vidar Knutsen |
AutoLateralCA | 0 |
BitsPerSample | 8 |
Blacks2012 | +100 |
BlueHue | 0 |
BlueSaturation | 0 |
By-line | Geir Vidar Knutsen |
CameraProfile | Adobe Standard |
CircleOfConfusion | 0.005 mm |
Clarity2012 | +100 |
ColorComponents | 3 |
ColorGradeBlending | 50 |
ColorGradeGlobalHue | 0 |
ColorGradeGlobalLum | 0 |
ColorGradeGlobalSat | 0 |
ColorGradeHighlightLum | 0 |
ColorGradeMidtoneHue | 0 |
ColorGradeMidtoneLum | 0 |
ColorGradeMidtoneSat | 0 |
ColorGradeShadowLum | 0 |
ColorMode | RGB |
ColorNoiseReduction | 25 |
ColorNoiseReductionDetail | 50 |
ColorNoiseReductionSmoothness | 50 |
ColorSpace | Uncalibrated |
ColorTemperature | 5100 |
ColorTransform | YCbCr |
Contrast2012 | -82 |
CreateDate | 2021:02:06 13:24:42 |
Creator | Geir Vidar Knutsen |
CustomRendered | Normal |
DateCreated (1) | 2021:02:06 |
DateCreated | 2021:02:06 13:24:42.026+01:00 |
DateTimeOriginal | 2021:02:06 13:24:42 |
DefringeGreenAmount | 0 |
DefringeGreenHueHi | 60 |
DefringeGreenHueLo | 40 |
DefringePurpleAmount | 0 |
DefringePurpleHueHi | 70 |
DefringePurpleHueLo | 30 |
Dehaze | +5 |
DOF | inf (93.32 m - inf) |
ExifImageHeight | 743 |
ExifImageWidth | 1200 |
Exposure2012 | +0.40 |
ExposureCompensation | -1 |
ExposureMode | Auto |
ExposureProgram | Shutter speed priority AE |
ExposureTime | 1/640 |
Firmware | 1.2.1 |
Flash | Off, Did not fire |
FlashCompensation | 0 |
FNumber | 10.0 |
FocalLength | 70.0 mm |
FocalLength35efl | 70.0 mm (35 mm equivalent: 400.6 mm) |
Format | image/jpeg |
FOV | 5.1 deg |
GPSAltitude (1) | 251.9 m |
GPSAltitude | 251.9 m Above Sea Level |
GPSAltitudeRef | Above Sea Level |
GPSDateStamp | 2021:02:06 |
GPSDateTime | 2021:02:06 12:24:38.9Z |
GPSDOP | 2.4 |
GPSLatitude (1) | 62 deg 45' 26.66" |
GPSLatitude | 62 deg 45' 26.66" N |
GPSLatitudeRef | North |
GPSLongitude (1) | 7 deg 12' 15.41" |
GPSLongitude | 7 deg 12' 15.41" E |
GPSLongitudeRef | East |
GPSMapDatum | WGS-84 |
GPSMeasureMode | 3-Dimensional Measurement |
GPSPosition | 62 deg 45' 26.66" N, 7 deg 12' 15.41" E |
GPSSatellites | 12 |
GPSStatus | Measurement Active |
GPSTimeStamp | 12:24:38.9 |
GPSVersionID | 2.3.0.0 |
GradientBasedCorrActive | true |
GradientBasedCorrAmount | 1.000000 |
GradientBasedCorrBrightness | 0.000000 |
GradientBasedCorrClarity | 0.000000 |
GradientBasedCorrClarity2012 | 0.850000 |
GradientBasedCorrContrast | 0.000000 |
GradientBasedCorrContrast2012 | -0.010000 |
GradientBasedCorrCorrectionRangeMaskColorAmount | 0.500000 |
GradientBasedCorrCorrectionRangeMaskDepthFeather | 0.500000 |
GradientBasedCorrCorrectionRangeMaskDepthMax | 1.000000 |
GradientBasedCorrCorrectionRangeMaskDepthMin | 0.000000 |
GradientBasedCorrCorrectionRangeMaskLumFeather | 0.500000 |
GradientBasedCorrCorrectionRangeMaskLumMax | 1.000000 |
GradientBasedCorrCorrectionRangeMaskLumMin | 0.000000 |
GradientBasedCorrCorrectionRangeMaskType | 0 |
GradientBasedCorrCorrectionRangeMaskVersion | +2 |
GradientBasedCorrDefringe | 0.000000 |
GradientBasedCorrExposure | 0.000000 |
GradientBasedCorrExposure2012 | 0.437500 |
GradientBasedCorrHighlights2012 | -1.000000 |
GradientBasedCorrHue | 0.000000 |
GradientBasedCorrLocalBlacks2012 | -0.590000 |
GradientBasedCorrLocalDehaze | 0.040000 |
GradientBasedCorrLocalHue | 0.000000 |
GradientBasedCorrLocalTexture | 0.680000 |
GradientBasedCorrLocalWhites2012 | -0.770000 |
GradientBasedCorrLuminanceNoise | 0.000000 |
GradientBasedCorrMaskFullX | 0.462118 |
GradientBasedCorrMaskFullY | 0.025621 |
GradientBasedCorrMaskValue | 1.000000 |
GradientBasedCorrMaskWhat | Mask/Gradient |
GradientBasedCorrMaskZeroX | 0.461169 |
GradientBasedCorrMaskZeroY | 0.247665 |
GradientBasedCorrMoire | 0.000000 |
GradientBasedCorrSaturation (1) | 0.070000 |
GradientBasedCorrSaturation | 0.000000 |
GradientBasedCorrShadows2012 | -1.000000 |
GradientBasedCorrSharpness | 0.000000 |
GradientBasedCorrTemperature | -0.160000 |
GradientBasedCorrTint | 0.020000 |
GradientBasedCorrWhat | Correction |
GrainAmount | 0 |
GreenHue | 0 |
GreenSaturation | 0 |
HasCrop | False |
HasSettings | True |
Highlights2012 | +10 |
HueAdjustmentAqua | 0 |
HueAdjustmentBlue | 0 |
HueAdjustmentGreen | 0 |
HueAdjustmentMagenta | 0 |
HueAdjustmentOrange | 0 |
HueAdjustmentPurple | 0 |
HueAdjustmentRed | 0 |
HueAdjustmentYellow | 0 |
HyperfocalDistance | 93.32 m |
ICCProfileName | Adobe RGB (1998) |
ImageHeight | 743 |
ImageNumber | 0 |
ImageSize | 1200x743 |
ImageWidth | 1200 |
ISO | 100 |
Lens | EF70-200mm f/4L IS USM |
LensID (1) | 242 |
LensID | Canon EF 70-200mm f/4L IS USM |
LensInfo | 70-200mm f/? |
LensManualDistortionAmount | 0 |
LensModel | EF70-200mm f/4L IS USM |
LensProfileEnable | 0 |
LensSerialNumber | 0000812528 |
LightValue | 16.0 |
LookAmount | 1.000000 |
LookCopyright | © 2018 Adobe Systems, Inc. |
LookGroup | Profiles |
LookName | Adobe Color |
LookParametersCameraProfile | Adobe Standard |
LookParametersConvertToGrayscale | False |
LookParametersLookTable | E1095149FDB39D7A057BAB208837E2E1 |
LookParametersProcessVersion | 11.0 |
LookParametersToneCurvePV2012 | 0, 0, 22, 16, 40, 35, 127, 127, 224, 230, 240, 246, 255, 255 |
LookParametersToneCurvePV2012Blue | 0, 0, 255, 255 |
LookParametersToneCurvePV2012Green | 0, 0, 255, 255 |
LookParametersToneCurvePV2012Red | 0, 0, 255, 255 |
LookParametersVersion | 13.2 |
LookSupportsAmount | false |
LookSupportsMonochrome | false |
LookSupportsOutputReferred | false |
LuminanceAdjustmentAqua | 0 |
LuminanceAdjustmentBlue | 0 |
LuminanceAdjustmentGreen | 0 |
LuminanceAdjustmentMagenta | 0 |
LuminanceAdjustmentOrange | 0 |
LuminanceAdjustmentPurple | 0 |
LuminanceAdjustmentRed | 0 |
LuminanceAdjustmentYellow | 0 |
LuminanceSmoothing | 0 |
Make | Canon |
MaxApertureValue | 4.0 |
Megapixels | 0.892 |
MeteringMode | Multi-segment |
Model | Canon EOS 5D Mark IV |
ModifyDate (1) | 2021:03:16 21:43:20+01:00 |
ModifyDate | 2021:03:16 21:43:20 |
Orientation | Horizontal (normal) |
OverrideLookVignette | False |
ParametricDarks | 0 |
ParametricHighlights | 0 |
ParametricHighlightSplit | 75 |
ParametricLights | 0 |
ParametricMidtoneSplit | 50 |
ParametricShadows | 0 |
ParametricShadowSplit | 25 |
PerspectiveAspect | 0 |
PerspectiveHorizontal | 0 |
PerspectiveRotate | 0.0 |
PerspectiveScale | 100 |
PerspectiveUpright | 0 |
PerspectiveVertical | 0 |
PerspectiveX | 0.00 |
PerspectiveY | 0.00 |
PostCropVignetteAmount | 0 |
ProcessVersion | 11.0 |
ProfileDescription | Adobe RGB (1998) |
Rating | 0 |
RecommendedExposureIndex | 100 |
RedHue | 0 |
RedSaturation | 0 |
Saturation | 0 |
SaturationAdjustmentAqua | 0 |
SaturationAdjustmentBlue | 0 |
SaturationAdjustmentGreen | 0 |
SaturationAdjustmentMagenta | 0 |
SaturationAdjustmentOrange | 0 |
SaturationAdjustmentPurple | 0 |
SaturationAdjustmentRed | 0 |
SaturationAdjustmentYellow | 0 |
ScaleFactor35efl | 5.7 |
SceneCaptureType | Standard |
SensitivityType | Recommended Exposure Index |
SerialNumber | 453038000910 |
Shadows2012 | +25 |
ShadowTint | 0 |
SharpenDetail | 25 |
SharpenEdgeMasking | 0 |
SharpenRadius | +1.0 |
Sharpness | 40 |
ShutterSpeed | 1/640 |
ShutterSpeedValue | 1/640 |
Software | Adobe Photoshop 22.3 (Macintosh) |
SplitToningBalance | 0 |
SplitToningHighlightHue | 0 |
SplitToningHighlightSaturation | 0 |
SplitToningShadowHue | 0 |
SplitToningShadowSaturation | 0 |
Texture | +6 |
Tint | +5 |
ToneCurveName2012 | Linear |
ToneCurvePV2012 | 0, 0, 255, 255 |
ToneCurvePV2012Blue | 0, 0, 255, 255 |
ToneCurvePV2012Green | 0, 0, 255, 255 |
ToneCurvePV2012Red | 0, 0, 255, 255 |
URL_List | |
Version | 13.2 |
Vibrance | 0 |
VignetteAmount | 0 |
WhiteBalance (1) | Custom |
WhiteBalance | Manual |
Whites2012 | +32 |