Felt | Verdi |
AlreadyApplied | True |
Aperture | 8.0 |
ApertureValue | 8.0 |
ApproximateFocusDistance | 4294967295 |
Artist | Geir Vidar Knutsen |
AutoLateralCA | 0 |
BitsPerSample (1) | 8 8 8 |
BitsPerSample | 8 |
Blacks2012 | -26 |
BlueHue | 0 |
BlueSaturation | 0 |
By-line | Geir Vidar Knutsen |
CameraProfile | Adobe Standard |
CircleOfConfusion | 0.005 mm |
Clarity2012 | 0 |
ColorComponents | 3 |
ColorMode | RGB |
ColorNoiseReduction | 25 |
ColorNoiseReductionDetail | 50 |
ColorNoiseReductionSmoothness | 50 |
ColorSpace | Uncalibrated |
ColorTemperature | 4750 |
ColorTransform | YCbCr |
Contrast2012 | 0 |
ConvertToGrayscale | False |
CreateDate | 2020:09:17 11:07:10 |
Creator | Geir Vidar Knutsen |
CreatorTool | Adobe Photoshop 21.2 (Macintosh) |
CropAngle | 0 |
CropBottom | 1 |
CropConstrainToWarp | 0 |
CropLeft | 0 |
CropRight | 1 |
CropTop | 0 |
CustomRendered | Normal |
DateCreated (1) | 2020:09:17 |
DateCreated | 2020:09:17 11:07:10.003+01:00 |
DateTimeOriginal | 2020:09:17 11:07:10 |
DefringeGreenAmount | 0 |
DefringeGreenHueHi | 60 |
DefringeGreenHueLo | 40 |
DefringePurpleAmount | 0 |
DefringePurpleHueHi | 70 |
DefringePurpleHueLo | 30 |
Dehaze | 0 |
DOF | inf (6.10 m - inf) |
ExifImageHeight | 741 |
ExifImageWidth | 1200 |
Exposure2012 | +0.55 |
ExposureCompensation | 0 |
ExposureMode | Manual |
ExposureProgram | Manual |
ExposureTime | 1/80 |
Firmware | 1.2.1 |
Flash | Off, Did not fire |
FlashCompensation | 0 |
FNumber | 8.0 |
FocalLength | 16.0 mm |
FocalLength35efl | 16.0 mm (35 mm equivalent: 91.6 mm) |
Format | image/jpeg |
FOV | 22.2 deg |
GPSAltitude (1) | 392.5 m |
GPSAltitude | 392.5 m Above Sea Level |
GPSAltitudeRef | Above Sea Level |
GPSDateStamp | 2020:09:17 |
GPSDateTime | 2020:09:17 10:07:07.904Z |
GPSDOP | 2.4 |
GPSLatitude (1) | 62 deg 32' 8.20" |
GPSLatitude | 62 deg 32' 8.20" N |
GPSLatitudeRef | North |
GPSLongitude (1) | 7 deg 49' 28.66" |
GPSLongitude | 7 deg 49' 28.66" E |
GPSLongitudeRef | East |
GPSMapDatum | WGS-84 |
GPSMeasureMode | 3-Dimensional Measurement |
GPSPosition | 62 deg 32' 8.20" N, 7 deg 49' 28.66" E |
GPSSatellites | 8 |
GPSStatus | Measurement Active |
GPSTimeStamp | 10:07:07.904 |
GPSVersionID | 2.3.0.0 |
GradientBasedCorrActive | true |
GradientBasedCorrAmount | 1.000000 |
GradientBasedCorrBrightness | 0.000000 |
GradientBasedCorrClarity | 0.000000 |
GradientBasedCorrClarity2012 | 0.000000 |
GradientBasedCorrContrast | 0.000000 |
GradientBasedCorrContrast2012 | 0.000000 |
GradientBasedCorrCorrectionRangeMaskColorAmount | 0.500000 |
GradientBasedCorrCorrectionRangeMaskDepthFeather | 0.500000 |
GradientBasedCorrCorrectionRangeMaskDepthMax | 1.000000 |
GradientBasedCorrCorrectionRangeMaskDepthMin | 0.000000 |
GradientBasedCorrCorrectionRangeMaskLumFeather | 0.500000 |
GradientBasedCorrCorrectionRangeMaskLumMax | 1.000000 |
GradientBasedCorrCorrectionRangeMaskLumMin | 0.421321 |
GradientBasedCorrCorrectionRangeMaskType | +2 |
GradientBasedCorrCorrectionRangeMaskVersion | +2 |
GradientBasedCorrDefringe | 0.000000 |
GradientBasedCorrExposure | 0.000000 |
GradientBasedCorrExposure2012 | -0.137500 |
GradientBasedCorrHighlights2012 | -1.000000 |
GradientBasedCorrHue | 0.000000 |
GradientBasedCorrLocalBlacks2012 | 0.000000 |
GradientBasedCorrLocalDehaze | 0.000000 |
GradientBasedCorrLocalHue | 0.000000 |
GradientBasedCorrLocalTexture | 0.000000 |
GradientBasedCorrLocalWhites2012 | 0.530000 |
GradientBasedCorrLuminanceNoise | 0.000000 |
GradientBasedCorrMaskFullX | 0.463836 |
GradientBasedCorrMaskFullY | 0.003538 |
GradientBasedCorrMaskValue | 1.000000 |
GradientBasedCorrMaskWhat | Mask/Gradient |
GradientBasedCorrMaskZeroX | 0.463836 |
GradientBasedCorrMaskZeroY | 0.418632 |
GradientBasedCorrMoire | 0.000000 |
GradientBasedCorrSaturation | 0.000000 |
GradientBasedCorrShadows2012 | 1.000000 |
GradientBasedCorrSharpness | 0.000000 |
GradientBasedCorrTemperature | 0.000000 |
GradientBasedCorrTint | 0.000000 |
GradientBasedCorrWhat | Correction |
GrainAmount | 0 |
GreenHue | 0 |
GreenSaturation | 0 |
HasCrop | True |
HasSettings | True |
Highlights2012 | -77 |
HueAdjustmentAqua | 0 |
HueAdjustmentBlue | 0 |
HueAdjustmentGreen | 0 |
HueAdjustmentMagenta | 0 |
HueAdjustmentOrange | 0 |
HueAdjustmentPurple | 0 |
HueAdjustmentRed | 0 |
HueAdjustmentYellow | 0 |
HyperfocalDistance | 6.10 m |
ICCProfileName | Adobe RGB (1998) |
ImageHeight (1) | 3834 |
ImageHeight | 741 |
ImageNumber | 0 |
ImageSize | 1200x741 |
ImageWidth (1) | 6213 |
ImageWidth | 1200 |
ISO | 160 |
Lens | EF16-35mm f/4L IS USM |
LensID (1) | 507 |
LensID | Canon EF 16-35mm f/4L IS USM |
LensInfo | 16-35mm f/? |
LensManualDistortionAmount | 0 |
LensModel | EF16-35mm f/4L IS USM |
LensProfileEnable | 0 |
LensProfileSetup | LensDefaults |
LensSerialNumber | 1800006947 |
LightValue | 11.6 |
LookAmount | 1.000000 |
LookCopyright | © 2018 Adobe Systems, Inc. |
LookGroup | Profiles |
LookName | Adobe Color |
LookParametersCameraProfile | Adobe Standard |
LookParametersConvertToGrayscale | False |
LookParametersLookTable | E1095149FDB39D7A057BAB208837E2E1 |
LookParametersProcessVersion | 11.0 |
LookParametersToneCurvePV2012 | 0, 0, 22, 16, 40, 35, 127, 127, 224, 230, 240, 246, 255, 255 |
LookParametersToneCurvePV2012Blue | 0, 0, 255, 255 |
LookParametersToneCurvePV2012Green | 0, 0, 255, 255 |
LookParametersToneCurvePV2012Red | 0, 0, 255, 255 |
LookParametersVersion | 12.4 |
LookSupportsAmount | false |
LookSupportsMonochrome | false |
LookSupportsOutputReferred | false |
LuminanceAdjustmentAqua | 0 |
LuminanceAdjustmentBlue | -6 |
LuminanceAdjustmentGreen | +56 |
LuminanceAdjustmentMagenta | 0 |
LuminanceAdjustmentOrange | +49 |
LuminanceAdjustmentPurple | 0 |
LuminanceAdjustmentRed | +30 |
LuminanceAdjustmentYellow | +40 |
LuminanceSmoothing | 0 |
Make | Canon |
MaxApertureValue | 4.0 |
Megapixels | 0.889 |
MeteringMode | Multi-segment |
Model | Canon EOS 5D Mark IV |
ModifyDate (1) | 2020:10:03 21:16:53+02:00 |
ModifyDate | 2020:10:03 21:16:53 |
Orientation | Horizontal (normal) |
OverrideLookVignette | False |
ParametricDarks | 0 |
ParametricHighlights | 0 |
ParametricHighlightSplit | 75 |
ParametricLights | 0 |
ParametricMidtoneSplit | 50 |
ParametricShadows | 0 |
ParametricShadowSplit | 25 |
PerspectiveAspect | 0 |
PerspectiveHorizontal | 0 |
PerspectiveRotate | 0.0 |
PerspectiveScale | 100 |
PerspectiveUpright | 0 |
PerspectiveVertical | 0 |
PerspectiveX | 0.00 |
PerspectiveY | 0.00 |
PhotometricInterpretation | RGB |
PlanarConfiguration | Chunky |
PostCropVignetteAmount | 0 |
ProcessVersion | 11.0 |
ProfileDescription | Adobe RGB (1998) |
RangeMaskMapInfoRangeMaskMapInfoLabMax | 0.998886 0.514183 0.532738 |
RangeMaskMapInfoRangeMaskMapInfoLabMin | 0.000549 0.490455 0.483787 |
RangeMaskMapInfoRangeMaskMapInfoRGBMax | 0.403677 0.401373 0.402930 |
RangeMaskMapInfoRangeMaskMapInfoRGBMin | 0.002716 0.002686 0.001938 |
Rating | 0 |
RecommendedExposureIndex | 160 |
RedHue | 0 |
RedSaturation | 0 |
SamplesPerPixel | 3 |
Saturation | +2 |
SaturationAdjustmentAqua | 0 |
SaturationAdjustmentBlue | +73 |
SaturationAdjustmentGreen | +42 |
SaturationAdjustmentMagenta | 0 |
SaturationAdjustmentOrange | +48 |
SaturationAdjustmentPurple | 0 |
SaturationAdjustmentRed | +54 |
SaturationAdjustmentYellow | +58 |
ScaleFactor35efl | 5.7 |
SceneCaptureType | Standard |
SensitivityType | Recommended Exposure Index |
SerialNumber | 453038000910 |
Shadows2012 | +50 |
ShadowTint | 0 |
SharpenDetail | 25 |
SharpenEdgeMasking | 0 |
SharpenRadius | +1.0 |
Sharpness | 40 |
ShutterSpeed | 1/80 |
ShutterSpeedValue | 1/80 |
Software | Adobe Photoshop 21.2 (Macintosh) |
SplitToningBalance | 0 |
SplitToningHighlightHue | 0 |
SplitToningHighlightSaturation | 0 |
SplitToningShadowHue | 0 |
SplitToningShadowSaturation | 0 |
Texture | 0 |
Tint | +24 |
ToneCurve | 0, 0, 32, 22, 64, 56, 128, 128, 192, 196, 255, 255 |
ToneCurveBlue | 0, 0, 255, 255 |
ToneCurveGreen | 0, 0, 255, 255 |
ToneCurveName | Medium Contrast |
ToneCurveName2012 | Linear |
ToneCurvePV2012 | 0, 0, 255, 255 |
ToneCurvePV2012Blue | 0, 0, 255, 255 |
ToneCurvePV2012Green | 0, 0, 255, 255 |
ToneCurvePV2012Red | 0, 0, 255, 255 |
ToneCurveRed | 0, 0, 255, 255 |
ToneMapStrength | 0 |
URL_List | |
Version | 12.4 |
Vibrance | +15 |
VignetteAmount | 0 |
WhiteBalance (1) | As Shot |
WhiteBalance | Auto |
Whites2012 | +13 |