Felt | Verdi |
AlreadyApplied | True |
Aperture | 9.0 |
ApertureValue | 9.0 |
AutoLateralCA | 1 |
BitsPerSample | 8 |
Blacks2012 | -56 |
BlueHue | -71 |
BlueSaturation | 0 |
CameraProfile | Adobe Standard |
CircleOfConfusion | 0.019 mm |
Clarity2012 | +20 |
ColorComponents | 3 |
ColorNoiseReduction | 25 |
ColorNoiseReductionDetail | 50 |
ColorNoiseReductionSmoothness | 50 |
ColorSpace | sRGB |
ColorTemperature | 4437 |
ColorTransform | YCbCr |
Contrast2012 | +10 |
ConvertToGrayscale | False |
CreateDate (1) | 2019:07:10 11:48:58.02 |
CreateDate | 2019:07:10 11:48:58 |
CreatorTool | Adobe Photoshop Lightroom Classic 8.3.1 (Macintosh) |
CustomRendered | Normal |
DateCreated (1) | 2019:07:10 |
DateCreated | 2019:07:10 11:48:58.02 |
DateTimeOriginal | 2019:07:10 11:48:58 |
DefringeGreenAmount | 0 |
DefringeGreenHueHi | 60 |
DefringeGreenHueLo | 40 |
DefringePurpleAmount | 0 |
DefringePurpleHueHi | 70 |
DefringePurpleHueLo | 30 |
Dehaze | +4 |
DistortionCorrectionAlreadyApplied | True |
Exposure2012 | -0.70 |
ExposureCompensation | 0 |
ExposureMode | Manual |
ExposureProgram | Manual |
ExposureTime | 1/400 |
Firmware | 1.0.1 |
Flash | Off, Did not fire |
FlashCompensation | 0 |
FNumber | 9.0 |
FocalLength | 75.0 mm |
FocalLength35efl | 75.0 mm (35 mm equivalent: 121.0 mm) |
Format | image/jpeg |
FOV | 16.9 deg |
GrainAmount | 0 |
GreenHue | +75 |
GreenSaturation | 0 |
HasCrop | False |
HasSettings | True |
Highlights2012 | -100 |
HueAdjustmentAqua | 0 |
HueAdjustmentBlue | -9 |
HueAdjustmentGreen | -81 |
HueAdjustmentMagenta | 0 |
HueAdjustmentOrange | -8 |
HueAdjustmentPurple | 0 |
HueAdjustmentRed | +9 |
HueAdjustmentYellow | 0 |
HyperfocalDistance | 33.56 m |
ImageHeight | 4000 |
ImageNumber | 0 |
ImageSize | 6000x4000 |
ImageWidth | 6000 |
ISO | 2500 |
LateralChromaticAberrationCorrectionAlreadyApplied | True |
Lens | EF75-300mm f/4-5.6 |
LensID (1) | 39 |
LensID | Canon EF 75-300mm f/4-5.6 |
LensInfo | 75-300mm f/? |
LensManualDistortionAmount | 0 |
LensModel | EF75-300mm f/4-5.6 |
LensProfileChromaticAberrationScale | 100 |
LensProfileDistortionScale | 100 |
LensProfileEnable | 1 |
LensProfileFilename | Canon EOS 5D Mark II (Canon EF 75-300mm f4-5.6 USM) - RAW.lcp |
LensProfileName | Adobe (Canon EF 75-300mm f/4-5.6 USM) |
LensProfileSetup | Custom |
LensProfileVignettingScale | 100 |
LensSerialNumber | 0000000000 |
LightValue | 10.3 |
LookAmount | 1.000000 |
LookGroup | Profiles |
LookName | Adobe Color |
LookParametersCameraProfile | Adobe Standard |
LookParametersConvertToGrayscale | False |
LookParametersLookTable | E1095149FDB39D7A057BAB208837E2E1 |
LookParametersProcessVersion | 11.0 |
LookParametersToneCurvePV2012 | 0, 0, 22, 16, 40, 35, 127, 127, 224, 230, 240, 246, 255, 255 |
LookParametersToneCurvePV2012Blue | 0, 0, 255, 255 |
LookParametersToneCurvePV2012Green | 0, 0, 255, 255 |
LookParametersToneCurvePV2012Red | 0, 0, 255, 255 |
LookParametersVersion | 11.3 |
LookSupportsAmount | false |
LookSupportsMonochrome | false |
LookSupportsOutputReferred | false |
LuminanceAdjustmentAqua | 0 |
LuminanceAdjustmentBlue | -9 |
LuminanceAdjustmentGreen | +11 |
LuminanceAdjustmentMagenta | 0 |
LuminanceAdjustmentOrange | -5 |
LuminanceAdjustmentPurple | 0 |
LuminanceAdjustmentRed | -2 |
LuminanceAdjustmentYellow | +13 |
LuminanceNoiseReductionContrast | 0 |
LuminanceNoiseReductionDetail | 50 |
LuminanceSmoothing | 10 |
Make | Canon |
MaxApertureValue | 4.2 |
Megapixels | 24.0 |
MeteringMode | Center-weighted average |
Model | Canon EOS 200D |
ModifyDate (1) | 2019:07:11 00:58:52+02:00 |
ModifyDate | 2019:07:11 00:58:52 |
OverrideLookVignette | True |
ParametricDarks | 0 |
ParametricHighlights | 0 |
ParametricHighlightSplit | 75 |
ParametricLights | 0 |
ParametricMidtoneSplit | 50 |
ParametricShadows | 0 |
ParametricShadowSplit | 25 |
PerspectiveAspect | 0 |
PerspectiveHorizontal | 0 |
PerspectiveRotate | 0.0 |
PerspectiveScale | 100 |
PerspectiveUpright | 0 |
PerspectiveVertical | 0 |
PerspectiveX | 0.00 |
PerspectiveY | 0.00 |
PostCropVignetteAmount | -22 |
PostCropVignetteFeather | 50 |
PostCropVignetteHighlightContrast | 0 |
PostCropVignetteMidpoint | 50 |
PostCropVignetteRoundness | 0 |
PostCropVignetteStyle | 1 |
PreservedFileName | IMG_5680.CR2 |
ProcessVersion | 11.0 |
ProfileDescription | sRGB IEC61966-2.1 |
RawFileName | IMG_5680.CR2 |
RecommendedExposureIndex | 2500 |
RedHue | +76 |
RedSaturation | 0 |
Saturation | -6 |
SaturationAdjustmentAqua | -30 |
SaturationAdjustmentBlue | -20 |
SaturationAdjustmentGreen | -73 |
SaturationAdjustmentMagenta | -35 |
SaturationAdjustmentOrange | +7 |
SaturationAdjustmentPurple | -43 |
SaturationAdjustmentRed | -11 |
SaturationAdjustmentYellow | +3 |
ScaleFactor35efl | 1.6 |
SceneCaptureType | Standard |
SensitivityType | Recommended Exposure Index |
SerialNumber | 113071003459 |
Shadows2012 | +100 |
ShadowTint | 0 |
SharpenDetail | 25 |
SharpenEdgeMasking | 70 |
SharpenRadius | +1.0 |
Sharpness | 61 |
ShutterSpeed | 1/400 |
ShutterSpeedValue | 1/400 |
Software | Adobe Photoshop Lightroom Classic 8.3.1 (Macintosh) |
SplitToningBalance | 0 |
SplitToningHighlightHue | 35 |
SplitToningHighlightSaturation | 31 |
SplitToningShadowHue | 234 |
SplitToningShadowSaturation | 6 |
Texture | 0 |
Tint | +9 |
ToneCurve | 0, 0, 255, 255 |
ToneCurveBlue | 0, 0, 255, 255 |
ToneCurveGreen | 0, 0, 255, 255 |
ToneCurveName | Linear |
ToneCurveName2012 | Custom |
ToneCurvePV2012 | 18, 30, 73, 62, 133, 123, 191, 192, 255, 245 |
ToneCurvePV2012Blue | 0, 0, 255, 255 |
ToneCurvePV2012Green | 0, 0, 255, 255 |
ToneCurvePV2012Red | 0, 0, 255, 255 |
ToneCurveRed | 0, 0, 255, 255 |
ToneMapStrength | 0 |
Version | 11.3 |
Vibrance | +7 |
VignetteAmount | 0 |
VignetteCorrectionAlreadyApplied | True |
WhiteBalance (1) | Custom |
WhiteBalance | Auto |
Whites2012 | +12 |