Felt | Verdi |
AlreadyApplied | True |
Artist | ARILD THINGVOLL |
AutoLateralCA | 0 |
BitsPerSample | 8 |
Blacks2012 | -52 |
BlueHue | 0 |
BlueSaturation | 0 |
By-line | ARILD THINGVOLL |
CameraProfile | Embedded |
CircGradBasedCorrActive | true |
CircGradBasedCorrAmount | 1.000000 |
CircGradBasedCorrBrightness | 0.000000 |
CircGradBasedCorrClarity2012 | 0.000000 |
CircGradBasedCorrContrast2012 | 0.000000 |
CircGradBasedCorrCorrectionRangeMaskColorAmount | 0.500000 |
CircGradBasedCorrCorrectionRangeMaskDepthFeather | 0.500000 |
CircGradBasedCorrCorrectionRangeMaskDepthMax | 1.000000 |
CircGradBasedCorrCorrectionRangeMaskDepthMin | 0.000000 |
CircGradBasedCorrCorrectionRangeMaskLumFeather | 0.500000 |
CircGradBasedCorrCorrectionRangeMaskLumMax | 1.000000 |
CircGradBasedCorrCorrectionRangeMaskLumMin | 0.000000 |
CircGradBasedCorrCorrectionRangeMaskType | 0 |
CircGradBasedCorrCorrectionRangeMaskVersion | +2 |
CircGradBasedCorrDefringe | 0.000000 |
CircGradBasedCorrExposure2012 (1) | -0.032250 |
CircGradBasedCorrExposure2012 | 0.118250 |
CircGradBasedCorrHighlights2012 | 0.000000 |
CircGradBasedCorrHue | 0.000000 |
CircGradBasedCorrLocalBlacks2012 | 0.000000 |
CircGradBasedCorrLocalDehaze | 0.000000 |
CircGradBasedCorrLocalWhites2012 | 0.000000 |
CircGradBasedCorrLuminanceNoise | 0.000000 |
CircGradBasedCorrMaskAngle | 0.000000 |
CircGradBasedCorrMaskBottom (1) | 0.560708 |
CircGradBasedCorrMaskBottom | 0.578255 |
CircGradBasedCorrMaskFeather | +100 |
CircGradBasedCorrMaskFlipped | true |
CircGradBasedCorrMaskLeft (1) | 0.372187 |
CircGradBasedCorrMaskLeft | 0.165734 |
CircGradBasedCorrMaskMidpoint | +50 |
CircGradBasedCorrMaskRight (1) | 0.489573 |
CircGradBasedCorrMaskRight | 0.282955 |
CircGradBasedCorrMaskRoundness | 0 |
CircGradBasedCorrMaskTop (1) | 0.469261 |
CircGradBasedCorrMaskTop | 0.486934 |
CircGradBasedCorrMaskValue | 1.000000 |
CircGradBasedCorrMaskVersion | +2 |
CircGradBasedCorrMaskWhat | Mask/CircularGradient |
CircGradBasedCorrMoire | 0.000000 |
CircGradBasedCorrSaturation | 0.000000 |
CircGradBasedCorrShadows2012 | 0.000000 |
CircGradBasedCorrSharpness | 0.000000 |
CircGradBasedCorrTemperature | 0.000000 |
CircGradBasedCorrTint | 0.000000 |
CircGradBasedCorrWhat | Correction |
Clarity2012 | -7 |
ColorComponents | 3 |
ColorNoiseReduction | 25 |
ColorNoiseReductionDetail | 50 |
ColorNoiseReductionSmoothness | 50 |
ColorSpace | sRGB |
ColorTransform | YCbCr |
Contrast2012 | +36 |
ConvertToGrayscale | True |
CreateDate | 2019:04:07 16:01:03 |
Creator | ARILD THINGVOLL |
CreatorTool | Adobe Photoshop Lightroom Classic 8.2 (Windows) |
CropAngle | 0 |
CropBottom | 0.775417 |
CropConstrainToWarp | 0 |
CropLeft | 0.216077 |
CropRight | 0.977471 |
CropTop | 0.080407 |
DateCreated (1) | 2019:04:07 |
DateCreated | 2019:04:07 16:01:03 |
DateTimeOriginal | 2019:04:07 16:01:03 |
Dehaze | 0 |
Exposure2012 | -0.30 |
Format | image/jpeg |
GrainAmount | 0 |
GrayMixerAqua | -18 |
GrayMixerBlue | -28 |
GrayMixerGreen | -28 |
GrayMixerMagenta | +4 |
GrayMixerOrange | -21 |
GrayMixerPurple | +19 |
GrayMixerRed | -11 |
GrayMixerYellow | -25 |
GreenHue | 0 |
GreenSaturation | 0 |
HasCrop | True |
HasExtendedXMP | 4660FB0C48EC833FEE52EFB709BD83FD |
HasSettings | True |
Highlights2012 | -100 |
ImageHeight | 607 |
ImageSize | 1200x607 |
ImageWidth | 1200 |
IncrementalTemperature | +5 |
IncrementalTint | -57 |
Keywords | 0119, SK, løe, rundballar |
LateralChromaticAberrationCorrectionAlreadyApplied | True |
Lens | XF16mmF1.4 R WR |
LensInfo | 16mm f/1.4 |
LensManualDistortionAmount | 0 |
LensModel | XF16mmF1.4 R WR |
LensProfileEnable | 1 |
LensProfileSetup | LensDefaults |
LensSerialNumber | 76A00436 |
LookName | |
LuminanceNoiseReductionContrast | 0 |
LuminanceNoiseReductionDetail | 50 |
LuminanceSmoothing | 11 |
Make | FUJIFILM |
Megapixels | 0.728 |
Model | X-T2 |
ModifyDate (1) | 2019:04:07 21:40:26+02:00 |
ModifyDate | 2019:04:07 21:40:26 |
OverrideLookVignette | False |
PaintCorrectionActive | true |
PaintCorrectionAmount | 1.000000 |
PaintCorrectionBrightness | 0.000000 |
PaintCorrectionClarity2012 (1) | 0.268820 |
PaintCorrectionClarity2012 | 0.000000 |
PaintCorrectionContrast2012 (1) | 0.268820 |
PaintCorrectionContrast2012 | 0.000000 |
PaintCorrectionCorrectionRangeMaskColorAmount | 0.500000 |
PaintCorrectionCorrectionRangeMaskDepthFeather | 0.500000 |
PaintCorrectionCorrectionRangeMaskDepthMax | 1.000000 |
PaintCorrectionCorrectionRangeMaskDepthMin | 0.000000 |
PaintCorrectionCorrectionRangeMaskLumFeather | 0.500000 |
PaintCorrectionCorrectionRangeMaskLumMax | 1.000000 |
PaintCorrectionCorrectionRangeMaskLumMin | 0.000000 |
PaintCorrectionCorrectionRangeMaskType | 0 |
PaintCorrectionCorrectionRangeMaskVersion | +2 |
PaintCorrectionDefringe | 0.000000 |
PaintCorrectionExposure2012 (1) | 0.000000 |
PaintCorrectionExposure2012 (4) | 0.053750 |
PaintCorrectionExposure2012 (5) | 0.075250 |
PaintCorrectionExposure2012 | 0.118250 |
PaintCorrectionHighlights2012 | 0.000000 |
PaintCorrectionHue | 0.000000 |
PaintCorrectionLocalBlacks2012 | 0.000000 |
PaintCorrectionLocalDehaze (5) | 0.000000 |
PaintCorrectionLocalDehaze | 0.010750 |
PaintCorrectionLocalWhites2012 | 0.000000 |
PaintCorrectionLuminanceNoise | 0.000000 |
PaintCorrectionMaskCenterWeight | 0.000000 |
PaintCorrectionMaskFlow | 1.000000 |
PaintCorrectionMaskRadius (103) | 0.028265 |
PaintCorrectionMaskRadius (106) | 0.028278 |
PaintCorrectionMaskRadius (107) | 0.028277 |
PaintCorrectionMaskRadius (113) | 0.028276 |
PaintCorrectionMaskRadius (115) | 0.026240 |
PaintCorrectionMaskRadius (116) | 0.026233 |
PaintCorrectionMaskRadius (117) | 0.026223 |
PaintCorrectionMaskRadius (118) | 0.026212 |
PaintCorrectionMaskRadius (119) | 0.026205 |
PaintCorrectionMaskRadius (120) | 0.026211 |
PaintCorrectionMaskRadius (121) | 0.026209 |
PaintCorrectionMaskRadius (122) | 0.026267 |
PaintCorrectionMaskRadius (123) | 0.026263 |
PaintCorrectionMaskRadius (124) | 0.026266 |
PaintCorrectionMaskRadius (125) | 0.026237 |
PaintCorrectionMaskRadius (126) | 0.026246 |
PaintCorrectionMaskRadius (127) | 0.026260 |
PaintCorrectionMaskRadius (128) | 0.025713 |
PaintCorrectionMaskRadius (129) | 0.025725 |
PaintCorrectionMaskRadius (130) | 0.034576 |
PaintCorrectionMaskRadius (132) | 0.034554 |
PaintCorrectionMaskRadius (133) | 0.034563 |
PaintCorrectionMaskRadius (134) | 0.034547 |
PaintCorrectionMaskRadius (135) | 0.034556 |
PaintCorrectionMaskRadius (136) | 0.034562 |
PaintCorrectionMaskRadius (137) | 0.034489 |
PaintCorrectionMaskRadius (138) | 0.017141 |
PaintCorrectionMaskRadius (140) | 0.017142 |
PaintCorrectionMaskRadius (141) | 0.017150 |
PaintCorrectionMaskRadius (142) | 0.017157 |
PaintCorrectionMaskRadius (143) | 0.017155 |
PaintCorrectionMaskRadius (144) | 0.017154 |
PaintCorrectionMaskRadius (145) | 0.017162 |
PaintCorrectionMaskRadius (146) | 0.017168 |
PaintCorrectionMaskRadius (147) | 0.017174 |
PaintCorrectionMaskRadius (148) | 0.017176 |
PaintCorrectionMaskRadius (16) | 0.054952 |
PaintCorrectionMaskRadius (27) | 0.029181 |
PaintCorrectionMaskRadius (29) | 0.023515 |
PaintCorrectionMaskRadius (30) | 0.023508 |
PaintCorrectionMaskRadius (31) | 0.023507 |
PaintCorrectionMaskRadius (32) | 0.014289 |
PaintCorrectionMaskRadius (33) | 0.014281 |
PaintCorrectionMaskRadius (34) | 0.014277 |
PaintCorrectionMaskRadius (36) | 0.014278 |
PaintCorrectionMaskRadius (37) | 0.014279 |
PaintCorrectionMaskRadius (38) | 0.014270 |
PaintCorrectionMaskRadius (39) | 0.014271 |
PaintCorrectionMaskRadius (41) | 0.014294 |
PaintCorrectionMaskRadius (42) | 0.033088 |
PaintCorrectionMaskRadius (43) | 0.033124 |
PaintCorrectionMaskRadius (44) | 0.033121 |
PaintCorrectionMaskRadius (45) | 0.033117 |
PaintCorrectionMaskRadius (46) | 0.033116 |
PaintCorrectionMaskRadius (47) | 0.033135 |
PaintCorrectionMaskRadius (48) | 0.033142 |
PaintCorrectionMaskRadius (49) | 0.033147 |
PaintCorrectionMaskRadius (50) | 0.033149 |
PaintCorrectionMaskRadius (51) | 0.033068 |
PaintCorrectionMaskRadius (52) | 0.033067 |
PaintCorrectionMaskRadius (53) | 0.033066 |
PaintCorrectionMaskRadius (56) | 0.033071 |
PaintCorrectionMaskRadius (59) | 0.033092 |
PaintCorrectionMaskRadius (60) | 0.033108 |
PaintCorrectionMaskRadius (61) | 0.033104 |
PaintCorrectionMaskRadius (62) | 0.033115 |
PaintCorrectionMaskRadius (63) | 0.033150 |
PaintCorrectionMaskRadius (64) | 0.033158 |
PaintCorrectionMaskRadius (66) | 0.033152 |
PaintCorrectionMaskRadius (67) | 0.033140 |
PaintCorrectionMaskRadius (68) | 0.033154 |
PaintCorrectionMaskRadius (69) | 0.033146 |
PaintCorrectionMaskRadius (70) | 0.033151 |
PaintCorrectionMaskRadius (71) | 0.033143 |
PaintCorrectionMaskRadius (72) | 0.033026 |
PaintCorrectionMaskRadius (73) | 0.033070 |
PaintCorrectionMaskRadius (74) | 0.033083 |
PaintCorrectionMaskRadius (75) | 0.033079 |
PaintCorrectionMaskRadius (77) | 0.033063 |
PaintCorrectionMaskRadius (78) | 0.033065 |
PaintCorrectionMaskRadius (80) | 0.028268 |
PaintCorrectionMaskRadius (82) | 0.028288 |
PaintCorrectionMaskRadius (83) | 0.028280 |
PaintCorrectionMaskRadius (84) | 0.028256 |
PaintCorrectionMaskRadius (85) | 0.028311 |
PaintCorrectionMaskRadius (86) | 0.028317 |
PaintCorrectionMaskRadius (87) | 0.028318 |
PaintCorrectionMaskRadius (89) | 0.028323 |
PaintCorrectionMaskRadius (90) | 0.028321 |
PaintCorrectionMaskRadius (91) | 0.028322 |
PaintCorrectionMaskRadius (93) | 0.028325 |
PaintCorrectionMaskRadius (94) | 0.028302 |
PaintCorrectionMaskRadius (95) | 0.028297 |
PaintCorrectionMaskRadius (96) | 0.028285 |
PaintCorrectionMaskRadius (97) | 0.028262 |
PaintCorrectionMaskRadius (98) | 0.028240 |
PaintCorrectionMaskRadius (99) | 0.028264 |
PaintCorrectionMaskRadius | 0.017179 |
PaintCorrectionMaskValue | 1.000000 |
PaintCorrectionMaskWhat | Mask/Paint |
PaintCorrectionMoire | 0.000000 |
PaintCorrectionSaturation | 0.000000 |
PaintCorrectionShadows2012 (1) | 0.139780 |
PaintCorrectionShadows2012 (2) | 0.182800 |
PaintCorrectionShadows2012 (5) | 0.000000 |
PaintCorrectionShadows2012 | 0.247310 |
PaintCorrectionSharpness | 0.000000 |
PaintCorrectionTemperature | 0.000000 |
PaintCorrectionTint | 0.000000 |
PaintCorrectionWhat | Correction |
ParametricDarks | 0 |
ParametricHighlights | 0 |
ParametricHighlightSplit | 75 |
ParametricLights | 0 |
ParametricMidtoneSplit | 50 |
ParametricShadows | 0 |
ParametricShadowSplit | 25 |
PerspectiveAspect | 0 |
PerspectiveHorizontal | 0 |
PerspectiveRotate | 0.0 |
PerspectiveScale | 100 |
PerspectiveUpright | 1 |
PerspectiveVertical | 0 |
PerspectiveX | 0.00 |
PerspectiveY | 0.00 |
PostCropVignetteAmount | -5 |
PostCropVignetteFeather | 50 |
PostCropVignetteHighlightContrast | 0 |
PostCropVignetteMidpoint | 100 |
PostCropVignetteRoundness | 0 |
PostCropVignetteStyle | 1 |
ProcessVersion | 11.0 |
ProfileDescription | sRGB IEC61966-2.1 |
RawFileName | |
RedHue | 0 |
RedSaturation | 0 |
SerialNumber | 64M51292 |
Shadows2012 | +97 |
ShadowTint | 0 |
SharpenDetail | 34 |
SharpenEdgeMasking | 61 |
SharpenRadius | +1.0 |
Sharpness | 74 |
Software | Adobe Photoshop Lightroom Classic 8.2 (Windows) |
SplitToningBalance | 0 |
SplitToningHighlightHue | 0 |
SplitToningHighlightSaturation | 0 |
SplitToningShadowHue | 0 |
SplitToningShadowSaturation | 0 |
Subject | 0119, SK, løe, rundballar |
ToneCurve | 0, 0, 255, 255 |
ToneCurveBlue | 0, 0, 255, 255 |
ToneCurveGreen | 0, 0, 255, 255 |
ToneCurveName | Linear |
ToneCurveName2012 | Linear |
ToneCurvePV2012 | 0, 0, 255, 255 |
ToneCurvePV2012Blue | 0, 0, 255, 255 |
ToneCurvePV2012Green | 0, 0, 255, 255 |
ToneCurvePV2012Red | 0, 0, 255, 255 |
ToneCurveRed | 0, 0, 255, 255 |
ToneMapStrength | 0 |
Version | 11.2 |
VignetteAmount | 0 |
VignetteCorrectionAlreadyApplied | True |
WhiteBalance | Custom |
Whites2012 | +27 |