Felt | Verdi |
AlreadyApplied | True |
Aperture | 4.5 |
ApertureValue | 4.5 |
ApproximateFocusDistance | 2.99 |
Artist | Vidar Lennart Fredheim |
AutoLateralCA | 1 |
BitsPerSample | 8 |
Blacks2012 | -26 |
BlueHue | 0 |
BlueSaturation | 0 |
By-line | Vidar Lennart Fredheim |
CameraProfile | Embedded |
CFAPattern | [Red,Green][Green,Blue] |
CircleOfConfusion | 0.030 mm |
City | BÃ¥tsfjord |
Clarity2012 | +74 |
ColorComponents | 3 |
ColorNoiseReduction | 0 |
ColorSpace | sRGB |
ColorTransform | YCbCr |
Contrast | Normal |
Contrast2012 | +79 |
ConvertToGrayscale | True |
Copyright | Vidar Lennart Fredheim |
CopyrightNotice | Vidar Lennart Fredheim |
Country | Norway |
Country-PrimaryLocationCode | NO |
Country-PrimaryLocationName | Norway |
CountryCode | NO |
CreateDate (1) | 2018:10:05 16:52:23.37 |
CreateDate | 2018:10:05 16:52:23 |
Creator | Vidar Lennart Fredheim |
CreatorTool | Adobe Photoshop Lightroom Classic 8.0 (Windows) |
CustomRendered | Normal |
DateCreated (1) | 2018:10:05 |
DateCreated | 2018:10:05 16:52:23.37 |
DateTimeOriginal | 2018:10:05 16:52:23 |
Dehaze | -40 |
DigitalZoomRatio | 1 |
DOF | inf (1.33 m - inf) |
Exposure2012 | 0.00 |
ExposureCompensation | -2/3 |
ExposureMode | Manual |
ExposureProgram | Manual |
ExposureTime | 1/25 |
Flash | Off, Did not fire |
FNumber | 4.5 |
FocalLength | 18.0 mm |
FocalLength35efl | 18.0 mm (35 mm equivalent: 18.0 mm) |
FocalLengthIn35mmFormat | 18 mm |
Format | image/jpeg |
FOV | 90.0 deg |
GainControl | High gain up |
GPSAltitude | 0 m |
GPSLatitude (1) | 70 deg 32' 24.93" |
GPSLatitude | 70 deg 32' 24.93" N |
GPSLatitudeRef | North |
GPSLongitude (1) | 30 deg 37' 42.65" |
GPSLongitude | 30 deg 37' 42.65" E |
GPSLongitudeRef | East |
GPSPosition | 70 deg 32' 24.93" N, 30 deg 37' 42.65" E |
GPSVersionID | 2.2.0.0 |
GradientBasedCorrActive | true |
GradientBasedCorrAmount | 1.000000 |
GradientBasedCorrBrightness | 0.000000 |
GradientBasedCorrClarity | 0.000000 |
GradientBasedCorrClarity2012 | 0.000000 |
GradientBasedCorrContrast | 0.000000 |
GradientBasedCorrContrast2012 | 0.130430 |
GradientBasedCorrCorrectionRangeMaskColorAmount | 0.500000 |
GradientBasedCorrCorrectionRangeMaskDepthFeather | 0.500000 |
GradientBasedCorrCorrectionRangeMaskDepthMax | 1.000000 |
GradientBasedCorrCorrectionRangeMaskDepthMin | 0.000000 |
GradientBasedCorrCorrectionRangeMaskLumFeather | 0.500000 |
GradientBasedCorrCorrectionRangeMaskLumMax | 1.000000 |
GradientBasedCorrCorrectionRangeMaskLumMin | 0.000000 |
GradientBasedCorrCorrectionRangeMaskType | 0 |
GradientBasedCorrCorrectionRangeMaskVersion | +2 |
GradientBasedCorrDefringe | 0.000000 |
GradientBasedCorrExposure | 0.000000 |
GradientBasedCorrExposure2012 | -0.217500 |
GradientBasedCorrHighlights2012 | 0.000000 |
GradientBasedCorrHue | 0.000000 |
GradientBasedCorrLocalBlacks2012 | 0.000000 |
GradientBasedCorrLocalDehaze | 0.000000 |
GradientBasedCorrLocalWhites2012 | 0.000000 |
GradientBasedCorrLuminanceNoise | 0.000000 |
GradientBasedCorrMaskFullX | 0.777576 |
GradientBasedCorrMaskFullY | 0.708335 |
GradientBasedCorrMaskValue | 1.000000 |
GradientBasedCorrMaskWhat | Mask/Gradient |
GradientBasedCorrMaskZeroX | 0.689358 |
GradientBasedCorrMaskZeroY | 0.531682 |
GradientBasedCorrMoire | 0.000000 |
GradientBasedCorrSaturation | 0.000000 |
GradientBasedCorrShadows2012 | 0.000000 |
GradientBasedCorrSharpness | 0.000000 |
GradientBasedCorrTemperature | 0.000000 |
GradientBasedCorrTint | 0.000000 |
GradientBasedCorrWhat | Correction |
GrainAmount | 0 |
GrayMixerAqua | 0 |
GrayMixerBlue | +24 |
GrayMixerGreen | -47 |
GrayMixerMagenta | 0 |
GrayMixerOrange | -100 |
GrayMixerPurple | 0 |
GrayMixerRed | 0 |
GrayMixerYellow | -38 |
GreenHue | 0 |
GreenSaturation | 0 |
HasExtendedXMP | 5B38A36D18686A845333CD5679244A20 |
HasSettings | True |
Highlights2012 | -31 |
HyperfocalDistance | 2.40 m |
ImageHeight | 1367 |
ImageNumber | 24377 |
ImageSize | 2048x1367 |
ImageWidth | 2048 |
IncrementalTemperature | 0 |
IncrementalTint | 0 |
ISO | 2200 |
Keywords | 2018, Finnmark, Hamningberg, Vardø - Hamningberg, oktober |
Lens | TAMRON SP 15-30mm F2.8 Di VC USD A012N |
LensID (1) | 233 |
LensID | Tamron SP 15-30mm f/2.8 Di VC USD (A012) |
LensInfo | 15-30mm f/2.8 |
LensManualDistortionAmount | 0 |
LensModel | TAMRON SP 15-30mm F2.8 Di VC USD A012N |
LensProfileEnable | 1 |
LensProfileSetup | LensDefaults |
LightSource | Unknown |
LightValue | 4.5 |
LookAmount | 1.000000 |
LookGroup | Profiles |
LookName | Default Grayscale |
LookParametersConvertToGrayscale | True |
LookParametersProcessVersion | 11.0 |
LookParametersVersion | 11.0 |
LookSupportsAmount | false |
LuminanceSmoothing | 0 |
Make | NIKON CORPORATION |
MaxApertureValue | 2.8 |
Megapixels | 2.8 |
MeteringMode | Multi-segment |
Model | NIKON D750 |
ModifyDate (1) | 2018:11:18 17:20:54+01:00 |
ModifyDate | 2018:11:18 17:20:54 |
OverrideLookVignette | False |
PaintCorrectionActive | true |
PaintCorrectionAmount | 1.000000 |
PaintCorrectionBrightness | 0.000000 |
PaintCorrectionClarity | 0.000000 |
PaintCorrectionClarity2012 (1) | 0.217390 |
PaintCorrectionClarity2012 (2) | 0.304350 |
PaintCorrectionClarity2012 (3) | 0.391300 |
PaintCorrectionClarity2012 | 0.000000 |
PaintCorrectionContrast | 0.000000 |
PaintCorrectionContrast2012 (1) | 0.391300 |
PaintCorrectionContrast2012 (2) | 0.326090 |
PaintCorrectionContrast2012 (3) | 0.173910 |
PaintCorrectionContrast2012 | 0.000000 |
PaintCorrectionCorrectionRangeMaskColorAmount | 0.500000 |
PaintCorrectionCorrectionRangeMaskDepthFeather | 0.500000 |
PaintCorrectionCorrectionRangeMaskDepthMax | 1.000000 |
PaintCorrectionCorrectionRangeMaskDepthMin | 0.000000 |
PaintCorrectionCorrectionRangeMaskLumFeather | 0.500000 |
PaintCorrectionCorrectionRangeMaskLumMax | 1.000000 |
PaintCorrectionCorrectionRangeMaskLumMin | 0.000000 |
PaintCorrectionCorrectionRangeMaskType | 0 |
PaintCorrectionCorrectionRangeMaskVersion | +2 |
PaintCorrectionDefringe | 0.000000 |
PaintCorrectionExposure | 0.000000 |
PaintCorrectionExposure2012 (1) | 0.391250 |
PaintCorrectionExposure2012 (2) | 0.695750 |
PaintCorrectionExposure2012 (3) | 0.717500 |
PaintCorrectionExposure2012 (4) | 0.804250 |
PaintCorrectionExposure2012 (5) | 0.521750 |
PaintCorrectionExposure2012 | 1.000000 |
PaintCorrectionHighlights2012 (2) | 0.326090 |
PaintCorrectionHighlights2012 (4) | 0.891300 |
PaintCorrectionHighlights2012 | 0.000000 |
PaintCorrectionHue | 0.000000 |
PaintCorrectionLocalBlacks2012 | 0.000000 |
PaintCorrectionLocalDehaze (1) | 0.195650 |
PaintCorrectionLocalDehaze | 0.000000 |
PaintCorrectionLocalWhites2012 (3) | 0.217390 |
PaintCorrectionLocalWhites2012 | 0.000000 |
PaintCorrectionLuminanceNoise | 0.000000 |
PaintCorrectionMaskCenterWeight | 0.118600 |
PaintCorrectionMaskFlow (1) | 0.558000 |
PaintCorrectionMaskFlow | 0.431000 |
PaintCorrectionMaskRadius (1) | 0.010013 |
PaintCorrectionMaskRadius (10) | 0.005215 |
PaintCorrectionMaskRadius (11) | 0.005272 |
PaintCorrectionMaskRadius (12) | 0.005346 |
PaintCorrectionMaskRadius (13) | 0.005357 |
PaintCorrectionMaskRadius (14) | 0.005359 |
PaintCorrectionMaskRadius (15) | 0.005356 |
PaintCorrectionMaskRadius (16) | 0.005369 |
PaintCorrectionMaskRadius (17) | 0.005128 |
PaintCorrectionMaskRadius (18) | 0.005113 |
PaintCorrectionMaskRadius (19) | 0.005121 |
PaintCorrectionMaskRadius (2) | 0.009735 |
PaintCorrectionMaskRadius (20) | 0.005105 |
PaintCorrectionMaskRadius (21) | 0.005141 |
PaintCorrectionMaskRadius (22) | 0.005171 |
PaintCorrectionMaskRadius (23) | 0.005337 |
PaintCorrectionMaskRadius (24) | 0.005264 |
PaintCorrectionMaskRadius (25) | 0.005249 |
PaintCorrectionMaskRadius (26) | 0.005314 |
PaintCorrectionMaskRadius (27) | 0.005251 |
PaintCorrectionMaskRadius (28) | 0.005256 |
PaintCorrectionMaskRadius (29) | 0.005262 |
PaintCorrectionMaskRadius (3) | 0.012868 |
PaintCorrectionMaskRadius (30) | 0.005259 |
PaintCorrectionMaskRadius (31) | 0.005244 |
PaintCorrectionMaskRadius (32) | 0.005239 |
PaintCorrectionMaskRadius (33) | 0.005237 |
PaintCorrectionMaskRadius (34) | 0.005152 |
PaintCorrectionMaskRadius (35) | 0.005120 |
PaintCorrectionMaskRadius (36) | 0.005094 |
PaintCorrectionMaskRadius (37) | 0.005073 |
PaintCorrectionMaskRadius (38) | 0.005110 |
PaintCorrectionMaskRadius (39) | 0.005162 |
PaintCorrectionMaskRadius (4) | 0.012719 |
PaintCorrectionMaskRadius (40) | 0.016236 |
PaintCorrectionMaskRadius (41) | 0.016205 |
PaintCorrectionMaskRadius (42) | 0.016365 |
PaintCorrectionMaskRadius (43) | 0.016435 |
PaintCorrectionMaskRadius (44) | 0.010510 |
PaintCorrectionMaskRadius (45) | 0.010519 |
PaintCorrectionMaskRadius (46) | 0.010462 |
PaintCorrectionMaskRadius (5) | 0.012743 |
PaintCorrectionMaskRadius (6) | 0.012548 |
PaintCorrectionMaskRadius (7) | 0.005209 |
PaintCorrectionMaskRadius (8) | 0.005212 |
PaintCorrectionMaskRadius (9) | 0.005221 |
PaintCorrectionMaskRadius | 0.010484 |
PaintCorrectionMaskValue (2) | 0.489000 |
PaintCorrectionMaskValue (43) | 0.362000 |
PaintCorrectionMaskValue | 0.436000 |
PaintCorrectionMaskWhat | Mask/Paint |
PaintCorrectionMoire | 0.000000 |
PaintCorrectionSaturation | 0.000000 |
PaintCorrectionShadows2012 (4) | 0.391300 |
PaintCorrectionShadows2012 | 0.000000 |
PaintCorrectionSharpness | 0.000000 |
PaintCorrectionTemperature | 0.000000 |
PaintCorrectionTint | 0.000000 |
PaintCorrectionWhat | Correction |
ParametricDarks | 0 |
ParametricHighlights | 0 |
ParametricHighlightSplit | 75 |
ParametricLights | 0 |
ParametricMidtoneSplit | 50 |
ParametricShadows | 0 |
ParametricShadowSplit | 25 |
PerspectiveAspect | 0 |
PerspectiveHorizontal | 0 |
PerspectiveRotate | 0.0 |
PerspectiveScale | 100 |
PerspectiveUpright | 5 |
PerspectiveVertical | 0 |
PerspectiveX | 0.00 |
PerspectiveY | 0.00 |
PostCropVignetteAmount | 0 |
ProcessVersion | 11.0 |
ProfileDescription | sRGB IEC61966-2.1 |
Province-State | Finnmark County Municipality |
RedHue | 0 |
RedSaturation | 0 |
Rights | Vidar Lennart Fredheim |
Saturation | Normal |
ScaleFactor35efl | 1.0 |
SceneCaptureType | Standard |
SceneType | Directly photographed |
SensingMethod | One-chip color area |
SensitivityType | Recommended Exposure Index |
SerialNumber | 6074507 |
Shadows2012 | -67 |
ShadowTint | 0 |
SharpenDetail | 55 |
SharpenEdgeMasking | 62 |
SharpenRadius | +1.0 |
Sharpness (1) | 70 |
Sharpness | Normal |
ShutterSpeed | 1/25 |
ShutterSpeedValue | 1/25 |
Software | Adobe Photoshop Lightroom Classic 8.0 (Windows) |
SplitToningBalance | 0 |
SplitToningHighlightHue | 0 |
SplitToningHighlightSaturation | 0 |
SplitToningShadowHue | 0 |
SplitToningShadowSaturation | 0 |
State | Finnmark County Municipality |
Subject | 2018, Finnmark, Hamningberg, Vardø - Hamningberg, oktober |
SubjectDistanceRange | Unknown |
ToneCurve | 0, 0, 255, 255 |
ToneCurveBlue | 0, 0, 255, 255 |
ToneCurveGreen | 0, 0, 255, 255 |
ToneCurveName | Linear |
ToneCurveName2012 | Linear |
ToneCurvePV2012 | 0, 0, 255, 255 |
ToneCurvePV2012Blue | 0, 0, 255, 255 |
ToneCurvePV2012Green | 0, 0, 255, 255 |
ToneCurvePV2012Red | 0, 0, 255, 255 |
ToneCurveRed | 0, 0, 255, 255 |
ToneMapStrength | 0 |
Version | 11.0 |
VignetteAmount | 0 |
WhiteBalance (1) | As Shot |
WhiteBalance | Auto |
Whites2012 | -36 |