Felt | Verdi |
AlreadyApplied | True |
Aperture | 8.0 |
ApertureValue | 8.0 |
ApproximateFocusDistance | 5.21 |
AutoLateralCA | 0 |
BitsPerSample | 16 16 16 |
Blacks2012 | -80 |
BlueHue | 0 |
BlueSaturation | 0 |
CameraProfile | Adobe Standard |
CircleOfConfusion | 0.031 mm |
Clarity2012 | +53 |
ColorMode | RGB |
ColorNoiseReduction | 25 |
ColorNoiseReductionDetail | 50 |
ColorNoiseReductionSmoothness | 50 |
ColorSpace | Uncalibrated |
ColorTemperature | 4900 |
Contrast2012 | 0 |
ConvertToGrayscale | True |
CreateDate | 2016:10:07 17:05:13 |
CreatorTool | Adobe Photoshop Lightroom Classic 7.0 (Macintosh) |
CropAngle | 0 |
CropBottom | 0.93731 |
CropConstrainToWarp | 0 |
CropLeft | 0.065551 |
CropRight | 0.954439 |
CropTop | 0.048422 |
CustomRendered | Normal |
DateCreated (1) | 2016:10:07 17:05:13.033 |
DateCreated | 2016:10:07 |
DateTimeOriginal | 2016:10:07 17:05:13 |
Dehaze | 0 |
DOF | inf (1.98 m - inf) |
ExifImageHeight | 792 |
ExifImageWidth | 1200 |
Exposure2012 | +0.95 |
ExposureCompensation | 0 |
ExposureMode | Manual |
ExposureProgram | Manual |
ExposureTime | 1/50 |
Firmware | 1.0.6 |
Flash | Off, Did not fire |
FlashCompensation | 0 |
FNumber | 8.0 |
FocalLength | 28.0 mm |
FocalLength35efl | 28.0 mm (35 mm equivalent: 27.3 mm) |
Format | image/tiff |
FOV | 66.7 deg |
GrainAmount | 0 |
GrayMixerAqua | -17 |
GrayMixerBlue | +15 |
GrayMixerGreen | -28 |
GrayMixerMagenta | +6 |
GrayMixerOrange | -20 |
GrayMixerPurple | +20 |
GrayMixerRed | -10 |
GrayMixerYellow | -25 |
GreenHue | 0 |
GreenSaturation | 0 |
HasCrop | True |
HasSettings | True |
Highlights2012 | 0 |
HyperfocalDistance | 3.18 m |
ICCProfileName | ProPhoto RGB |
ImageHeight | 792 |
ImageNumber | 0 |
ImageSize | 1200x792 |
ImageWidth | 1200 |
ISO | 800 |
Keywords | bnarn, ivanson, skrot, vrak |
Lens | 24-70mm |
LensID (1) | 137 |
LensID | Sigma 24-70mm f/2.8 IF EX DG HSM or Tamron SP 24-70mm f/2.8 Di VC USD |
LensInfo | 24-70mm f/? |
LensManualDistortionAmount | 0 |
LensModel | 24-70mm |
LensProfileEnable | 0 |
LensProfileSetup | LensDefaults |
LightValue | 8.6 |
LuminanceNoiseReductionContrast | 0 |
LuminanceNoiseReductionDetail | 50 |
LuminanceSmoothing | 35 |
Make | Canon |
MaxApertureValue | 2.8 |
Megapixels | 0.950 |
MeteringMode | Partial |
Model | Canon EOS 5D Mark II |
ModifyDate (1) | 2018:06:02 12:12:18+02:00 |
ModifyDate | 2018:06:02 12:12:18 |
Orientation | Horizontal (normal) |
PaintCorrectionActive | true |
PaintCorrectionAmount | 1.000000 |
PaintCorrectionBrightness | 0.000000 |
PaintCorrectionClarity2012 | 0.000000 |
PaintCorrectionContrast2012 (5) | 0.155181 |
PaintCorrectionContrast2012 | 0.000000 |
PaintCorrectionCorrectionRangeMaskColorAmount | 0.500000 |
PaintCorrectionCorrectionRangeMaskLumFeather | 0.500000 |
PaintCorrectionCorrectionRangeMaskLumMax | 1.000000 |
PaintCorrectionCorrectionRangeMaskLumMin | 0.000000 |
PaintCorrectionCorrectionRangeMaskType | 0 |
PaintCorrectionDefringe | 0.374260 |
PaintCorrectionExposure2012 (1) | -0.983758 |
PaintCorrectionExposure2012 (2) | -0.347451 |
PaintCorrectionExposure2012 (3) | -0.146669 |
PaintCorrectionExposure2012 (4) | 0.602344 |
PaintCorrectionExposure2012 (5) | 0.579359 |
PaintCorrectionExposure2012 (6) | 1.000000 |
PaintCorrectionExposure2012 (7) | -0.239844 |
PaintCorrectionExposure2012 | 0.020600 |
PaintCorrectionHighlights2012 (1) | -0.983758 |
PaintCorrectionHighlights2012 (3) | -0.962706 |
PaintCorrectionHighlights2012 (4) | -0.011225 |
PaintCorrectionHighlights2012 (7) | -0.751398 |
PaintCorrectionHighlights2012 | -0.846505 |
PaintCorrectionHue | 245.164001 |
PaintCorrectionLocalBlacks2012 (5) | 0.015173 |
PaintCorrectionLocalBlacks2012 | -0.759128 |
PaintCorrectionLocalDehaze | 0.000000 |
PaintCorrectionLocalWhites2012 | 0.000000 |
PaintCorrectionLuminanceNoise | 0.000000 |
PaintCorrectionMaskCenterWeight | 0.183877 |
PaintCorrectionMaskFlow | 0.500000 |
PaintCorrectionMaskRadius (13) | 0.143385 |
PaintCorrectionMaskRadius (2) | 0.085625 |
PaintCorrectionMaskRadius (3) | 0.085210 |
PaintCorrectionMaskRadius (5) | 0.059136 |
PaintCorrectionMaskRadius | 0.076111 |
PaintCorrectionMaskValue | 0.513875 |
PaintCorrectionMaskWhat | Mask/Paint |
PaintCorrectionMoire | 0.000000 |
PaintCorrectionSaturation (11) | 0.022985 |
PaintCorrectionSaturation | 0.000000 |
PaintCorrectionShadows2012 (5) | 0.519326 |
PaintCorrectionShadows2012 (6) | 1.000000 |
PaintCorrectionShadows2012 (8) | 0.557895 |
PaintCorrectionShadows2012 | 0.000000 |
PaintCorrectionSharpness | 0.000000 |
PaintCorrectionTemperature | -0.020313 |
PaintCorrectionTint | 0.000000 |
PaintCorrectionWhat | Correction |
ParametricDarks | 0 |
ParametricHighlights | 0 |
ParametricHighlightSplit | 75 |
ParametricLights | 0 |
ParametricMidtoneSplit | 50 |
ParametricShadows | 0 |
ParametricShadowSplit | 25 |
PerspectiveAspect | 0 |
PerspectiveHorizontal | 0 |
PerspectiveRotate | 0.0 |
PerspectiveScale | 100 |
PerspectiveUpright | 0 |
PerspectiveVertical | 0 |
PerspectiveX | 0.00 |
PerspectiveY | 0.00 |
PhotometricInterpretation | RGB |
PlanarConfiguration | Chunky |
PostCropVignetteAmount | 0 |
ProcessVersion | 10.0 |
ProfileDescription | ProPhoto RGB |
RedHue | 0 |
RedSaturation | 0 |
RowsPerStrip | 792 |
SamplesPerPixel | 3 |
ScaleFactor35efl | 1.0 |
SceneCaptureType | Standard |
SerialNumber | 130101597 |
Shadows2012 | 0 |
ShadowTint | 0 |
SharpenDetail | 25 |
SharpenEdgeMasking | 0 |
SharpenRadius | +1.0 |
Sharpness | 25 |
ShutterSpeed | 1/50 |
ShutterSpeedValue | 1/50 |
Software | Adobe Photoshop CC (Macintosh) |
SplitToningBalance | 0 |
SplitToningHighlightHue | 0 |
SplitToningHighlightSaturation | 0 |
SplitToningShadowHue | 0 |
SplitToningShadowSaturation | 0 |
StripByteCounts | 5702400 |
StripOffsets | 169760 |
SubfileType | Full-resolution Image |
Subject | bnarn, ivanson, skrot, vrak |
Tint | +9 |
ToneCurve | 0, 0, 255, 255 |
ToneCurveBlue | 0, 0, 255, 255 |
ToneCurveGreen | 0, 0, 255, 255 |
ToneCurveName | Linear |
ToneCurveName2012 | Linear |
ToneCurvePV2012 | 0, 0, 255, 255 |
ToneCurvePV2012Blue | 0, 0, 255, 255 |
ToneCurvePV2012Green | 0, 0, 255, 255 |
ToneCurvePV2012Red | 0, 0, 255, 255 |
ToneCurveRed | 0, 0, 255, 255 |
URL_List | |
Version | 10.0 |
VignetteAmount | 0 |
WhiteBalance (1) | Auto |
WhiteBalance | As Shot |
Whites2012 | +56 |