Felt | Verdi |
AlreadyApplied | True |
Aperture | 1.0 |
ApertureValue | 1.0 |
Artist | AZIZNASUTI |
AutoLateralCA | 1 |
BitsPerSample | 8 |
Blacks2012 | +30 |
BlueHue | 0 |
BlueSaturation | 0 |
BrightnessValue | -11.64 |
By-line | AZIZNASUTI |
CameraProfile | Adobe Standard |
Caption-Abstract | Trondheim i januar netter!
CircleOfConfusion | 0.009 mm |
City | Trondheim |
Clarity2012 | +53 |
ColorComponents | 3 |
ColorNoiseReduction | 25 |
ColorNoiseReductionDetail | 50 |
ColorNoiseReductionSmoothness | 50 |
ColorSpace | sRGB |
ColorTemperature | 3207 |
ColorTransform | YCbCr |
Contrast2012 | +23 |
ConvertToGrayscale | False |
Copyright | AZIZNASUTIPHOTOGRAPHY.CQM |
CopyrightNotice | AZIZNASUTIPHOTOGRAPHY.CQM |
Country | Norway |
Country-PrimaryLocationCode | NO |
Country-PrimaryLocationName | Norway |
CountryCode | NO |
CreateDate | 2018:01:18 00:06:33 |
Creator | AZIZNASUTI |
CreatorTool | Adobe Photoshop Lightroom Classic 7.1 (Windows) |
CropAngle | 0 |
CropBottom | 0.996479 |
CropConstrainToWarp | 0 |
CropLeft | 0 |
CropRight | 1 |
CropTop | 0 |
CustomRendered | Normal |
DateCreated (1) | 2018:01:18 |
DateCreated | 2018:01:18 00:06:33 |
DateTimeOriginal | 2018:01:18 00:06:33 |
DefringeGreenAmount | 0 |
DefringeGreenHueHi | 60 |
DefringeGreenHueLo | 40 |
DefringePurpleAmount | 0 |
DefringePurpleHueHi | 70 |
DefringePurpleHueLo | 30 |
Dehaze | 0 |
Description | Trondheim i januar netter!
Exposure2012 | +2.24 |
ExposureCompensation | 0 |
ExposureMode | Manual |
ExposureProgram | Manual |
ExposureTime | 120 |
Flash | No Flash |
FNumber | 1.0 |
Format | image/jpeg |
GPSAltitude | 2.8498 m |
GPSLatitude (1) | 63 deg 25' 41.87" |
GPSLatitude | 63 deg 25' 41.87" N |
GPSLatitudeRef | North |
GPSLongitude (1) | 10 deg 24' 3.62" |
GPSLongitude | 10 deg 24' 3.62" E |
GPSLongitudeRef | East |
GPSPosition | 63 deg 25' 41.87" N, 10 deg 24' 3.62" E |
GPSVersionID | 2.2.0.0 |
GradientBasedCorrActive | true |
GradientBasedCorrAmount | 1.000000 |
GradientBasedCorrBrightness | 0.000000 |
GradientBasedCorrClarity2012 (1) | 0.200000 |
GradientBasedCorrClarity2012 | 0.350000 |
GradientBasedCorrContrast2012 (1) | 0.300000 |
GradientBasedCorrContrast2012 | 0.400000 |
GradientBasedCorrCorrectionRangeMaskColorAmount | 0.500000 |
GradientBasedCorrCorrectionRangeMaskLumFeather | 0.500000 |
GradientBasedCorrCorrectionRangeMaskLumMax | 1.000000 |
GradientBasedCorrCorrectionRangeMaskLumMin | 0.000000 |
GradientBasedCorrCorrectionRangeMaskType | 0 |
GradientBasedCorrCorrectionRangeMaskVersion | +2 |
GradientBasedCorrDefringe | 0.000000 |
GradientBasedCorrExposure2012 (1) | 0.000000 |
GradientBasedCorrExposure2012 | -0.050000 |
GradientBasedCorrHighlights2012 (1) | 0.000000 |
GradientBasedCorrHighlights2012 | 0.351375 |
GradientBasedCorrHue | 240.000000 |
GradientBasedCorrLocalBlacks2012 | 0.000000 |
GradientBasedCorrLocalDehaze | 0.000000 |
GradientBasedCorrLocalWhites2012 | 0.000000 |
GradientBasedCorrLuminanceNoise | 0.000000 |
GradientBasedCorrMaskFullX (1) | 0.525406 |
GradientBasedCorrMaskFullX | 0.560949 |
GradientBasedCorrMaskFullY (1) | 0.624228 |
GradientBasedCorrMaskFullY | 0.037371 |
GradientBasedCorrMaskValue | 1.000000 |
GradientBasedCorrMaskWhat | Mask/Gradient |
GradientBasedCorrMaskZeroX (1) | 0.526858 |
GradientBasedCorrMaskZeroX | 0.557059 |
GradientBasedCorrMaskZeroY (1) | 0.277042 |
GradientBasedCorrMaskZeroY | 0.350179 |
GradientBasedCorrMoire | 0.000000 |
GradientBasedCorrSaturation (1) | -0.065450 |
GradientBasedCorrSaturation (3) | 0.198558 |
GradientBasedCorrSaturation | 0.000000 |
GradientBasedCorrShadows2012 (1) | 0.000000 |
GradientBasedCorrShadows2012 | -0.104708 |
GradientBasedCorrSharpness | 0.000000 |
GradientBasedCorrTemperature | 0.000000 |
GradientBasedCorrTint | 0.000000 |
GradientBasedCorrWhat | Correction |
GrainAmount | 0 |
GreenHue | 0 |
GreenSaturation | 0 |
HasCrop | True |
HasExtendedXMP | ED04476BB3FD5433852E912D2B26E17B |
HasSettings | True |
HierarchicalSubject | #adressa, NRKtrøndelag, Nidelva, Norge, Norway, Reflection, Trondheim, adressa, bakklandet, beautiful, bydelsavisa, exploretrondelag, gamle bybro, gamlebybro, ilovenorway, ilovetrondheim, jule, nidarosdommen, norgefoto, ntnu, town., trdby, trønelag, visitmytrondheim, visitnorway, wooden#ilovetrondheim, yellow |
Highlights2012 | -90 |
HueAdjustmentAqua | +33 |
HueAdjustmentBlue | -2 |
HueAdjustmentGreen | 0 |
HueAdjustmentMagenta | 0 |
HueAdjustmentOrange | 0 |
HueAdjustmentPurple | 0 |
HueAdjustmentRed | 0 |
HueAdjustmentYellow | 0 |
ImageDescription | Trondheim i januar netter!
ImageHeight | 1531 |
ImageSize | 2048x1531 |
ImageWidth | 2048 |
ISO | 100 |
Keywords | #adressa, NRKtrøndelag, Nidelva, Norge, Norway, Reflection, Trondheim, adressa, bakklandet, beautiful, bydelsavisa, exploretrondelag, gamle bybro, gamlebybro, ilovenorway, ilovetrondheim, jule, nidarosdommen, norgefoto, ntnu, town., trdby, trønelag, visitmytrondheim, visitnorway, wooden#ilovetrondheim, yellow |
LateralChromaticAberrationCorrectionAlreadyApplied | True |
LensManualDistortionAmount | 0 |
LensProfileEnable | 0 |
LensProfileSetup | LensDefaults |
LightSource | Unknown |
LightValue | -6.9 |
LuminanceAdjustmentAqua | -15 |
LuminanceAdjustmentBlue | -20 |
LuminanceAdjustmentGreen | -30 |
LuminanceAdjustmentMagenta | -10 |
LuminanceAdjustmentOrange | 0 |
LuminanceAdjustmentPurple | -15 |
LuminanceAdjustmentRed | 0 |
LuminanceAdjustmentYellow | -15 |
LuminanceSmoothing | 0 |
Make | FUJIFILM |
Megapixels | 3.1 |
MeteringMode | Multi-segment |
Model | GFX 50S |
ModifyDate (1) | 2018:01:18 22:19:10+01:00 |
ModifyDate | 2018:01:18 22:19:10 |
ObjectName | Nidelva and an ocean of colors! |
PaintCorrectionActive | true |
PaintCorrectionAmount | 1.000000 |
PaintCorrectionBrightness | 0.000000 |
PaintCorrectionClarity2012 (1) | 0.000000 |
PaintCorrectionClarity2012 | 0.200000 |
PaintCorrectionContrast2012 (1) | 0.000000 |
PaintCorrectionContrast2012 | 0.250000 |
PaintCorrectionCorrectionRangeMaskColorAmount | 0.500000 |
PaintCorrectionCorrectionRangeMaskLumFeather | 0.500000 |
PaintCorrectionCorrectionRangeMaskLumMax | 1.000000 |
PaintCorrectionCorrectionRangeMaskLumMin | 0.000000 |
PaintCorrectionCorrectionRangeMaskType | 0 |
PaintCorrectionCorrectionRangeMaskVersion | +2 |
PaintCorrectionDefringe | 0.000000 |
PaintCorrectionExposure2012 (1) | -0.022750 |
PaintCorrectionExposure2012 | 0.000000 |
PaintCorrectionHighlights2012 (1) | -0.670450 |
PaintCorrectionHighlights2012 | -0.193180 |
PaintCorrectionHue | 240.000000 |
PaintCorrectionLocalBlacks2012 | 0.000000 |
PaintCorrectionLocalDehaze | 0.000000 |
PaintCorrectionLocalWhites2012 | 0.000000 |
PaintCorrectionLuminanceNoise (1) | 0.000000 |
PaintCorrectionLuminanceNoise | 0.100000 |
PaintCorrectionMaskCenterWeight | 0.000000 |
PaintCorrectionMaskFlow | 1.000000 |
PaintCorrectionMaskRadius (1) | 0.045799 |
PaintCorrectionMaskRadius (2) | 0.042659 |
PaintCorrectionMaskRadius | 0.107692 |
PaintCorrectionMaskValue | 1.000000 |
PaintCorrectionMaskWhat | Mask/Paint |
PaintCorrectionMoire (1) | 0.000000 |
PaintCorrectionMoire | -0.200000 |
PaintCorrectionSaturation (3) | 0.200000 |
PaintCorrectionSaturation | 0.000000 |
PaintCorrectionShadows2012 (1) | 0.000000 |
PaintCorrectionShadows2012 | 0.261360 |
PaintCorrectionSharpness (1) | 0.000000 |
PaintCorrectionSharpness | 0.100000 |
PaintCorrectionTemperature | 0.000000 |
PaintCorrectionTint | 0.000000 |
PaintCorrectionWhat | Correction |
ParametricDarks | -2 |
ParametricHighlights | -14 |
ParametricHighlightSplit | 75 |
ParametricLights | -31 |
ParametricMidtoneSplit | 50 |
ParametricShadows | -6 |
ParametricShadowSplit | 25 |
PerspectiveAspect | 0 |
PerspectiveHorizontal | 0 |
PerspectiveRotate | 0.0 |
PerspectiveScale | 100 |
PerspectiveUpright | 1 |
PerspectiveVertical | 0 |
PerspectiveX | 0.00 |
PerspectiveY | 0.00 |
PostCropVignetteAmount | 0 |
ProcessVersion | 10.0 |
ProfileDescription | sRGB IEC61966-2.1 |
Province-State | Sør-Trøndelag |
Rating | 3 |
RedHue | 0 |
RedSaturation | 0 |
Rights | AZIZNASUTIPHOTOGRAPHY.CQM |
Saturation | +21 |
SaturationAdjustmentAqua | +10 |
SaturationAdjustmentBlue | +10 |
SaturationAdjustmentGreen | +20 |
SaturationAdjustmentMagenta | 0 |
SaturationAdjustmentOrange | 0 |
SaturationAdjustmentPurple | +5 |
SaturationAdjustmentRed | 0 |
SaturationAdjustmentYellow | +10 |
ScaleFactor35efl | 3.2 |
SceneCaptureType | Standard |
SceneType | Directly photographed |
SensingMethod | One-chip color area |
SensitivityType | Standard Output Sensitivity |
SerialNumber | 71010859 |
Shadows2012 | -10 |
ShadowTint | 0 |
SharpenDetail | 59 |
SharpenEdgeMasking | 82 |
SharpenRadius | +1.9 |
Sharpness (1) | 72 |
Sharpness | Normal |
ShutterSpeed | 120 |
ShutterSpeedValue | 120 |
Software | Adobe Photoshop Lightroom Classic 7.1 (Windows) |
SplitToningBalance | 0 |
SplitToningHighlightHue | 0 |
SplitToningHighlightSaturation | 0 |
SplitToningShadowHue | 0 |
SplitToningShadowSaturation | 0 |
StandardOutputSensitivity | 100 |
State | Sør-Trøndelag |
Subject | #adressa, NRKtrøndelag, Nidelva, Norge, Norway, Reflection, Trondheim, adressa, bakklandet, beautiful, bydelsavisa, exploretrondelag, gamle bybro, gamlebybro, ilovenorway, ilovetrondheim, jule, nidarosdommen, norgefoto, ntnu, town., trdby, trønelag, visitmytrondheim, visitnorway, wooden#ilovetrondheim, yellow |
SubjectDistanceRange | Unknown |
Tint | +43 |
Title | Nidelva and an ocean of colors! |
ToneCurve | 0, 0, 255, 255 |
ToneCurveBlue | 0, 0, 255, 255 |
ToneCurveGreen | 0, 0, 255, 255 |
ToneCurveName | Linear |
ToneCurveName2012 | Linear |
ToneCurvePV2012 | 0, 0, 255, 255 |
ToneCurvePV2012Blue | 0, 0, 255, 255 |
ToneCurvePV2012Green | 0, 0, 255, 255 |
ToneCurvePV2012Red | 0, 0, 255, 255 |
ToneCurveRed | 0, 0, 255, 255 |
Version | 10.1 |
Vibrance | +28 |
VignetteAmount | 0 |
WhiteBalance (1) | Custom |
WhiteBalance | Auto |
Whites2012 | -100 |
www.aziznasutiphotography.com Please feel free to enjoy and share (del gjerne) <3 |