Felt | Verdi |
AlreadyApplied | True |
Aperture | 1.4 |
ApertureValue | 1.4 |
ApproximateFocusDistance | 0.56 |
Artist | Morten Fredriksen |
AutoLateralCA | 0 |
BitsPerSample | 8 |
Blacks2012 | -18 |
BlueHue | 0 |
BlueSaturation | 0 |
By-line | Morten Fredriksen |
CameraProfile | Adobe Standard |
CircleOfConfusion | 0.030 mm |
Clarity2012 | 0 |
ColorComponents | 3 |
ColorNoiseReduction | 25 |
ColorNoiseReductionDetail | 50 |
ColorTemperature | 3200 |
ColorTransform | YCbCr |
Contrast2012 | +9 |
ConvertToGrayscale | True |
Copyright | Morten Fredriksen |
CopyrightFlag | False |
CopyrightNotice | Morten Fredriksen |
CreateDate (1) | 2015:08:07 21:56:28.38 |
CreateDate | 2015:08:07 21:56:28 |
Creator | Morten Fredriksen |
CreatorCity | Oslo |
CreatorCountry | Norway |
CreatorTool | Adobe Photoshop Lightroom 5.0 (Windows) |
CreatorWorkEmail | mortenfredriksen@hotmail.com |
CreatorWorkURL | https://www.flickr.com/photos/glimt1916 |
CustomRendered | Normal |
DateCreated (1) | 2015:08:07 |
DateCreated | 2015:08:07 21:56:28.38 |
DateTimeOriginal | 2015:08:07 21:56:28 |
DOF | 0.02 m (0.55 - 0.57 m) |
Exposure2012 | +3.57 |
ExposureCompensation | 0 |
ExposureMode | Auto |
ExposureProgram | Aperture-priority AE |
ExposureTime | 1/50 |
Firmware | 1.1.3 |
Flash | Off, Did not fire |
FlashCompensation | 0 |
FNumber | 1.4 |
FocalLength | 35.0 mm |
FocalLength35efl | 35.0 mm (35 mm equivalent: 35.0 mm) |
Format | image/jpeg |
FOV | 54.4 deg |
GrainAmount | 0 |
GrayMixerAqua | -34 |
GrayMixerBlue | -8 |
GrayMixerGreen | -21 |
GrayMixerMagenta | +38 |
GrayMixerOrange | +17 |
GrayMixerPurple | +26 |
GrayMixerRed | +37 |
GrayMixerYellow | +1 |
GreenHue | 0 |
GreenSaturation | 0 |
HasCrop | False |
HasSettings | True |
Highlights2012 | -100 |
HyperfocalDistance | 29.12 m |
ImageHeight | 3648 |
ImageNumber | 0 |
ImageSize | 5472x3648 |
ImageWidth | 5472 |
ISO | 100 |
Lens | 35mm |
LensID (1) | 169 |
LensID | Sigma 35mm f/1.4 DG HSM or Sigma 35mm f/1.5 FF High-Speed Prime | 017 |
LensInfo | 35mm f/? |
LensManualDistortionAmount | 0 |
LensModel | 35mm |
LensProfileEnable | 0 |
LensProfileSetup | LensDefaults |
LensSerialNumber | 0000000000 |
LightValue | 6.6 |
LuminanceSmoothing | 0 |
Make | Canon |
Marked | False |
MaxApertureValue | 1.4 |
Megapixels | 20.0 |
MeteringMode | Spot |
Model | Canon EOS 6D |
ModifyDate (1) | 2015:08:08 09:44:08+02:00 |
ModifyDate | 2015:08:08 09:44:08 |
ParametricDarks | 0 |
ParametricHighlights | 0 |
ParametricHighlightSplit | 75 |
ParametricLights | 0 |
ParametricMidtoneSplit | 50 |
ParametricShadows | 0 |
ParametricShadowSplit | 25 |
PerspectiveAspect | 0 |
PerspectiveHorizontal | 0 |
PerspectiveRotate | 0.0 |
PerspectiveScale | 100 |
PerspectiveUpright | 0 |
PerspectiveVertical | 0 |
PostCropVignetteAmount | 0 |
ProcessVersion | 6.7 |
ProfileDescription | sRGB IEC61966-2.1 |
RecommendedExposureIndex | 100 |
RedHue | 0 |
RedSaturation | 0 |
Rights | Morten Fredriksen |
ScaleFactor35efl | 1.0 |
SceneCaptureType | Standard |
SensitivityType | Recommended Exposure Index |
SerialNumber | 063025000803 |
Shadows2012 | +44 |
ShadowTint | 0 |
SharpenDetail | 25 |
SharpenEdgeMasking | 0 |
SharpenRadius | +1.0 |
Sharpness | 25 |
ShutterSpeed | 1/50 |
ShutterSpeedValue | 1/50 |
Software | Adobe Photoshop Lightroom 5.0 (Windows) |
SplitToningBalance | 0 |
SplitToningHighlightHue | 0 |
SplitToningHighlightSaturation | 0 |
SplitToningShadowHue | 0 |
SplitToningShadowSaturation | 0 |
Tint | +4 |
ToneCurveName2012 | Linear |
ToneCurvePV2012 | 0, 0, 255, 255 |
ToneCurvePV2012Blue | 0, 0, 255, 255 |
ToneCurvePV2012Green | 0, 0, 255, 255 |
ToneCurvePV2012Red | 0, 0, 255, 255 |
URL | https://www.flickr.com/photos/glimt1916 |
UsageTerms | attribution noncommercial share alike |
Version | 8.1 |
VignetteAmount | 0 |
WebStatement | https://www.flickr.com/photos/glimt1916 |
WhiteBalance (1) | As Shot |
WhiteBalance | Auto |
Whites2012 | 0 |