Felt | Verdi |
AlreadyApplied | True |
Aperture | 7.1 |
ApertureValue | 7.1 |
ApproximateFocusDistance | 18.8 |
Artist | Eva Frisnes |
AutoLateralCA | 1 |
AutoWhiteVersion | 134348800 |
BitsPerSample | 8 |
Blacks2012 | 0 |
BlueHue | 0 |
BlueSaturation | 0 |
By-line | Eva Frisnes |
CameraProfile | Adobe Standard |
CFAPattern | [Red,Green][Green,Blue] |
CircleOfConfusion | 0.030 mm |
Clarity2012 | +13 |
ColorComponents | 3 |
ColorNoiseReduction | 44 |
ColorNoiseReductionDetail | 66 |
ColorNoiseReductionSmoothness | 68 |
ColorSpace | Uncalibrated |
ColorTemperature | 5300 |
Contrast | Normal |
Contrast2012 | +48 |
ConvertToGrayscale | False |
Copyright | Eva Frisnes |
CopyrightNotice | Eva Frisnes |
CreateDate (1) | 2016:10:02 17:29:27.41 |
CreateDate | 2016:10:02 17:29:27 |
Creator | Eva Frisnes |
CreatorTool | Adobe Photoshop Lightroom 6.6.1 (Windows) |
CropAngle | 1.33012 |
CropBottom | 1 |
CropConstrainToWarp | 0 |
CropLeft | 0.161901 |
CropRight | 0.88571 |
CropTop | 0.11202 |
CustomRendered | Normal |
DateCreated (1) | 2016:10:02 17:29:27.41 |
DateCreated | 2016:10:02 |
DateTimeOriginal | 2016:10:02 17:29:27 |
DefringeGreenAmount | 0 |
DefringeGreenHueHi | 60 |
DefringeGreenHueLo | 40 |
DefringePurpleAmount | 0 |
DefringePurpleHueHi | 70 |
DefringePurpleHueLo | 30 |
Dehaze | 0 |
DigitalZoomRatio | 1 |
DOF | 7.38 m (15.81 - 23.19 m) |
ExifImageHeight | 2874 |
ExifImageWidth | 3936 |
Exposure2012 | -0.15 |
ExposureCompensation | 0 |
ExposureMode | Manual |
ExposureProgram | Manual |
ExposureTime | 1/3200 |
Flash | Off, Did not fire |
FNumber | 7.1 |
FocalLength | 145.0 mm |
FocalLength35efl | 145.0 mm (35 mm equivalent: 145.0 mm) |
FocalLengthIn35mmFormat | 145 mm |
Format | image/jpeg |
FOV | 14.2 deg |
GainControl | None |
GrainAmount | 0 |
GreenHue | 0 |
GreenSaturation | 0 |
HasCrop | True |
HasSettings | True |
Highlights2012 | -44 |
HueAdjustmentAqua | 0 |
HueAdjustmentBlue | 0 |
HueAdjustmentGreen | 0 |
HueAdjustmentMagenta | 0 |
HueAdjustmentOrange | 0 |
HueAdjustmentPurple | 0 |
HueAdjustmentRed | 0 |
HueAdjustmentYellow | 0 |
HyperfocalDistance | 98.56 m |
ImageHeight | 2874 |
ImageNumber | 21618 |
ImageSize | 3936x2874 |
ImageWidth | 3936 |
ISO | 100 |
Lens | TAMRON 28-300mm F3.5-6.3 Di VC PZD A010N |
LensID (1) | 236 |
LensID | TAMRON 28-300mm F3.5-6.3 Di VC PZD A010N |
LensInfo | 28-300mm f/3.5-6.3 |
LensManualDistortionAmount | 0 |
LensModel | TAMRON 28-300mm F3.5-6.3 Di VC PZD A010N |
LensProfileChromaticAberrationScale | 100 |
LensProfileDistortionScale | 100 |
LensProfileEnable | 1 |
LensProfileFilename | NIKON CORPORATION (TAMRON 28-300mm F3.5-6.3 Di VC PZD A010N) - RAW.lcp |
LensProfileName | Adobe (TAMRON 28-300mm F3.5-6.3 Di VC PZD A010N) |
LensProfileSetup | LensDefaults |
LensProfileVignettingScale | 100 |
LightSource | Fine Weather |
LightValue | 17.3 |
LuminanceAdjustmentAqua | 0 |
LuminanceAdjustmentBlue | 0 |
LuminanceAdjustmentGreen | 0 |
LuminanceAdjustmentMagenta | 0 |
LuminanceAdjustmentOrange | 0 |
LuminanceAdjustmentPurple | 0 |
LuminanceAdjustmentRed | 0 |
LuminanceAdjustmentYellow | 0 |
LuminanceNoiseReductionContrast | 19 |
LuminanceNoiseReductionDetail | 67 |
LuminanceSmoothing | 19 |
Make | NIKON CORPORATION |
MaxApertureValue | 5.9 |
Megapixels | 11.3 |
MeteringMode | Multi-segment |
Model | NIKON D750 |
ModifyDate (1) | 2016:10:04 09:27:43+02:00 |
ModifyDate | 2016:10:04 09:27:43 |
ParametricDarks | 0 |
ParametricHighlights | 0 |
ParametricHighlightSplit | 75 |
ParametricLights | 0 |
ParametricMidtoneSplit | 50 |
ParametricShadows | 0 |
ParametricShadowSplit | 25 |
PerspectiveAspect | 0 |
PerspectiveHorizontal | 0 |
PerspectiveRotate | 0.0 |
PerspectiveScale | 100 |
PerspectiveUpright | 0 |
PerspectiveVertical | 0 |
PerspectiveX | 0.00 |
PerspectiveY | 0.00 |
PostCropVignetteAmount | 0 |
ProcessVersion | 6.7 |
RedHue | 0 |
RedSaturation | 0 |
RelatedImageHeight | 3464 |
RelatedImageWidth | 4436 |
Rights | Eva Frisnes |
Saturation (1) | 0 |
Saturation | Normal |
SaturationAdjustmentAqua | 0 |
SaturationAdjustmentBlue | 0 |
SaturationAdjustmentGreen | 0 |
SaturationAdjustmentMagenta | 0 |
SaturationAdjustmentOrange | 0 |
SaturationAdjustmentPurple | 0 |
SaturationAdjustmentRed | 0 |
SaturationAdjustmentYellow | 0 |
ScaleFactor35efl | 1.0 |
SceneCaptureType | Standard |
SceneType | Directly photographed |
SensingMethod | One-chip color area |
SensitivityType | Recommended Exposure Index |
SerialNumber | 6094784 |
Shadows2012 | +61 |
ShadowTint | 0 |
SharpenDetail | 40 |
SharpenEdgeMasking | 24 |
SharpenRadius | +1.4 |
Sharpness (1) | 44 |
Sharpness | Normal |
ShutterSpeed | 1/3200 |
ShutterSpeedValue | 1/3200 |
Software | Adobe Photoshop Lightroom 6.6.1 (Windows) |
SplitToningBalance | 0 |
SplitToningHighlightHue | 0 |
SplitToningHighlightSaturation | 0 |
SplitToningShadowHue | 0 |
SplitToningShadowSaturation | 0 |
SubjectDistanceRange | Unknown |
Tint | +7 |
ToneCurve | 0, 0, 255, 255 |
ToneCurveBlue | 0, 0, 255, 255 |
ToneCurveGreen | 0, 0, 255, 255 |
ToneCurveName | Linear |
ToneCurveName2012 | Linear |
ToneCurvePV2012 | 0, 0, 255, 255 |
ToneCurvePV2012Blue | 0, 0, 255, 255 |
ToneCurvePV2012Green | 0, 0, 255, 255 |
ToneCurvePV2012Red | 0, 0, 255, 255 |
ToneCurveRed | 0, 0, 255, 255 |
ToneMapStrength | 0 |
Version | 9.6 |
Vibrance | +24 |
VignetteAmount | 0 |
WhiteBalance (1) | As Shot |
WhiteBalance | Manual |
Whites2012 | -36 |