Felt | Verdi |
AlreadyApplied | True |
Aperture | 8.0 |
ApertureValue | 8.0 |
ApproximateFocusDistance | 4294967295 |
Artist | Håvard Jangaard Strand |
AuthorsPosition | Daydreamer |
AutoLateralCA | 1 |
AutoWhiteVersion | 134348800 |
BitsPerSample | 8 |
Blacks2012 | -15 |
BlueHue | 0 |
BlueSaturation | 0 |
By-line | Håvard Jangaard Strand |
By-lineTitle | Daydreamer |
CameraProfile | Adobe Standard |
CaptionWriter | Håvard Jangaard Strand |
CircleOfConfusion | 0.019 mm |
Clarity2012 | +57 |
ColorComponents | 3 |
ColorNoiseReduction | 42 |
ColorNoiseReductionDetail | 50 |
ColorNoiseReductionSmoothness | 50 |
ColorSpace | sRGB |
ColorTemperature | 7350 |
ColorTransform | YCbCr |
Contrast2012 | +24 |
ConvertToGrayscale | True |
Copyright | Håvard Jangaard Strand |
CopyrightFlag | True |
CopyrightNotice | Håvard Jangaard Strand |
CreateDate (1) | 2015:11:18 08:59:22.00 |
CreateDate | 2015:11:18 08:59:22 |
Creator | Håvard Jangaard Strand |
CreatorAddress | Jangardsøyra 5 |
CreatorCity | Ålesund |
CreatorCountry | Norway |
CreatorPostalCode | 6050 |
CreatorRegion | Møre og Romsdal |
CreatorTool | Adobe Photoshop Lightroom 6.5 (Windows) |
CreatorWorkEmail | haavardjstrand@gmail.com |
CreatorWorkTelephone | +47 93696734 |
Credit | Håvard Jangaard Strand |
CustomRendered | Normal |
DateCreated (1) | 2015:11:18 |
DateCreated | 2015:11:18 08:59:22.00 |
DateTimeOriginal | 2015:11:18 08:59:22 |
Dehaze | 0 |
DOF | inf (267.08 m - inf) |
Exposure2012 | -0.39 |
ExposureCompensation | 0 |
ExposureMode | Auto |
ExposureProgram | Aperture-priority AE |
ExposureTime | 6 |
Firmware | 1.0.5 |
Flash | Off, Did not fire |
FlashCompensation | 0 |
FNumber | 8.0 |
FocalLength | 200.0 mm |
FocalLength35efl | 200.0 mm (35 mm equivalent: 321.0 mm) |
Format | image/jpeg |
FOV | 6.4 deg |
GrainAmount | 0 |
GrayMixerAqua | -16 |
GrayMixerBlue | +14 |
GrayMixerGreen | -28 |
GrayMixerMagenta | +4 |
GrayMixerOrange | -20 |
GrayMixerPurple | +18 |
GrayMixerRed | -11 |
GrayMixerYellow | -24 |
GreenHue | 0 |
GreenSaturation | 0 |
HasCrop | False |
HasSettings | True |
Highlights2012 | +4 |
HyperfocalDistance | 267.08 m |
ImageHeight | 3648 |
ImageNumber | 0 |
ImageSize | 5472x3648 |
ImageWidth | 5472 |
ISO | 100 |
Keywords | fjell, høsttur, råna, skyer |
Label | Blue |
Lens | EF70-200mm f/4L USM |
LensID (1) | 186 |
LensID | Canon EF 70-200mm f/4L USM |
LensInfo | 70-200mm f/? |
LensManualDistortionAmount | 0 |
LensModel | EF70-200mm f/4L USM |
LensProfileChromaticAberrationScale | 100 |
LensProfileDistortionScale | 100 |
LensProfileEnable | 1 |
LensProfileFilename | Canon EOS 5D Mark II (Canon EF 70-200mm f4L USM) - RAW.lcp |
LensProfileName | Adobe (Canon EF 70-200mm f/4 L USM) |
LensProfileSetup | LensDefaults |
LensProfileVignettingScale | 100 |
LensSerialNumber | 0000000000 |
LightValue | 3.4 |
LuminanceNoiseReductionContrast | 0 |
LuminanceNoiseReductionDetail | 50 |
LuminanceSmoothing | 11 |
Make | Canon |
Marked | True |
MaxApertureValue | 4.0 |
Megapixels | 20.0 |
MeteringMode | Center-weighted average |
Model | Canon EOS 7D Mark II |
ModifyDate (1) | 2016:04:05 12:47:13+02:00 |
ModifyDate | 2016:04:05 12:47:13 |
ParametricDarks | 0 |
ParametricHighlights | 0 |
ParametricHighlightSplit | 75 |
ParametricLights | 0 |
ParametricMidtoneSplit | 50 |
ParametricShadows | 0 |
ParametricShadowSplit | 25 |
PerspectiveAspect | 0 |
PerspectiveHorizontal | 0 |
PerspectiveRotate | 0.0 |
PerspectiveScale | 100 |
PerspectiveUpright | 0 |
PerspectiveVertical | 0 |
PostCropVignetteAmount | -5 |
PostCropVignetteFeather | 60 |
PostCropVignetteHighlightContrast | 0 |
PostCropVignetteMidpoint | 50 |
PostCropVignetteRoundness | 0 |
PostCropVignetteStyle | 1 |
ProcessVersion | 6.7 |
ProfileDescription | sRGB IEC61966-2.1 |
RecommendedExposureIndex | 100 |
RedHue | 0 |
RedSaturation | 0 |
Rights | Håvard Jangaard Strand |
ScaleFactor35efl | 1.6 |
SceneCaptureType | Standard |
SensitivityType | Recommended Exposure Index |
SerialNumber | 063021007049 |
Shadows2012 | -50 |
ShadowTint | 0 |
SharpenDetail | 25 |
SharpenEdgeMasking | 0 |
SharpenRadius | +1.0 |
Sharpness | 25 |
ShutterSpeed | 6 |
ShutterSpeedValue | 6 |
Software | Adobe Photoshop Lightroom 6.5 (Windows) |
SplitToningBalance | 0 |
SplitToningHighlightHue | 0 |
SplitToningHighlightSaturation | 0 |
SplitToningShadowHue | 0 |
SplitToningShadowSaturation | 0 |
Subject | fjell, høsttur, råna, skyer |
Tint | +22 |
ToneCurve | 0, 0, 255, 255 |
ToneCurveBlue | 0, 0, 255, 255 |
ToneCurveGreen | 0, 0, 255, 255 |
ToneCurveName | Linear |
ToneCurveName2012 | Custom |
ToneCurvePV2012 | 0, 0, 54, 45, 70, 56, 193, 200, 255, 255 |
ToneCurvePV2012Blue | 0, 0, 255, 255 |
ToneCurvePV2012Green | 0, 0, 255, 255 |
ToneCurvePV2012Red | 0, 0, 255, 255 |
ToneCurveRed | 0, 0, 255, 255 |
ToneMapStrength | 0 |
UsageTerms | All rights reserved |
Version | 9.5 |
VignetteAmount | 0 |
WhiteBalance (1) | As Shot |
WhiteBalance | Auto |
Whites2012 | -12 |
Writer-Editor | Håvard Jangaard Strand |