Felt | Verdi |
AlreadyApplied | True |
Aperture | 11.0 |
ApertureValue | 11.0 |
ApproximateFocusDistance | 2.03 |
Artist | Odd Høydalsvik |
AutoLateralCA | 0 |
AutoWhiteVersion | 134348800 |
BitsPerSample | 8 |
Blacks2012 | +4 |
BlueHue | 0 |
BlueSaturation | 0 |
By-line | Odd Høydalsvik |
CameraProfile | Adobe Standard |
CircleOfConfusion | 0.019 mm |
Clarity2012 | 0 |
ColorComponents | 3 |
ColorNoiseReduction | 26 |
ColorNoiseReductionDetail | 50 |
ColorNoiseReductionSmoothness | 50 |
ColorTemperature | 4950 |
ColorTransform | YCbCr |
Contrast2012 | +60 |
ConvertToGrayscale | True |
Copyright | Copyright © 2013 Odd Høydalsvik |
CopyrightFlag | True |
CopyrightNotice | Copyright © 2013 Odd Høydalsvik |
CreateDate (1) | 2013:02:10 10:34:29.03 |
CreateDate | 2013:02:10 10:34:29 |
Creator | Odd Høydalsvik |
CreatorAddress | Vestre Sandslimarka 31 |
CreatorCity | Sandsli |
CreatorCountry | Norway |
CreatorPostalCode | 5254 |
CreatorTool | Adobe Photoshop Lightroom 6.3 (Windows) |
CreatorWorkEmail | okh@broadpark.no |
CreatorWorkTelephone | 004790610422 |
CreatorWorkURL | http://www.hoydalsvik.net |
CropAngle | -1.456 |
CropBottom | 0.9474 |
CropConstrainToWarp | 0 |
CropLeft | 0.006509 |
CropRight | 0.993343 |
CropTop | 0.041445 |
CustomRendered | Normal |
DateCreated (1) | 2013:02:10 |
DateCreated | 2013:02:10 10:34:29.03 |
DateTimeOriginal | 2013:02:10 10:34:29 |
Dehaze | 0 |
DOF | inf (0.72 m - inf) |
Exposure2012 | +0.67 |
ExposureCompensation | -1/3 |
ExposureMode | Auto |
ExposureProgram | Program AE |
ExposureTime | 1/400 |
Firmware | 1.0.4 |
Flash | Off, Did not fire |
FlashCompensation | 0 |
FNumber | 11.0 |
FocalLength | 15.0 mm |
FocalLength35efl | 15.0 mm (35 mm equivalent: 24.2 mm) |
Format | image/jpeg |
FOV | 73.2 deg |
GrainAmount | 0 |
GrayMixerAqua | -48 |
GrayMixerBlue | -46 |
GrayMixerGreen | 0 |
GrayMixerMagenta | +4 |
GrayMixerOrange | 0 |
GrayMixerPurple | -6 |
GrayMixerRed | +23 |
GrayMixerYellow | 0 |
GreenHue | 0 |
GreenSaturation | 0 |
HasCrop | True |
HasSettings | True |
Highlights2012 | 0 |
HyperfocalDistance | 1.10 m |
ImageHeight | 777 |
ImageNumber | 0 |
ImageSize | 1200x777 |
ImageWidth | 1200 |
ISO | 800 |
Lens | EF-S15-85mm f/3.5-5.6 IS USM |
LensID (1) | 488 |
LensID | Canon EF-S 15-85mm f/3.5-5.6 IS USM |
LensInfo | 15-85mm f/? |
LensManualDistortionAmount | +8 |
LensModel | EF-S15-85mm f/3.5-5.6 IS USM |
LensProfileEnable | 0 |
LensProfileSetup | LensDefaults |
LightValue | 12.6 |
LuminanceNoiseReductionContrast | 0 |
LuminanceNoiseReductionDetail | 50 |
LuminanceSmoothing | 41 |
Make | Canon |
Marked | True |
MaxApertureValue | 3.5 |
Megapixels | 0.932 |
MeteringMode | Multi-segment |
Model | Canon EOS 450D |
ModifyDate (1) | 2016:01:23 13:54:31+01:00 |
ModifyDate | 2016:01:23 13:54:31 |
ParametricDarks | 0 |
ParametricHighlights | 0 |
ParametricHighlightSplit | 75 |
ParametricLights | 0 |
ParametricMidtoneSplit | 50 |
ParametricShadows | 0 |
ParametricShadowSplit | 25 |
PerspectiveAspect | 0 |
PerspectiveHorizontal | 0 |
PerspectiveRotate | 0.0 |
PerspectiveScale | 100 |
PerspectiveUpright | 0 |
PerspectiveVertical | 0 |
PostCropVignetteAmount | -10 |
PostCropVignetteFeather | 50 |
PostCropVignetteHighlightContrast | 0 |
PostCropVignetteMidpoint | 50 |
PostCropVignetteRoundness | 0 |
PostCropVignetteStyle | 1 |
ProcessVersion | 6.7 |
ProfileDescription | sRGB IEC61966-2.1 |
Rating | 4 |
RedHue | 0 |
RedSaturation | 0 |
Rights | Copyright © 2013 Odd Høydalsvik |
ScaleFactor35efl | 1.6 |
SceneCaptureType | Standard |
SerialNumber | 530140656 |
Shadows2012 | 0 |
ShadowTint | 0 |
SharpenDetail | 25 |
SharpenEdgeMasking | 0 |
SharpenRadius | +1.0 |
Sharpness | 25 |
ShutterSpeed | 1/400 |
ShutterSpeedValue | 1/400 |
Software | Adobe Photoshop Lightroom 6.3 (Windows) |
SplitToningBalance | 0 |
SplitToningHighlightHue | 0 |
SplitToningHighlightSaturation | 0 |
SplitToningShadowHue | 0 |
SplitToningShadowSaturation | 0 |
Tint | +4 |
ToneCurve | 0, 0, 255, 255 |
ToneCurveBlue | 0, 0, 255, 255 |
ToneCurveGreen | 0, 0, 255, 255 |
ToneCurveName | Linear |
ToneCurveName2012 | Linear |
ToneCurvePV2012 | 0, 0, 255, 255 |
ToneCurvePV2012Blue | 0, 0, 255, 255 |
ToneCurvePV2012Green | 0, 0, 255, 255 |
ToneCurvePV2012Red | 0, 0, 255, 255 |
ToneCurveRed | 0, 0, 255, 255 |
ToneMapStrength | 0 |
URL | http://www.hoydalsvik.net |
UsageTerms | No reproduction of any kind without prior written permission |
Version | 9.3 |
VignetteAmount | 0 |
WebStatement | http://www.hoydalsvik.net |
WhiteBalance (1) | As Shot |
WhiteBalance | Manual |
Whites2012 | 0 |