Felt | Verdi |
AlreadyApplied | True |
Aperture | 10.0 |
ApertureValue | 10.0 |
ApproximateFocusDistance | 0.68 |
Artist | Svein Hansen |
AutoLateralCA | 1 |
AutoWhiteVersion | 134348800 |
BitsPerSample | 8 |
Blacks2012 | -9 |
BlueHue | 0 |
BlueSaturation | 0 |
By-line | Svein Hansen |
CameraProfile | Adobe Standard |
CircleOfConfusion | 0.019 mm |
Clarity2012 | 0 |
ColorComponents | 3 |
ColorNoiseReduction | 25 |
ColorNoiseReductionDetail | 50 |
ColorNoiseReductionSmoothness | 50 |
ColorSpace | sRGB |
ColorTemperature | 3600 |
ColorTransform | YCbCr |
Contrast2012 | 0 |
ConvertToGrayscale | False |
Copyright | Copyright.Svein Hansen - Svingen 5 - 1671 Fredrikstad. |
CopyrightNotice | Copyright.Svein Hansen - Svingen 5 - 1671 Fredrikstad. |
CreateDate (1) | 2015:02:25 20:08:55.09 |
CreateDate | 2015:02:25 20:08:55 |
Creator | Svein Hansen |
CreatorTool | Adobe Photoshop Lightroom 5.7 (Windows) |
CropAngle | 0 |
CropBottom | 1 |
CropConstrainToWarp | 0 |
CropLeft | 0.238727 |
CropRight | 0.734748 |
CropTop | 0.098143 |
CustomRendered | Normal |
DateCreated (1) | 2015:02:25 |
DateCreated | 2015:02:25 20:08:55.09 |
DateTimeOriginal | 2015:02:25 20:08:55 |
DefringeGreenAmount | 0 |
DefringeGreenHueHi | 60 |
DefringeGreenHueLo | 40 |
DefringePurpleAmount | 0 |
DefringePurpleHueHi | 70 |
DefringePurpleHueLo | 30 |
DOF | 0.23 m (0.59 - 0.81 m) |
Exposure2012 | 0.00 |
ExposureCompensation | 0 |
ExposureMode | Manual |
ExposureProgram | Manual |
ExposureTime | 1/160 |
Firmware | 1.3.3 |
Flash | Off, Did not fire |
FlashCompensation | 0 |
FNumber | 10.0 |
FocalLength | 28.0 mm |
FocalLength35efl | 28.0 mm (35 mm equivalent: 43.2 mm) |
Format | image/jpeg |
FOV | 45.3 deg |
GrainAmount | 0 |
GreenHue | 0 |
GreenSaturation | 0 |
HasCrop | True |
HasSettings | True |
HierarchicalSubject | Markus, Modell, Olsen |
Highlights2012 | +20 |
HueAdjustmentAqua | 0 |
HueAdjustmentBlue | 0 |
HueAdjustmentGreen | 0 |
HueAdjustmentMagenta | 0 |
HueAdjustmentOrange | 0 |
HueAdjustmentPurple | 0 |
HueAdjustmentRed | 0 |
HueAdjustmentYellow | 0 |
HyperfocalDistance | 4.02 m |
ImageHeight | 3463 |
ImageNumber | 0 |
ImageSize | 2857x3463 |
ImageWidth | 2857 |
ISO | 100 |
Keywords | Markus, Modell, Olsen |
Lens | EF28-300mm f/3.5-5.6L IS USM |
LensID (1) | 233 |
LensID | Canon EF 28-300mm f/3.5-5.6L IS USM |
LensInfo | 28-300mm f/? |
LensManualDistortionAmount | 0 |
LensModel | EF28-300mm f/3.5-5.6L IS USM |
LensProfileChromaticAberrationScale | 100 |
LensProfileDistortionScale | 100 |
LensProfileEnable | 1 |
LensProfileFilename | Canon EOS 5D Mark II (Canon EF 28-300mm f3.5-5.6 L IS USM) - RAW.lcp |
LensProfileName | Adobe (Canon EF 28-300mm f/3.5-5.6 L IS USM) |
LensProfileSetup | LensDefaults |
LensProfileVignettingScale | 100 |
LensSerialNumber | 000020dc79 |
LightValue | 14.0 |
LuminanceAdjustmentAqua | 0 |
LuminanceAdjustmentBlue | 0 |
LuminanceAdjustmentGreen | 0 |
LuminanceAdjustmentMagenta | 0 |
LuminanceAdjustmentOrange | 0 |
LuminanceAdjustmentPurple | 0 |
LuminanceAdjustmentRed | 0 |
LuminanceAdjustmentYellow | 0 |
LuminanceSmoothing | 0 |
Make | Canon |
MaxApertureValue | 3.7 |
Megapixels | 9.9 |
MeteringMode | Multi-segment |
Model | Canon EOS 5D Mark III |
ModifyDate (1) | 2015:02:26 15:44:15+01:00 |
ModifyDate | 2015:02:26 15:44:15 |
PaintCorrectionActive | true |
PaintCorrectionAmount | 1.000000 |
PaintCorrectionBrightness | 0.000000 |
PaintCorrectionClarity2012 | 1.000000 |
PaintCorrectionContrast2012 | 0.000000 |
PaintCorrectionDefringe | 0.000000 |
PaintCorrectionExposure2012 | 0.000000 |
PaintCorrectionHighlights2012 | 0.000000 |
PaintCorrectionHue | 0.000000 |
PaintCorrectionLuminanceNoise | 0.000000 |
PaintCorrectionMaskCenterWeight | 0.031557 |
PaintCorrectionMaskFlow | 0.235000 |
PaintCorrectionMaskRadius | 0.237529 |
PaintCorrectionMaskValue | 0.391000 |
PaintCorrectionMaskWhat | Mask/Paint |
PaintCorrectionMoire | 0.000000 |
PaintCorrectionSaturation | 0.000000 |
PaintCorrectionShadows2012 | 0.000000 |
PaintCorrectionSharpness | 0.000000 |
PaintCorrectionTemperature | 0.277780 |
PaintCorrectionTint | 0.000000 |
PaintCorrectionWhat | Correction |
ParametricDarks | -1 |
ParametricHighlights | -64 |
ParametricHighlightSplit | 75 |
ParametricLights | +3 |
ParametricMidtoneSplit | 50 |
ParametricShadows | -41 |
ParametricShadowSplit | 25 |
PerspectiveAspect | 0 |
PerspectiveHorizontal | 0 |
PerspectiveRotate | 0.0 |
PerspectiveScale | 100 |
PerspectiveUpright | 0 |
PerspectiveVertical | 0 |
PostCropVignetteAmount | 0 |
ProcessVersion | 6.7 |
ProfileDescription | sRGB IEC61966-2.1 |
RecommendedExposureIndex | 100 |
RedHue | 0 |
RedSaturation | 0 |
Rights | Copyright.Svein Hansen - Svingen 5 - 1671 Fredrikstad. |
Saturation | 0 |
SaturationAdjustmentAqua | 0 |
SaturationAdjustmentBlue | 0 |
SaturationAdjustmentGreen | 0 |
SaturationAdjustmentMagenta | 0 |
SaturationAdjustmentOrange | 0 |
SaturationAdjustmentPurple | 0 |
SaturationAdjustmentRed | 0 |
SaturationAdjustmentYellow | 0 |
ScaleFactor35efl | 1.5 |
SceneCaptureType | Standard |
SensitivityType | Recommended Exposure Index |
SerialNumber | 093024002999 |
Shadows2012 | +100 |
ShadowTint | 0 |
SharpenDetail | 25 |
SharpenEdgeMasking | 0 |
SharpenRadius | +1.0 |
Sharpness | 25 |
ShutterSpeed | 1/160 |
ShutterSpeedValue | 1/160 |
Software | Adobe Photoshop Lightroom 5.7 (Windows) |
SplitToningBalance | 0 |
SplitToningHighlightHue | 0 |
SplitToningHighlightSaturation | 0 |
SplitToningShadowHue | 0 |
SplitToningShadowSaturation | 0 |
Subject | Markus, Modell, Olsen |
Tint | +54 |
ToneCurve | 0, 0, 255, 255 |
ToneCurveBlue | 0, 0, 255, 255 |
ToneCurveGreen | 0, 0, 255, 255 |
ToneCurveName | Linear |
ToneCurveName2012 | Linear |
ToneCurvePV2012 | 0, 0, 255, 255 |
ToneCurvePV2012Blue | 0, 0, 255, 255 |
ToneCurvePV2012Green | 0, 0, 255, 255 |
ToneCurvePV2012Red | 0, 0, 255, 255 |
ToneCurveRed | 0, 0, 255, 255 |
Version | 8.7 |
Vibrance | +5 |
VignetteAmount | 0 |
WhiteBalance (1) | As Shot |
WhiteBalance | Auto |
Whites2012 | -53 |