Felt | Verdi |
AlreadyApplied | True |
Aperture | 2.2 |
ApertureValue | 2.2 |
Artist | Finn Eriksen |
AutoLateralCA | 0 |
AutoWhiteVersion | 134348800 |
BitsPerSample | 8 |
Blacks2012 | 0 |
BlueHue | 0 |
BlueSaturation | 0 |
By-line | Finn Eriksen |
CameraProfile | Embedded |
CircleOfConfusion | 0.019 mm |
Clarity2012 | +60 |
ColorComponents | 3 |
ColorNoiseReduction | 0 |
ColorTemperature | 5001 |
ColorTransform | YCbCr |
Contrast2012 | +48 |
ConvertToGrayscale | True |
Copyright | Finn Eriksen finnerik@online.no |
CopyrightNotice | Finn Eriksen finnerik@online.no |
CreateDate (1) | 2014:08:02 17:35:56.26 |
CreateDate | 2014:08:02 17:35:56 |
Creator | Finn Eriksen |
CreatorTool | Adobe Photoshop Lightroom 5.6 (Macintosh) |
CustomRendered | Normal |
DateCreated (1) | 2014:08:02 |
DateCreated | 2014:08:02 17:35:56.26 |
DateTimeOriginal | 2014:08:02 17:35:56 |
Exposure2012 | 0.00 |
ExposureCompensation | +1 |
ExposureMode | Auto |
ExposureProgram | Aperture-priority AE |
ExposureTime | 1/320 |
Firmware | 2.0.3 |
Flash | Off, Did not fire |
FlashCompensation | 0 |
FNumber | 2.2 |
FocalLength | 50.0 mm |
FocalLength35efl | 50.0 mm (35 mm equivalent: 78.5 mm) |
Format | image/jpeg |
FOV | 25.8 deg |
GradientBasedCorrActive | true |
GradientBasedCorrAmount | 1.000000 |
GradientBasedCorrBrightness | 0.000000 |
GradientBasedCorrClarity2012 | 0.000000 |
GradientBasedCorrContrast2012 | 0.795997 |
GradientBasedCorrDefringe | 0.000000 |
GradientBasedCorrExposure2012 | -0.083216 |
GradientBasedCorrHighlights2012 | 0.000000 |
GradientBasedCorrHue | 0.000000 |
GradientBasedCorrLuminanceNoise | 0.000000 |
GradientBasedCorrMaskFullX | 0.488585 |
GradientBasedCorrMaskFullY | -0.016244 |
GradientBasedCorrMaskValue | 1.000000 |
GradientBasedCorrMaskWhat | Mask/Gradient |
GradientBasedCorrMaskZeroX | 0.137328 |
GradientBasedCorrMaskZeroY | 0.631379 |
GradientBasedCorrMoire | 0.000000 |
GradientBasedCorrSaturation | 0.000000 |
GradientBasedCorrShadows2012 | 0.000000 |
GradientBasedCorrSharpness | 0.000000 |
GradientBasedCorrTemperature | 0.000000 |
GradientBasedCorrTint | 0.000000 |
GradientBasedCorrWhat | Correction |
GrainAmount | 0 |
GrayMixerAqua | -18 |
GrayMixerBlue | +9 |
GrayMixerGreen | -27 |
GrayMixerMagenta | +4 |
GrayMixerOrange | -19 |
GrayMixerPurple | +15 |
GrayMixerRed | -10 |
GrayMixerYellow | -23 |
GreenHue | 0 |
GreenSaturation | 0 |
HasCrop | False |
HasExtendedXMP | 0D39E3EAFFFD833DDB9713769E4C4A9D |
HasSettings | True |
Highlights2012 | -15 |
HyperfocalDistance | 59.39 m |
ImageHeight | 853 |
ImageNumber | 0 |
ImageSize | 1280x853 |
ImageWidth | 1280 |
ISO | 100 |
Lens | EF50mm f/1.4 USM |
LensID (1) | 198 |
LensID | Canon EF 50mm f/1.4 USM |
LensInfo | 50mm f/? |
LensManualDistortionAmount | 0 |
LensModel | EF50mm f/1.4 USM |
LensProfileEnable | 0 |
LensProfileSetup | LensDefaults |
LightValue | 10.6 |
LuminanceNoiseReductionContrast | 0 |
LuminanceNoiseReductionDetail | 50 |
LuminanceSmoothing | 40 |
Make | Canon |
MaxApertureValue | 1.4 |
Megapixels | 1.1 |
MeteringMode | Multi-segment |
Model | Canon EOS 7D |
ModifyDate (1) | 2014:08:03 21:07:54+02:00 |
ModifyDate | 2014:08:03 21:07:54 |
PaintCorrectionActive | true |
PaintCorrectionAmount | 1.000000 |
PaintCorrectionBrightness | 0.000000 |
PaintCorrectionClarity2012 | 0.000000 |
PaintCorrectionContrast2012 | 0.000000 |
PaintCorrectionDefringe | 0.000000 |
PaintCorrectionExposure2012 (1) | -0.108497 |
PaintCorrectionExposure2012 (2) | 0.050355 |
PaintCorrectionExposure2012 | 0.030811 |
PaintCorrectionHighlights2012 | 0.000000 |
PaintCorrectionHue | 0.000000 |
PaintCorrectionLuminanceNoise | 0.000000 |
PaintCorrectionMaskCenterWeight | 0.000000 |
PaintCorrectionMaskFlow | 1.000000 |
PaintCorrectionMaskRadius (39) | 0.145237 |
PaintCorrectionMaskRadius (5) | 0.070123 |
PaintCorrectionMaskRadius | 0.107583 |
PaintCorrectionMaskValue | 1.000000 |
PaintCorrectionMaskWhat | Mask/Paint |
PaintCorrectionMoire | 0.000000 |
PaintCorrectionSaturation | 0.000000 |
PaintCorrectionShadows2012 | 0.000000 |
PaintCorrectionSharpness (2) | 0.044617 |
PaintCorrectionSharpness | 0.027300 |
PaintCorrectionTemperature | 0.000000 |
PaintCorrectionTint | 0.000000 |
PaintCorrectionWhat | Correction |
ParametricDarks | 0 |
ParametricHighlights | -53 |
ParametricHighlightSplit | 75 |
ParametricLights | +9 |
ParametricMidtoneSplit | 50 |
ParametricShadows | +77 |
ParametricShadowSplit | 25 |
PerspectiveAspect | 0 |
PerspectiveHorizontal | 0 |
PerspectiveRotate | 0.0 |
PerspectiveScale | 100 |
PerspectiveUpright | 0 |
PerspectiveVertical | 0 |
PostCropVignetteAmount | 0 |
ProcessVersion | 6.7 |
ProfileDescription | sRGB IEC61966-2.1 |
RecommendedExposureIndex | 100 |
RedHue | 0 |
RedSaturation | 0 |
Rights | Finn Eriksen finnerik@online.no |
ScaleFactor35efl | 1.6 |
SceneCaptureType | Standard |
SensitivityType | Recommended Exposure Index |
SerialNumber | 1580813289 |
Shadows2012 | +31 |
ShadowTint | 0 |
SharpenDetail | 35 |
SharpenEdgeMasking | 16 |
SharpenRadius | +1.3 |
Sharpness | 71 |
ShutterSpeed | 1/320 |
ShutterSpeedValue | 1/320 |
Software | Adobe Photoshop Lightroom 5.6 (Macintosh) |
SplitToningBalance | 0 |
SplitToningHighlightHue | 0 |
SplitToningHighlightSaturation | 0 |
SplitToningShadowHue | 0 |
SplitToningShadowSaturation | 0 |
Tint | +10 |
ToneCurve | 0, 0, 255, 255 |
ToneCurveBlue | 0, 0, 255, 255 |
ToneCurveGreen | 0, 0, 255, 255 |
ToneCurveName | Linear |
ToneCurveName2012 | Medium Contrast |
ToneCurvePV2012 | 0, 0, 32, 22, 64, 56, 128, 128, 192, 196, 255, 255 |
ToneCurvePV2012Blue | 0, 0, 255, 255 |
ToneCurvePV2012Green | 0, 0, 255, 255 |
ToneCurvePV2012Red | 0, 0, 255, 255 |
ToneCurveRed | 0, 0, 255, 255 |
Version | 8.6 |
VignetteAmount | 0 |
WhiteBalance (1) | Custom |
WhiteBalance | Auto |
Whites2012 | 0 |