Felt | Verdi |
AlreadyApplied | True |
Aperture | 6.3 |
ApertureValue | 6.3 |
AutoLateralCA | 0 |
AutoWhiteVersion | 134348800 |
BitsPerSample | 8 |
Blacks2012 | +15 |
BlueHue | 0 |
BlueSaturation | 0 |
CameraProfile | // Fuji Pro 160S (Frontier) |
CircleOfConfusion | 0.015 mm |
Clarity2012 | +10 |
ColorComponents | 1 |
ColorNoiseReduction | 25 |
ColorNoiseReductionDetail | 50 |
ColorNoiseReductionSmoothness | 50 |
ColorTemperature | 5100 |
Contrast | High |
Contrast2012 | 0 |
ConvertToGrayscale | True |
CreateDate | 2014:05:03 17:04:08 |
CreatorTool | Adobe Photoshop Lightroom 5.4 (Windows) |
CropAngle | 0 |
CropBottom | 0.993943 |
CropConstrainToWarp | 0 |
CropLeft | 0 |
CropRight | 0.987887 |
CropTop | 0.006057 |
CustomRendered | Custom |
DateCreated (1) | 2014:05:03 |
DateCreated | 2014:05:03 17:04:08 |
DateTimeOriginal | 2014:05:03 17:04:08 |
DigitalZoomRatio | 0 |
Exposure2012 | +0.65 |
ExposureCompensation | 0 |
ExposureMode | Auto |
ExposureProgram | Aperture-priority AE |
ExposureTime | 1/400 |
Flash | Off, Did not fire |
FNumber | 6.3 |
FocalLength | 175.0 mm |
FocalLength35efl | 175.0 mm (35 mm equivalent: 350.0 mm) |
FocalLengthIn35mmFormat | 350 mm |
Format | image/jpeg |
FOV | 5.9 deg |
GainControl | Low gain up |
GrainAmount | 30 |
GrainFrequency | 50 |
GrainSize | 30 |
GrayMixerAqua | -10 |
GrayMixerBlue | +15 |
GrayMixerGreen | -22 |
GrayMixerMagenta | +8 |
GrayMixerOrange | -10 |
GrayMixerPurple | +20 |
GrayMixerRed | -8 |
GrayMixerYellow | -15 |
GreenHue | 0 |
GreenSaturation | 0 |
HasCrop | True |
HasSettings | True |
Highlights2012 | -15 |
HyperfocalDistance | 323.58 m |
ImageHeight | 3406 |
ImageSize | 4536x3406 |
ImageWidth | 4536 |
ISO | 200 |
Lens | LUMIX G VARIO PZ 45-175/F4.0-5.6 |
LensManualDistortionAmount | 0 |
LensModel | LUMIX G VARIO PZ 45-175/F4.0-5.6 |
LensProfileEnable | 0 |
LensProfileSetup | LensDefaults |
LensSerialNumber | 02JI8011534N |
LightSource | Unknown |
LightValue | 13.0 |
LuminanceSmoothing | 0 |
Make | Panasonic |
MaxApertureValue | 5.6 |
Megapixels | 15.4 |
MeteringMode | Center-weighted average |
Model | DMC-GM1 |
ModifyDate (1) | 2014:05:03 20:45:36+02:00 |
ModifyDate | 2014:05:03 20:45:36 |
ParametricDarks | 0 |
ParametricHighlights | 0 |
ParametricHighlightSplit | 75 |
ParametricLights | 0 |
ParametricMidtoneSplit | 50 |
ParametricShadows | 0 |
ParametricShadowSplit | 25 |
PerspectiveAspect | 0 |
PerspectiveHorizontal | 0 |
PerspectiveRotate | 0.0 |
PerspectiveScale | 100 |
PerspectiveUpright | 0 |
PerspectiveVertical | 0 |
PostCropVignetteAmount | 0 |
ProcessVersion | 6.7 |
ProfileDescription | Adobe RGB (1998) |
Rating | 4 |
RedHue | 0 |
RedSaturation | 0 |
Saturation | Low |
ScaleFactor35efl | 2.0 |
SceneCaptureType | Standard |
SceneType | Directly photographed |
SensingMethod | One-chip color area |
Shadows2012 | +25 |
ShadowTint | 0 |
SharpenDetail | 25 |
SharpenEdgeMasking | 0 |
SharpenRadius | +1.2 |
Sharpness (1) | 60 |
Sharpness | Hard |
ShutterSpeed | 1/400 |
ShutterSpeedValue | 1/400 |
Software | Adobe Photoshop Lightroom 5.4 (Windows) |
SplitToningBalance | 0 |
SplitToningHighlightHue | 80 |
SplitToningHighlightSaturation | 0 |
SplitToningShadowHue | 200 |
SplitToningShadowSaturation | 0 |
Tint | -15 |
ToneCurve | 0, 0, 255, 255 |
ToneCurveBlue | 0, 0, 255, 255 |
ToneCurveGreen | 0, 0, 255, 255 |
ToneCurveName | Linear |
ToneCurveName2012 | Agfa Scala ++ |
ToneCurvePV2012 | 0, 21, 37, 33, 99, 99, 226, 238, 255, 251 |
ToneCurvePV2012Blue | 0, 0, 255, 255 |
ToneCurvePV2012Green | 0, 0, 255, 255 |
ToneCurvePV2012Red | 0, 0, 255, 255 |
ToneCurveRed | 0, 0, 255, 255 |
Version | 8.4 |
VignetteAmount | 0 |
WhiteBalance (1) | Custom |
WhiteBalance | Manual |
Whites2012 | 0 |